Back to Multiple platform build/check report for BioC 3.13
A[B]CDEFGHIJKLMNOPQRSTUVWXYZ

BUILD BIN results for bnem on machv2

This page was generated on 2021-06-11 14:06:27 -0400 (Fri, 11 Jun 2021).

Package 204/2041HostnameOS / ArchINSTALLBUILDCHECKBUILD BIN
bnem 1.0.0  (landing page)
Martin Pirkl
Snapshot Date: 2021-06-10 06:50:12 -0400 (Thu, 10 Jun 2021)
URL: https://git.bioconductor.org/packages/bnem
Branch: RELEASE_3_13
Last Commit: 3109efd
Last Changed Date: 2021-05-19 12:58:21 -0400 (Wed, 19 May 2021)
nebbiolo1Linux (Ubuntu 20.04.2 LTS) / x86_64  OK    OK    OK  UNNEEDED, same version is already published
tokay2Windows Server 2012 R2 Standard / x64  OK    OK    OK    OK  UNNEEDED, same version is already published
machv2macOS 10.14.6 Mojave / x86_64  OK    OK    OK    OK  UNNEEDED, same version is already published
To the developers/maintainers of the bnem package:
- Please allow up to 24 hours (and sometimes 48 hours) for your latest push to git@git.bioconductor.org:packages/bnem.git to
reflect on this report. See How and When does the builder pull? When will my changes propagate? here for more information.
- Make sure to use the following settings in order to reproduce any error or warning you see on this page.

Summary

Package: bnem
Version: 1.0.0
Command: rm -rf bnem.buildbin-libdir && mkdir bnem.buildbin-libdir && /Users/biocbuild/BBS/utils/build-universal.sh bnem_1.0.0.tar.gz /Library/Frameworks/R.framework/Versions/Current/Resources/bin/R bnem.buildbin-libdir
StartedAt: 2021-06-11 01:32:37 -0400 (Fri, 11 Jun 2021)
EndedAt: 2021-06-11 01:33:22 -0400 (Fri, 11 Jun 2021)
EllapsedTime: 45.8 seconds
RetCode: 0
Status:   OK  
PackageFile: bnem_1.0.0.tgz
PackageFileSize: 1.832 MiB

Command output

##############################################################################
##############################################################################
###
### Running command:
###
###   rm -rf bnem.buildbin-libdir && mkdir bnem.buildbin-libdir && /Users/biocbuild/BBS/utils/build-universal.sh bnem_1.0.0.tar.gz /Library/Frameworks/R.framework/Versions/Current/Resources/bin/R bnem.buildbin-libdir
###
##############################################################################
##############################################################################


>>>>>>> 
>>>>>>> INSTALLATION WITH 'R CMD INSTALL --preclean --no-multiarch --library=bnem.buildbin-libdir bnem_1.0.0.tar.gz'
>>>>>>> 

* installing *source* package ‘bnem’ ...
** using staged installation
** R
** data
** inst
** byte-compile and prepare package for lazy loading
** help
*** installing help indices
** building package indices
** installing vignettes
** testing if installed package can be loaded from temporary location
** testing if installed package can be loaded from final location
** testing if installed package keeps a record of temporary installation path
* DONE (bnem)