Back to Multiple platform build/check report for BioC 3.13
A[B]CDEFGHIJKLMNOPQRSTUVWXYZ

This page was generated on 2021-07-30 15:05:47 -0400 (Fri, 30 Jul 2021).

BUILD results for biscuiteer on tokay2

To the developers/maintainers of the biscuiteer package:
- Please allow up to 24 hours (and sometimes 48 hours) for your latest push to git@git.bioconductor.org:packages/biscuiteer.git to
reflect on this report. See How and When does the builder pull? When will my changes propagate? here for more information.
- Make sure to use the following settings in order to reproduce any error or warning you see on this page.

raw results

Package 195/2041HostnameOS / ArchINSTALLBUILDCHECKBUILD BIN
biscuiteer 1.6.0  (landing page)
"Jacob Morrison"
Snapshot Date: 2021-07-29 04:50:02 -0400 (Thu, 29 Jul 2021)
URL: https://git.bioconductor.org/packages/biscuiteer
Branch: RELEASE_3_13
Last Commit: 6d86b7b
Last Changed Date: 2021-05-19 12:47:26 -0400 (Wed, 19 May 2021)
nebbiolo1Linux (Ubuntu 20.04.2 LTS) / x86_64  OK    OK    WARNINGS  UNNEEDED, same version is already published
tokay2Windows Server 2012 R2 Standard / x64  OK    OK    WARNINGS    OK  UNNEEDED, same version is already published
machv2macOS 10.14.6 Mojave / x86_64  OK    OK    WARNINGS    OK  UNNEEDED, same version is already published

Summary

Package: biscuiteer
Version: 1.6.0
Command: chmod a+r biscuiteer -R && C:\Users\biocbuild\bbs-3.13-bioc\R\bin\R.exe CMD build --keep-empty-dirs --no-resave-data biscuiteer
StartedAt: 2021-07-29 12:42:46 -0400 (Thu, 29 Jul 2021)
EndedAt: 2021-07-29 12:46:37 -0400 (Thu, 29 Jul 2021)
EllapsedTime: 231.3 seconds
RetCode: 0
Status:   OK  
PackageFile: biscuiteer_1.6.0.tar.gz
PackageFileSize: 4.747 MiB

Command output

##############################################################################
##############################################################################
###
### Running command:
###
###   chmod a+r biscuiteer -R && C:\Users\biocbuild\bbs-3.13-bioc\R\bin\R.exe CMD build --keep-empty-dirs --no-resave-data biscuiteer
###
##############################################################################
##############################################################################


* checking for file 'biscuiteer/DESCRIPTION' ... OK
* preparing 'biscuiteer':
* checking DESCRIPTION meta-information ... OK
* installing the package to build vignettes
* creating vignettes ... OK
* checking for LF line-endings in source and make files and shell scripts
* checking for empty or unneeded directories
* looking to see if a 'data/datalist' file should be added
* building 'biscuiteer_1.6.0.tar.gz'