Back to Multiple platform build/check report for BioC 3.13
A[B]CDEFGHIJKLMNOPQRSTUVWXYZ

Multiple platform build/check report for BioC 3.13

All results for package biscuiteer

This page was generated on 2021-05-11 12:13:59 -0400 (Tue, 11 May 2021).

Package 194/2016HostnameOS / ArchINSTALLBUILDCHECKBUILD BIN
biscuiteer 1.5.1  (landing page)
"Jacob Morrison"
Snapshot Date: 2021-05-10 14:50:13 -0400 (Mon, 10 May 2021)
URL: https://git.bioconductor.org/packages/biscuiteer
Branch: master
Last Commit: d6fa967
Last Changed Date: 2021-02-18 10:38:16 -0400 (Thu, 18 Feb 2021)
nebbiolo1Linux (Ubuntu 20.04.2 LTS) / x86_64  OK    OK    WARNINGS  UNNEEDED, same version exists in internal repository
riesling1Windows Server 2019 Standard / x64  OK    OK    WARNINGS    OK  UNNEEDED, same version exists in internal repository
machv2macOS 10.14.6 Mojave / x86_64  OK    OK    WARNINGS    OK  UNNEEDED, same version exists in internal repository