Back to Multiple platform build/check report for BioC 3.13
A[B]CDEFGHIJKLMNOPQRSTUVWXYZ

BUILD results for biocGraph on machv2

This page was generated on 2021-06-11 14:06:27 -0400 (Fri, 11 Jun 2021).

Package 163/2041HostnameOS / ArchINSTALLBUILDCHECKBUILD BIN
biocGraph 1.54.0  (landing page)
Florian Hahne
Snapshot Date: 2021-06-10 06:50:12 -0400 (Thu, 10 Jun 2021)
URL: https://git.bioconductor.org/packages/biocGraph
Branch: RELEASE_3_13
Last Commit: f0f25d4
Last Changed Date: 2021-05-19 11:39:20 -0400 (Wed, 19 May 2021)
nebbiolo1Linux (Ubuntu 20.04.2 LTS) / x86_64  OK    OK    OK  UNNEEDED, same version is already published
tokay2Windows Server 2012 R2 Standard / x64  OK    OK    OK    OK  UNNEEDED, same version is already published
machv2macOS 10.14.6 Mojave / x86_64  OK    OK    OK    OK  UNNEEDED, same version is already published
To the developers/maintainers of the biocGraph package:
- Please allow up to 24 hours (and sometimes 48 hours) for your latest push to git@git.bioconductor.org:packages/biocGraph.git to
reflect on this report. See How and When does the builder pull? When will my changes propagate? here for more information.
- Make sure to use the following settings in order to reproduce any error or warning you see on this page.

Summary

Package: biocGraph
Version: 1.54.0
Command: /Library/Frameworks/R.framework/Versions/Current/Resources/bin/R CMD build --keep-empty-dirs --no-resave-data biocGraph
StartedAt: 2021-06-10 10:34:53 -0400 (Thu, 10 Jun 2021)
EndedAt: 2021-06-10 10:35:43 -0400 (Thu, 10 Jun 2021)
EllapsedTime: 49.8 seconds
RetCode: 0
Status:   OK  
PackageFile: biocGraph_1.54.0.tar.gz
PackageFileSize: 541.8 KiB

Command output

##############################################################################
##############################################################################
###
### Running command:
###
###   /Library/Frameworks/R.framework/Versions/Current/Resources/bin/R CMD build --keep-empty-dirs --no-resave-data biocGraph
###
##############################################################################
##############################################################################


* checking for file ‘biocGraph/DESCRIPTION’ ... OK
* preparing ‘biocGraph’:
* checking DESCRIPTION meta-information ... OK
* installing the package to build vignettes
* creating vignettes ... OK
* checking for LF line-endings in source and make files and shell scripts
* checking for empty or unneeded directories
* building ‘biocGraph_1.54.0.tar.gz’