Back to Multiple platform build/check report for BioC 3.13
[A]BCDEFGHIJKLMNOPQRSTUVWXYZ

This page was generated on 2021-07-23 15:06:26 -0400 (Fri, 23 Jul 2021).

BUILD BIN results for a4 on machv2

To the developers/maintainers of the a4 package:
- Please allow up to 24 hours (and sometimes 48 hours) for your latest push to git@git.bioconductor.org:packages/a4.git to
reflect on this report. See How and When does the builder pull? When will my changes propagate? here for more information.
- Make sure to use the following settings in order to reproduce any error or warning you see on this page.

raw results

Package 1/2041HostnameOS / ArchINSTALLBUILDCHECKBUILD BIN
a4 1.40.0  (landing page)
Laure Cougnaud
Snapshot Date: 2021-07-22 04:50:13 -0400 (Thu, 22 Jul 2021)
URL: https://git.bioconductor.org/packages/a4
Branch: RELEASE_3_13
Last Commit: f5e7837
Last Changed Date: 2021-05-19 11:48:29 -0400 (Wed, 19 May 2021)
nebbiolo1Linux (Ubuntu 20.04.2 LTS) / x86_64  OK    OK    OK  UNNEEDED, same version is already published
tokay2Windows Server 2012 R2 Standard / x64  OK    OK    OK    OK  UNNEEDED, same version is already published
machv2macOS 10.14.6 Mojave / x86_64  OK    OK    OK    OK  UNNEEDED, same version is already published

Summary

Package: a4
Version: 1.40.0
Command: rm -rf a4.buildbin-libdir && mkdir a4.buildbin-libdir && /Users/biocbuild/BBS/utils/build-universal.sh a4_1.40.0.tar.gz /Library/Frameworks/R.framework/Versions/Current/Resources/bin/R a4.buildbin-libdir
StartedAt: 2021-07-23 01:12:04 -0400 (Fri, 23 Jul 2021)
EndedAt: 2021-07-23 01:12:36 -0400 (Fri, 23 Jul 2021)
EllapsedTime: 31.6 seconds
RetCode: 0
Status:   OK  
PackageFile: a4_1.40.0.tgz
PackageFileSize: 1.117 MiB

Command output

##############################################################################
##############################################################################
###
### Running command:
###
###   rm -rf a4.buildbin-libdir && mkdir a4.buildbin-libdir && /Users/biocbuild/BBS/utils/build-universal.sh a4_1.40.0.tar.gz /Library/Frameworks/R.framework/Versions/Current/Resources/bin/R a4.buildbin-libdir
###
##############################################################################
##############################################################################


>>>>>>> 
>>>>>>> INSTALLATION WITH 'R CMD INSTALL --preclean --no-multiarch --library=a4.buildbin-libdir a4_1.40.0.tar.gz'
>>>>>>> 

* installing *source* package ‘a4’ ...
** using staged installation
** R
** inst
** byte-compile and prepare package for lazy loading
** help
No man pages found in package  ‘a4’ 
*** installing help indices
** building package indices
** installing vignettes
** testing if installed package can be loaded from temporary location
** testing if installed package can be loaded from final location
** testing if installed package keeps a record of temporary installation path
* DONE (a4)