Back to Multiple platform build/check report for BioC 3.13
ABCDEFGHIJKLMNOPQRST[U]VWXYZ

This page was generated on 2021-09-24 15:06:31 -0400 (Fri, 24 Sep 2021).

INSTALL results for Ularcirc on tokay2

To the developers/maintainers of the Ularcirc package:
- Please allow up to 24 hours (and sometimes 48 hours) for your latest push to git@git.bioconductor.org:packages/Ularcirc.git to
reflect on this report. See How and When does the builder pull? When will my changes propagate? here for more information.
- Make sure to use the following settings in order to reproduce any error or warning you see on this page.

raw results

Package 1983/2041HostnameOS / ArchINSTALLBUILDCHECKBUILD BIN
Ularcirc 1.10.0  (landing page)
David Humphreys
Snapshot Date: 2021-09-23 04:50:12 -0400 (Thu, 23 Sep 2021)
git_url: https://git.bioconductor.org/packages/Ularcirc
git_branch: RELEASE_3_13
git_last_commit: 5661ddd
git_last_commit_date: 2021-05-19 12:36:10 -0400 (Wed, 19 May 2021)
nebbiolo1Linux (Ubuntu 20.04.2 LTS) / x86_64  OK    OK    OK  UNNEEDED, same version is already published
tokay2Windows Server 2012 R2 Standard / x64  OK    OK    OK    OK  UNNEEDED, same version is already published
machv2macOS 10.14.6 Mojave / x86_64  OK    OK    OK    OK  UNNEEDED, same version is already published

Summary

Package: Ularcirc
Version: 1.10.0
Command: C:\cygwin\bin\curl.exe -O http://155.52.207.165/BBS/3.13/bioc/src/contrib/Ularcirc_1.10.0.tar.gz && rm -rf Ularcirc.buildbin-libdir && mkdir Ularcirc.buildbin-libdir && C:\Users\biocbuild\bbs-3.13-bioc\R\bin\R.exe CMD INSTALL --merge-multiarch --build --library=Ularcirc.buildbin-libdir Ularcirc_1.10.0.tar.gz && C:\Users\biocbuild\bbs-3.13-bioc\R\bin\R.exe CMD INSTALL Ularcirc_1.10.0.zip && rm Ularcirc_1.10.0.tar.gz Ularcirc_1.10.0.zip
StartedAt: 2021-09-23 10:09:39 -0400 (Thu, 23 Sep 2021)
EndedAt: 2021-09-23 10:10:01 -0400 (Thu, 23 Sep 2021)
EllapsedTime: 22.0 seconds
RetCode: 0
Status:   OK  

Command output

##############################################################################
##############################################################################
###
### Running command:
###
###   C:\cygwin\bin\curl.exe -O http://155.52.207.165/BBS/3.13/bioc/src/contrib/Ularcirc_1.10.0.tar.gz && rm -rf Ularcirc.buildbin-libdir && mkdir Ularcirc.buildbin-libdir && C:\Users\biocbuild\bbs-3.13-bioc\R\bin\R.exe CMD INSTALL --merge-multiarch --build --library=Ularcirc.buildbin-libdir Ularcirc_1.10.0.tar.gz && C:\Users\biocbuild\bbs-3.13-bioc\R\bin\R.exe CMD INSTALL Ularcirc_1.10.0.zip && rm Ularcirc_1.10.0.tar.gz Ularcirc_1.10.0.zip
###
##############################################################################
##############################################################################


  % Total    % Received % Xferd  Average Speed   Time    Time     Time  Current
                                 Dload  Upload   Total   Spent    Left  Speed

  0     0    0     0    0     0      0      0 --:--:-- --:--:-- --:--:--     0
 10 4764k   10  504k    0     0  1091k      0  0:00:04 --:--:--  0:00:04 1090k
 64 4764k   64 3057k    0     0  2119k      0  0:00:02  0:00:01  0:00:01 2120k
100 4764k  100 4764k    0     0  2474k      0  0:00:01  0:00:01 --:--:-- 2473k

install for i386

* installing *source* package 'Ularcirc' ...
** using staged installation
** R
** inst
** byte-compile and prepare package for lazy loading
** help
*** installing help indices
  converting help for package 'Ularcirc'
    finding HTML links ... done
    Compatible_Annotation_DBs               html  
    Ularcirc                                html  
    bsj_fastq_generate                      html  
    bsj_to_circRNA_sequence                 html  
** building package indices
** installing vignettes
** testing if installed package can be loaded from temporary location
** testing if installed package can be loaded from final location
** testing if installed package keeps a record of temporary installation path

install for x64

* installing *source* package 'Ularcirc' ...
** testing if installed package can be loaded
* MD5 sums
packaged installation of 'Ularcirc' as Ularcirc_1.10.0.zip
* DONE (Ularcirc)
* installing to library 'C:/Users/biocbuild/bbs-3.13-bioc/R/library'
package 'Ularcirc' successfully unpacked and MD5 sums checked