Back to Multiple platform build/check report for BioC 3.13
ABCDEFGHIJKLMNOPQRST[U]VWXYZ

This page was generated on 2021-09-17 15:05:56 -0400 (Fri, 17 Sep 2021).

CHECK results for Ularcirc on nebbiolo1

To the developers/maintainers of the Ularcirc package:
- Please allow up to 24 hours (and sometimes 48 hours) for your latest push to git@git.bioconductor.org:packages/Ularcirc.git to
reflect on this report. See How and When does the builder pull? When will my changes propagate? here for more information.
- Make sure to use the following settings in order to reproduce any error or warning you see on this page.

raw results

Package 1983/2041HostnameOS / ArchINSTALLBUILDCHECKBUILD BIN
Ularcirc 1.10.0  (landing page)
David Humphreys
Snapshot Date: 2021-09-16 04:50:11 -0400 (Thu, 16 Sep 2021)
git_url: https://git.bioconductor.org/packages/Ularcirc
git_branch: RELEASE_3_13
git_last_commit: 5661ddd
git_last_commit_date: 2021-05-19 12:36:10 -0400 (Wed, 19 May 2021)
nebbiolo1Linux (Ubuntu 20.04.2 LTS) / x86_64  OK    OK    OK  UNNEEDED, same version is already published
tokay2Windows Server 2012 R2 Standard / x64  OK    OK    OK    OK  UNNEEDED, same version is already published
machv2macOS 10.14.6 Mojave / x86_64  OK    OK    OK    OK  UNNEEDED, same version is already published

Summary

Package: Ularcirc
Version: 1.10.0
Command: /home/biocbuild/bbs-3.13-bioc/R/bin/R CMD check --install=check:Ularcirc.install-out.txt --library=/home/biocbuild/bbs-3.13-bioc/R/library --no-vignettes --timings Ularcirc_1.10.0.tar.gz
StartedAt: 2021-09-16 11:57:53 -0400 (Thu, 16 Sep 2021)
EndedAt: 2021-09-16 11:59:21 -0400 (Thu, 16 Sep 2021)
EllapsedTime: 88.1 seconds
RetCode: 0
Status:   OK  
CheckDir: Ularcirc.Rcheck
Warnings: 0

Command output

##############################################################################
##############################################################################
###
### Running command:
###
###   /home/biocbuild/bbs-3.13-bioc/R/bin/R CMD check --install=check:Ularcirc.install-out.txt --library=/home/biocbuild/bbs-3.13-bioc/R/library --no-vignettes --timings Ularcirc_1.10.0.tar.gz
###
##############################################################################
##############################################################################


* using log directory ‘/home/biocbuild/bbs-3.13-bioc/meat/Ularcirc.Rcheck’
* using R version 4.1.1 (2021-08-10)
* using platform: x86_64-pc-linux-gnu (64-bit)
* using session charset: UTF-8
* using option ‘--no-vignettes’
* checking for file ‘Ularcirc/DESCRIPTION’ ... OK
* checking extension type ... Package
* this is package ‘Ularcirc’ version ‘1.10.0’
* package encoding: UTF-8
* checking package namespace information ... OK
* checking package dependencies ... OK
* checking if this is a source package ... OK
* checking if there is a namespace ... OK
* checking for hidden files and directories ... OK
* checking for portable file names ... OK
* checking for sufficient/correct file permissions ... OK
* checking whether package ‘Ularcirc’ can be installed ... OK
* checking installed package size ... OK
* checking package directory ... OK
* checking ‘build’ directory ... OK
* checking DESCRIPTION meta-information ... OK
* checking top-level files ... OK
* checking for left-over files ... OK
* checking index information ... OK
* checking package subdirectories ... OK
* checking R files for non-ASCII characters ... OK
* checking R files for syntax errors ... OK
* checking whether the package can be loaded ... OK
* checking whether the package can be loaded with stated dependencies ... OK
* checking whether the package can be unloaded cleanly ... OK
* checking whether the namespace can be loaded with stated dependencies ... OK
* checking whether the namespace can be unloaded cleanly ... OK
* checking dependencies in R code ... NOTE
Namespaces in Imports field not imported from:
  ‘DT’ ‘GenomeInfoDb’ ‘GenomeInfoDbData’ ‘Organism.dplyr’ ‘Sushi’
  ‘ggplot2’ ‘ggrepel’ ‘gsubfn’ ‘mirbase.db’ ‘moments’ ‘shinyFiles’
  ‘shinydashboard’ ‘shinyjs’ ‘yaml’
  All declared Imports should be used.
* checking S3 generic/method consistency ... OK
* checking replacement functions ... OK
* checking foreign function calls ... OK
* checking R code for possible problems ... OK
* checking Rd files ... OK
* checking Rd metadata ... OK
* checking Rd cross-references ... OK
* checking for missing documentation entries ... OK
* checking for code/documentation mismatches ... OK
* checking Rd \usage sections ... OK
* checking Rd contents ... OK
* checking for unstated dependencies in examples ... OK
* checking files in ‘vignettes’ ... OK
* checking examples ... OK
Examples with CPU (user + system) or elapsed time > 5s
                           user system elapsed
Compatible_Annotation_DBs 7.915  0.408   8.324
* checking for unstated dependencies in vignettes ... OK
* checking package vignettes in ‘inst/doc’ ... OK
* checking running R code from vignettes ... SKIPPED
* checking re-building of vignette outputs ... SKIPPED
* checking PDF version of manual ... OK
* DONE

Status: 1 NOTE
See
  ‘/home/biocbuild/bbs-3.13-bioc/meat/Ularcirc.Rcheck/00check.log’
for details.



Installation output

Ularcirc.Rcheck/00install.out

##############################################################################
##############################################################################
###
### Running command:
###
###   /home/biocbuild/bbs-3.13-bioc/R/bin/R CMD INSTALL Ularcirc
###
##############################################################################
##############################################################################


* installing to library ‘/home/biocbuild/bbs-3.13-bioc/R/library’
* installing *source* package ‘Ularcirc’ ...
** using staged installation
** R
** inst
** byte-compile and prepare package for lazy loading
** help
*** installing help indices
** building package indices
** installing vignettes
** testing if installed package can be loaded from temporary location
** testing if installed package can be loaded from final location
** testing if installed package keeps a record of temporary installation path
* DONE (Ularcirc)

Tests output


Example timings

Ularcirc.Rcheck/Ularcirc-Ex.timings

nameusersystemelapsed
Compatible_Annotation_DBs7.9150.4088.324
Ularcirc0.0000.0000.001
bsj_fastq_generate0.0550.0000.054
bsj_to_circRNA_sequence1.5070.0681.578