Back to Multiple platform build/check report for BioC 3.13
ABCDEFGHIJKLMNOPQRST[U]VWXYZ

This page was generated on 2021-09-17 15:05:56 -0400 (Fri, 17 Sep 2021).

BUILD results for Ularcirc on nebbiolo1

To the developers/maintainers of the Ularcirc package:
- Please allow up to 24 hours (and sometimes 48 hours) for your latest push to git@git.bioconductor.org:packages/Ularcirc.git to
reflect on this report. See How and When does the builder pull? When will my changes propagate? here for more information.
- Make sure to use the following settings in order to reproduce any error or warning you see on this page.

raw results

Package 1983/2041HostnameOS / ArchINSTALLBUILDCHECKBUILD BIN
Ularcirc 1.10.0  (landing page)
David Humphreys
Snapshot Date: 2021-09-16 04:50:11 -0400 (Thu, 16 Sep 2021)
git_url: https://git.bioconductor.org/packages/Ularcirc
git_branch: RELEASE_3_13
git_last_commit: 5661ddd
git_last_commit_date: 2021-05-19 12:36:10 -0400 (Wed, 19 May 2021)
nebbiolo1Linux (Ubuntu 20.04.2 LTS) / x86_64  OK    OK    OK  UNNEEDED, same version is already published
tokay2Windows Server 2012 R2 Standard / x64  OK    OK    OK    OK  UNNEEDED, same version is already published
machv2macOS 10.14.6 Mojave / x86_64  OK    OK    OK    OK  UNNEEDED, same version is already published

Summary

Package: Ularcirc
Version: 1.10.0
Command: /home/biocbuild/bbs-3.13-bioc/R/bin/R CMD build --keep-empty-dirs --no-resave-data Ularcirc
StartedAt: 2021-09-16 08:37:07 -0400 (Thu, 16 Sep 2021)
EndedAt: 2021-09-16 08:37:18 -0400 (Thu, 16 Sep 2021)
EllapsedTime: 11.7 seconds
RetCode: 0
Status:   OK  
PackageFile: Ularcirc_1.10.0.tar.gz
PackageFileSize: 5.178 MiB

Command output

##############################################################################
##############################################################################
###
### Running command:
###
###   /home/biocbuild/bbs-3.13-bioc/R/bin/R CMD build --keep-empty-dirs --no-resave-data Ularcirc
###
##############################################################################
##############################################################################


* checking for file ‘Ularcirc/DESCRIPTION’ ... OK
* preparing ‘Ularcirc’:
* checking DESCRIPTION meta-information ... OK
* installing the package to build vignettes
* creating vignettes ... OK
* checking for LF line-endings in source and make files and shell scripts
* checking for empty or unneeded directories
Omitted ‘LazyData’ from DESCRIPTION
* building ‘Ularcirc_1.10.0.tar.gz’