Back to Multiple platform build/check report for BioC 3.13
ABCDEFGHIJKLMNOPQRS[T]UVWXYZ

This page was generated on 2021-08-02 15:04:40 -0400 (Mon, 02 Aug 2021).

All results for package ToxicoGx

To the developers/maintainers of the ToxicoGx package:
- Please allow up to 24 hours (and sometimes 48 hours) for your latest push to git@git.bioconductor.org:packages/ToxicoGx.git to
reflect on this report. See How and When does the builder pull? When will my changes propagate? here for more information.
- Make sure to use the following settings in order to reproduce any error or warning you see on this page.

raw results

Package 1938/2041HostnameOS / ArchINSTALLBUILDCHECKBUILD BIN
ToxicoGx 1.2.1  (landing page)
Benjamin Haibe-Kains
Snapshot Date: 2021-08-01 04:50:10 -0400 (Sun, 01 Aug 2021)
URL: https://git.bioconductor.org/packages/ToxicoGx
Branch: RELEASE_3_13
Last Commit: 04482fe
Last Changed Date: 2021-06-17 13:42:00 -0400 (Thu, 17 Jun 2021)
nebbiolo1Linux (Ubuntu 20.04.2 LTS) / x86_64  OK    OK    OK  UNNEEDED, same version is already published
tokay2Windows Server 2012 R2 Standard / x64  OK    OK    OK    OK  UNNEEDED, same version is already published
machv2macOS 10.14.6 Mojave / x86_64  OK    OK    OK    OK  UNNEEDED, same version is already published