Back to Multiple platform build/check report for BioC 3.13
ABCDEFGHIJKLMNOPQRS[T]UVWXYZ

All results for package ToPASeq

This page was generated on 2021-06-11 14:05:33 -0400 (Fri, 11 Jun 2021).

Package 1934/2041HostnameOS / ArchINSTALLBUILDCHECKBUILD BIN
ToPASeq 1.26.0  (landing page)
Ivana Ihnatova
Snapshot Date: 2021-06-10 06:50:12 -0400 (Thu, 10 Jun 2021)
URL: https://git.bioconductor.org/packages/ToPASeq
Branch: RELEASE_3_13
Last Commit: 39671a5
Last Changed Date: 2021-05-19 12:09:12 -0400 (Wed, 19 May 2021)
nebbiolo1Linux (Ubuntu 20.04.2 LTS) / x86_64  OK    ERROR  skipped
tokay2Windows Server 2012 R2 Standard / x64  OK    OK    ERROR    OK  
machv2macOS 10.14.6 Mojave / x86_64  OK    ERROR  skippedskipped