Back to Multiple platform build/check report for BioC 3.13
ABCDEFGHIJKLMNOPQRS[T]UVWXYZ

Multiple platform build/check report for BioC 3.13

All results for package TSRchitect

This page was generated on 2021-05-15 12:14:20 -0400 (Sat, 15 May 2021).

Package 1973/2042HostnameOS / ArchINSTALLBUILDCHECKBUILD BIN
TSRchitect 1.17.0  (landing page)
R. Taylor Raborn
Snapshot Date: 2021-05-14 14:50:09 -0400 (Fri, 14 May 2021)
URL: https://git.bioconductor.org/packages/TSRchitect
Branch: master
Last Commit: b5f2890
Last Changed Date: 2020-10-27 11:24:22 -0400 (Tue, 27 Oct 2020)
nebbiolo1Linux (Ubuntu 20.04.2 LTS) / x86_64  OK    OK    WARNINGS  UNNEEDED, same version exists in internal repository
riesling1Windows Server 2019 Standard / x64  OK    OK    WARNINGS    OK  UNNEEDED, same version exists in internal repository
machv2macOS 10.14.6 Mojave / x86_64  OK    OK    WARNINGS    OK  UNNEEDED, same version exists in internal repository