Back to Multiple platform build/check report for BioC 3.13
ABCDEFGHIJKLMNOPQR[S]TUVWXYZ

This page was generated on 2021-08-04 15:05:58 -0400 (Wed, 04 Aug 2021).

BUILD results for Streamer on tokay2

To the developers/maintainers of the Streamer package:
- Please allow up to 24 hours (and sometimes 48 hours) for your latest push to git@git.bioconductor.org:packages/Streamer.git to
reflect on this report. See How and When does the builder pull? When will my changes propagate? here for more information.
- Make sure to use the following settings in order to reproduce any error or warning you see on this page.

raw results

Package 1859/2041HostnameOS / ArchINSTALLBUILDCHECKBUILD BIN
Streamer 1.38.0  (landing page)
Martin Morgan
Snapshot Date: 2021-08-03 04:50:12 -0400 (Tue, 03 Aug 2021)
URL: https://git.bioconductor.org/packages/Streamer
Branch: RELEASE_3_13
Last Commit: c079c02
Last Changed Date: 2021-05-19 11:49:23 -0400 (Wed, 19 May 2021)
nebbiolo1Linux (Ubuntu 20.04.2 LTS) / x86_64  OK    OK    OK  UNNEEDED, same version is already published
tokay2Windows Server 2012 R2 Standard / x64  OK    OK    OK    OK  UNNEEDED, same version is already published
machv2macOS 10.14.6 Mojave / x86_64  OK    OK    OK    OK  UNNEEDED, same version is already published

Summary

Package: Streamer
Version: 1.38.0
Command: chmod a+r Streamer -R && C:\Users\biocbuild\bbs-3.13-bioc\R\bin\R.exe CMD build --keep-empty-dirs --no-resave-data Streamer
StartedAt: 2021-08-03 18:51:36 -0400 (Tue, 03 Aug 2021)
EndedAt: 2021-08-03 18:52:02 -0400 (Tue, 03 Aug 2021)
EllapsedTime: 27.0 seconds
RetCode: 0
Status:   OK  
PackageFile: Streamer_1.38.0.tar.gz
PackageFileSize: 176.8 KiB

Command output

##############################################################################
##############################################################################
###
### Running command:
###
###   chmod a+r Streamer -R && C:\Users\biocbuild\bbs-3.13-bioc\R\bin\R.exe CMD build --keep-empty-dirs --no-resave-data Streamer
###
##############################################################################
##############################################################################


* checking for file 'Streamer/DESCRIPTION' ... OK
* preparing 'Streamer':
* checking DESCRIPTION meta-information ... OK
* cleaning src
* installing the package to build vignettes
* creating vignettes ... OK
* cleaning src
* checking for LF line-endings in source and make files and shell scripts
* checking for empty or unneeded directories
* building 'Streamer_1.38.0.tar.gz'