Back to Multiple platform build/check report for BioC 3.13
ABCDEFGHIJKLMNOPQR[S]TUVWXYZ

This page was generated on 2021-06-17 02:39:25 -0400 (Thu, 17 Jun 2021).

BUILD results for Streamer on machv2

To the developers/maintainers of the Streamer package:
- Please allow up to 24 hours (and sometimes 48 hours) for your latest push to git@git.bioconductor.org:packages/Streamer.git to
reflect on this report. See How and When does the builder pull? When will my changes propagate? here for more information.
- Make sure to use the following settings in order to reproduce any error or warning you see on this page.

raw results

Package 1859/2041HostnameOS / ArchINSTALLBUILDCHECKBUILD BIN
Streamer 1.38.0  (landing page)
Martin Morgan
Snapshot Date: 2021-06-15 06:50:12 -0400 (Tue, 15 Jun 2021)
URL: https://git.bioconductor.org/packages/Streamer
Branch: RELEASE_3_13
Last Commit: c079c02
Last Changed Date: 2021-05-19 11:49:23 -0400 (Wed, 19 May 2021)
nebbiolo1Linux (Ubuntu 20.04.2 LTS) / x86_64  OK    OK    OK  UNNEEDED, same version is already published
tokay2Windows Server 2012 R2 Standard / x64  OK    OK    OK    OK  UNNEEDED, same version is already published
machv2macOS 10.14.6 Mojave / x86_64  OK    OK    OK    OK  UNNEEDED, same version is already published

Summary

Package: Streamer
Version: 1.38.0
Command: /Library/Frameworks/R.framework/Versions/Current/Resources/bin/R CMD build --keep-empty-dirs --no-resave-data Streamer
StartedAt: 2021-06-15 15:04:19 -0400 (Tue, 15 Jun 2021)
EndedAt: 2021-06-15 15:04:43 -0400 (Tue, 15 Jun 2021)
EllapsedTime: 24.2 seconds
RetCode: 0
Status:   OK  
PackageFile: Streamer_1.38.0.tar.gz
PackageFileSize: 181.9 KiB

Command output

##############################################################################
##############################################################################
###
### Running command:
###
###   /Library/Frameworks/R.framework/Versions/Current/Resources/bin/R CMD build --keep-empty-dirs --no-resave-data Streamer
###
##############################################################################
##############################################################################


* checking for file ‘Streamer/DESCRIPTION’ ... OK
* preparing ‘Streamer’:
* checking DESCRIPTION meta-information ... OK
* cleaning src
* installing the package to build vignettes
* creating vignettes ... OK
* cleaning src
* checking for LF line-endings in source and make files and shell scripts
* checking for empty or unneeded directories
* building ‘Streamer_1.38.0.tar.gz’