Back to Multiple platform build/check report for BioC 3.13
ABCDEFGHIJKLMNOPQR[S]TUVWXYZ

This page was generated on 2021-07-23 15:06:23 -0400 (Fri, 23 Jul 2021).

BUILD BIN results for StarBioTrek on tokay2

To the developers/maintainers of the StarBioTrek package:
- Please allow up to 24 hours (and sometimes 48 hours) for your latest push to git@git.bioconductor.org:packages/StarBioTrek.git to
reflect on this report. See How and When does the builder pull? When will my changes propagate? here for more information.
- Make sure to use the following settings in order to reproduce any error or warning you see on this page.

raw results

Package 1854/2041HostnameOS / ArchINSTALLBUILDCHECKBUILD BIN
StarBioTrek 1.18.0  (landing page)
Claudia Cava
Snapshot Date: 2021-07-22 04:50:13 -0400 (Thu, 22 Jul 2021)
URL: https://git.bioconductor.org/packages/StarBioTrek
Branch: RELEASE_3_13
Last Commit: 4e39230
Last Changed Date: 2021-05-19 12:24:11 -0400 (Wed, 19 May 2021)
nebbiolo1Linux (Ubuntu 20.04.2 LTS) / x86_64  OK    OK    WARNINGS  UNNEEDED, same version is already published
tokay2Windows Server 2012 R2 Standard / x64  OK    OK    WARNINGS    OK  UNNEEDED, same version is already published
machv2macOS 10.14.6 Mojave / x86_64  OK    OK    WARNINGS    OK  UNNEEDED, same version is already published

Summary

Package: StarBioTrek
Version: 1.18.0
Command: rm -rf StarBioTrek.buildbin-libdir && mkdir StarBioTrek.buildbin-libdir && C:\Users\biocbuild\bbs-3.13-bioc\R\bin\R.exe CMD INSTALL --merge-multiarch --build --library=StarBioTrek.buildbin-libdir StarBioTrek_1.18.0.tar.gz
StartedAt: 2021-07-23 11:54:20 -0400 (Fri, 23 Jul 2021)
EndedAt: 2021-07-23 11:55:31 -0400 (Fri, 23 Jul 2021)
EllapsedTime: 71.6 seconds
RetCode: 0
Status:   OK  
PackageFile: StarBioTrek_1.18.0.zip
PackageFileSize: 8.445 MiB

Command output

##############################################################################
##############################################################################
###
### Running command:
###
###   rm -rf StarBioTrek.buildbin-libdir && mkdir StarBioTrek.buildbin-libdir && C:\Users\biocbuild\bbs-3.13-bioc\R\bin\R.exe CMD INSTALL --merge-multiarch --build --library=StarBioTrek.buildbin-libdir StarBioTrek_1.18.0.tar.gz
###
##############################################################################
##############################################################################



install for i386

* installing *source* package 'StarBioTrek' ...
** using staged installation
** R
** data
*** moving datasets to lazyload DB
** inst
** byte-compile and prepare package for lazy loading
** help
*** installing help indices
  converting help for package 'StarBioTrek'
    finding HTML links ... done
    ConvertedIDgenes                        html  
    Data_CANCER_normUQ_fil                  html  
    GE_matrix                               html  
    GE_matrix_mean                          html  
    GOChord                                 html  
    GetData                                 html  
    GetPathData                             html  
    GetPathNet                              html  
    IPPI                                    html  
    SelectedSample                          html  
    StarBioTrek                             html  
    average                                 html  
    circleplot                              html  
    dsscorecrtlk                            html  
    eucdistcrtlk                            html  
    getNETdata                              html  
    listpathnet                             html  
    netw                                    html  
    netw_IPPI                               html  
    norm                                    html  
    path                                    html  
    path_KEGG                               html  
    pathnet                                 html  
    pathway                                 html  
    pathway_matrix                          html  
    plotcrosstalk                           html  
    score_euc_dista                         html  
    select_class                            html  
    stdv                                    html  
    svm_classification                      html  
    tumo                                    html  
** building package indices
** installing vignettes
** testing if installed package can be loaded from temporary location
** testing if installed package can be loaded from final location
** testing if installed package keeps a record of temporary installation path

install for x64

* installing *source* package 'StarBioTrek' ...
** testing if installed package can be loaded
* MD5 sums
packaged installation of 'StarBioTrek' as StarBioTrek_1.18.0.zip
* DONE (StarBioTrek)