Back to Multiple platform build/check report for BioC 3.13
ABCDEFGHIJKLMNOPQR[S]TUVWXYZ

Multiple platform build/check report for BioC 3.13

All results for package StarBioTrek

This page was generated on 2021-05-17 12:14:36 -0400 (Mon, 17 May 2021).

Package 1855/2042HostnameOS / ArchINSTALLBUILDCHECKBUILD BIN
StarBioTrek 1.17.0  (landing page)
Claudia Cava
Snapshot Date: 2021-05-16 14:50:11 -0400 (Sun, 16 May 2021)
URL: https://git.bioconductor.org/packages/StarBioTrek
Branch: master
Last Commit: 1779567
Last Changed Date: 2020-10-27 11:19:06 -0400 (Tue, 27 Oct 2020)
nebbiolo1Linux (Ubuntu 20.04.2 LTS) / x86_64  OK    OK    WARNINGS  UNNEEDED, same version exists in internal repository
riesling1Windows Server 2019 Standard / x64  OK    OK    WARNINGS    OK  UNNEEDED, same version exists in internal repository
machv2macOS 10.14.6 Mojave / x86_64  OK    OK    WARNINGS    OK  UNNEEDED, same version exists in internal repository