Back to Multiple platform build/check report for BioC 3.13
ABCDEFGHIJKLMNOPQR[S]TUVWXYZ

This page was generated on 2021-06-18 14:06:00 -0400 (Fri, 18 Jun 2021).

INSTALL results for SplicingGraphs on nebbiolo1

To the developers/maintainers of the SplicingGraphs package:
- Please allow up to 24 hours (and sometimes 48 hours) for your latest push to git@git.bioconductor.org:packages/SplicingGraphs.git to
reflect on this report. See How and When does the builder pull? When will my changes propagate? here for more information.
- Make sure to use the following settings in order to reproduce any error or warning you see on this page.

raw results

Package 1830/2041HostnameOS / ArchINSTALLBUILDCHECKBUILD BIN
SplicingGraphs 1.32.0  (landing page)
H. Pagès
Snapshot Date: 2021-06-17 06:50:12 -0400 (Thu, 17 Jun 2021)
URL: https://git.bioconductor.org/packages/SplicingGraphs
Branch: RELEASE_3_13
Last Commit: 6066f74
Last Changed Date: 2021-05-19 11:58:48 -0400 (Wed, 19 May 2021)
nebbiolo1Linux (Ubuntu 20.04.2 LTS) / x86_64  OK    OK    WARNINGS  UNNEEDED, same version is already published
tokay2Windows Server 2012 R2 Standard / x64  OK    OK    TIMEOUT    OK  
machv2macOS 10.14.6 Mojave / x86_64  OK    OK    WARNINGS    OK  UNNEEDED, same version is already published

Summary

Package: SplicingGraphs
Version: 1.32.0
Command: /home/biocbuild/bbs-3.13-bioc/R/bin/R CMD INSTALL SplicingGraphs
StartedAt: 2021-06-17 08:29:56 -0400 (Thu, 17 Jun 2021)
EndedAt: 2021-06-17 08:30:30 -0400 (Thu, 17 Jun 2021)
EllapsedTime: 33.2 seconds
RetCode: 0
Status:   OK  

Command output

##############################################################################
##############################################################################
###
### Running command:
###
###   /home/biocbuild/bbs-3.13-bioc/R/bin/R CMD INSTALL SplicingGraphs
###
##############################################################################
##############################################################################


* installing to library ‘/home/biocbuild/bbs-3.13-bioc/R/library’
* installing *source* package ‘SplicingGraphs’ ...
** using staged installation
** R
** inst
** byte-compile and prepare package for lazy loading
Warning: replacing previous import ‘IRanges::from’ by ‘Rgraphviz::from’ when loading ‘SplicingGraphs’
Warning: replacing previous import ‘IRanges::to’ by ‘Rgraphviz::to’ when loading ‘SplicingGraphs’
** help
*** installing help indices
** building package indices
** installing vignettes
** testing if installed package can be loaded from temporary location
Warning: replacing previous import ‘IRanges::from’ by ‘Rgraphviz::from’ when loading ‘SplicingGraphs’
Warning: replacing previous import ‘IRanges::to’ by ‘Rgraphviz::to’ when loading ‘SplicingGraphs’
** testing if installed package can be loaded from final location
Warning: replacing previous import ‘IRanges::from’ by ‘Rgraphviz::from’ when loading ‘SplicingGraphs’
Warning: replacing previous import ‘IRanges::to’ by ‘Rgraphviz::to’ when loading ‘SplicingGraphs’
** testing if installed package keeps a record of temporary installation path
* DONE (SplicingGraphs)