Back to Multiple platform build/check report for BioC 3.13
ABCDEFGHIJKLMNOPQR[S]TUVWXYZ

This page was generated on 2021-09-17 15:06:55 -0400 (Fri, 17 Sep 2021).

BUILD results for SplicingGraphs on machv2

To the developers/maintainers of the SplicingGraphs package:
- Please allow up to 24 hours (and sometimes 48 hours) for your latest push to git@git.bioconductor.org:packages/SplicingGraphs.git to
reflect on this report. See How and When does the builder pull? When will my changes propagate? here for more information.
- Make sure to use the following settings in order to reproduce any error or warning you see on this page.

raw results

Package 1830/2041HostnameOS / ArchINSTALLBUILDCHECKBUILD BIN
SplicingGraphs 1.32.0  (landing page)
H. Pagès
Snapshot Date: 2021-09-16 04:50:11 -0400 (Thu, 16 Sep 2021)
git_url: https://git.bioconductor.org/packages/SplicingGraphs
git_branch: RELEASE_3_13
git_last_commit: 6066f74
git_last_commit_date: 2021-05-19 11:58:48 -0400 (Wed, 19 May 2021)
nebbiolo1Linux (Ubuntu 20.04.2 LTS) / x86_64  OK    OK    WARNINGS  UNNEEDED, same version is already published
tokay2Windows Server 2012 R2 Standard / x64  OK    OK    WARNINGS    OK  UNNEEDED, same version is already published
machv2macOS 10.14.6 Mojave / x86_64  OK    OK    WARNINGS    OK  UNNEEDED, same version is already published

Summary

Package: SplicingGraphs
Version: 1.32.0
Command: /Library/Frameworks/R.framework/Versions/Current/Resources/bin/R CMD build --keep-empty-dirs --no-resave-data SplicingGraphs
StartedAt: 2021-09-16 15:11:01 -0400 (Thu, 16 Sep 2021)
EndedAt: 2021-09-16 15:14:35 -0400 (Thu, 16 Sep 2021)
EllapsedTime: 214.6 seconds
RetCode: 0
Status:   OK  
PackageFile: SplicingGraphs_1.32.0.tar.gz
PackageFileSize: 45.92 MiB

Command output

##############################################################################
##############################################################################
###
### Running command:
###
###   /Library/Frameworks/R.framework/Versions/Current/Resources/bin/R CMD build --keep-empty-dirs --no-resave-data SplicingGraphs
###
##############################################################################
##############################################################################


* checking for file ‘SplicingGraphs/DESCRIPTION’ ... OK
* preparing ‘SplicingGraphs’:
* checking DESCRIPTION meta-information ... OK
* installing the package to build vignettes
* creating vignettes ... OK
* checking for LF line-endings in source and make files and shell scripts
* checking for empty or unneeded directories
* building ‘SplicingGraphs_1.32.0.tar.gz’