Back to Multiple platform build/check report for BioC 3.13
ABCDEFGHIJKLMNOPQR[S]TUVWXYZ

This page was generated on 2021-06-23 15:05:16 -0400 (Wed, 23 Jun 2021).

BUILD results for SRAdb on nebbiolo1

To the developers/maintainers of the SRAdb package:
- Please allow up to 24 hours (and sometimes 48 hours) for your latest push to git@git.bioconductor.org:packages/SRAdb.git to
reflect on this report. See How and When does the builder pull? When will my changes propagate? here for more information.
- Make sure to use the following settings in order to reproduce any error or warning you see on this page.

raw results

Package 1840/2041HostnameOS / ArchINSTALLBUILDCHECKBUILD BIN
SRAdb 1.54.0  (landing page)
Jack Zhu
Snapshot Date: 2021-06-22 04:50:12 -0400 (Tue, 22 Jun 2021)
URL: https://git.bioconductor.org/packages/SRAdb
Branch: RELEASE_3_13
Last Commit: d4df032
Last Changed Date: 2021-05-19 11:45:18 -0400 (Wed, 19 May 2021)
nebbiolo1Linux (Ubuntu 20.04.2 LTS) / x86_64  OK    OK    OK  UNNEEDED, same version is already published
tokay2Windows Server 2012 R2 Standard / x64  OK    OK    OK    OK  UNNEEDED, same version is already published
machv2macOS 10.14.6 Mojave / x86_64  OK    OK    OK    OK  UNNEEDED, same version is already published

Summary

Package: SRAdb
Version: 1.54.0
Command: /home/biocbuild/bbs-3.13-bioc/R/bin/R CMD build --keep-empty-dirs --no-resave-data SRAdb
StartedAt: 2021-06-22 08:32:56 -0400 (Tue, 22 Jun 2021)
EndedAt: 2021-06-22 08:33:07 -0400 (Tue, 22 Jun 2021)
EllapsedTime: 11.2 seconds
RetCode: 0
Status:   OK  
PackageFile: SRAdb_1.54.0.tar.gz
PackageFileSize: 807.6 KiB

Command output

##############################################################################
##############################################################################
###
### Running command:
###
###   /home/biocbuild/bbs-3.13-bioc/R/bin/R CMD build --keep-empty-dirs --no-resave-data SRAdb
###
##############################################################################
##############################################################################


* checking for file ‘SRAdb/DESCRIPTION’ ... OK
* preparing ‘SRAdb’:
* checking DESCRIPTION meta-information ... OK
* installing the package to build vignettes
* creating vignettes ... OK
* checking for LF line-endings in source and make files and shell scripts
* checking for empty or unneeded directories
* building ‘SRAdb_1.54.0.tar.gz’