Back to Multiple platform build/check report for BioC 3.13
ABCDEFGHIJKLMNOPQ[R]STUVWXYZ

This page was generated on 2021-06-23 15:06:12 -0400 (Wed, 23 Jun 2021).

CHECK results for Rtreemix on machv2

To the developers/maintainers of the Rtreemix package:
- Please allow up to 24 hours (and sometimes 48 hours) for your latest push to git@git.bioconductor.org:packages/Rtreemix.git to
reflect on this report. See How and When does the builder pull? When will my changes propagate? here for more information.
- Make sure to use the following settings in order to reproduce any error or warning you see on this page.

raw results

Package 1651/2041HostnameOS / ArchINSTALLBUILDCHECKBUILD BIN
Rtreemix 1.54.0  (landing page)
Jasmina Bogojeska
Snapshot Date: 2021-06-22 04:50:12 -0400 (Tue, 22 Jun 2021)
URL: https://git.bioconductor.org/packages/Rtreemix
Branch: RELEASE_3_13
Last Commit: 5821181
Last Changed Date: 2021-05-19 11:39:55 -0400 (Wed, 19 May 2021)
nebbiolo1Linux (Ubuntu 20.04.2 LTS) / x86_64  OK    OK    OK  UNNEEDED, same version is already published
tokay2Windows Server 2012 R2 Standard / x64  OK    OK    OK    OK  UNNEEDED, same version is already published
machv2macOS 10.14.6 Mojave / x86_64  OK    OK    OK    OK  UNNEEDED, same version is already published

Summary

Package: Rtreemix
Version: 1.54.0
Command: /Library/Frameworks/R.framework/Versions/Current/Resources/bin/R CMD check --install=check:Rtreemix.install-out.txt --library=/Library/Frameworks/R.framework/Versions/Current/Resources/library --no-vignettes --timings Rtreemix_1.54.0.tar.gz
StartedAt: 2021-06-22 23:16:51 -0400 (Tue, 22 Jun 2021)
EndedAt: 2021-06-22 23:18:34 -0400 (Tue, 22 Jun 2021)
EllapsedTime: 102.4 seconds
RetCode: 0
Status:   OK  
CheckDir: Rtreemix.Rcheck
Warnings: 0

Command output

##############################################################################
##############################################################################
###
### Running command:
###
###   /Library/Frameworks/R.framework/Versions/Current/Resources/bin/R CMD check --install=check:Rtreemix.install-out.txt --library=/Library/Frameworks/R.framework/Versions/Current/Resources/library --no-vignettes --timings Rtreemix_1.54.0.tar.gz
###
##############################################################################
##############################################################################


* using log directory ‘/Users/biocbuild/bbs-3.13-bioc/meat/Rtreemix.Rcheck’
* using R version 4.1.0 (2021-05-18)
* using platform: x86_64-apple-darwin17.0 (64-bit)
* using session charset: UTF-8
* using option ‘--no-vignettes’
* checking for file ‘Rtreemix/DESCRIPTION’ ... OK
* checking extension type ... Package
* this is package ‘Rtreemix’ version ‘1.54.0’
* checking package namespace information ... OK
* checking package dependencies ... OK
* checking if this is a source package ... OK
* checking if there is a namespace ... OK
* checking for hidden files and directories ... NOTE
Found the following hidden files and directories:
  .git_fetch_output.txt
  .git_merge_output.txt
These were most likely included in error. See section ‘Package
structure’ in the ‘Writing R Extensions’ manual.
* checking for portable file names ... OK
* checking for sufficient/correct file permissions ... OK
* checking whether package ‘Rtreemix’ can be installed ... OK
* checking installed package size ... OK
* checking package directory ... OK
* checking ‘build’ directory ... OK
* checking DESCRIPTION meta-information ... NOTE
Malformed Title field: should not end in a period.
* checking top-level files ... OK
* checking for left-over files ... OK
* checking index information ... OK
* checking package subdirectories ... OK
* checking R files for non-ASCII characters ... OK
* checking R files for syntax errors ... OK
* checking whether the package can be loaded ... OK
* checking whether the package can be loaded with stated dependencies ... OK
* checking whether the package can be unloaded cleanly ... OK
* checking whether the namespace can be loaded with stated dependencies ... OK
* checking whether the namespace can be unloaded cleanly ... OK
* checking dependencies in R code ... OK
* checking S3 generic/method consistency ... OK
* checking replacement functions ... OK
* checking foreign function calls ... OK
* checking R code for possible problems ... NOTE
.plott1: no visible binding for global variable ‘drawAgNode’
.plott1: no visible global function definition for ‘plot.new’
.plott1: no visible global function definition for ‘par’
.plott1: no visible global function definition for ‘upRight’
.plott1: no visible global function definition for ‘boundBox’
.plott1: no visible global function definition for ‘plot.window’
.plott1: no visible global function definition for ‘getX’
.plott1: no visible global function definition for ‘getY’
.plott1: no visible global function definition for ‘box’
.plott1: no visible global function definition for ‘xy.coords’
.plott1: no visible global function definition for ‘getDefaultAttrs’
.plott1: no visible global function definition for ‘plot.xy’
.plott1: no visible global function definition for ‘title’
.plott1: no visible global function definition for ‘AgNode’
.plott1 : <anonymous>: no visible global function definition for
  ‘getNodeRW’
.plott1 : <anonymous>: no visible global function definition for
  ‘getNodeLW’
.plott1 : <anonymous>: no visible global function definition for
  ‘getNodeHeight’
.plott1 : <anonymous>: no visible global function definition for
  ‘labelText’
.plott1 : <anonymous>: no visible global function definition for
  ‘txtLabel’
.plott1 : <anonymous>: no visible global function definition for
  ‘strwidth’
.plott1 : <anonymous>: no visible global function definition for
  ‘strheight’
.plott1 : <anonymous>: no visible global function definition for
  ‘labelFontsize’
.plott1: no visible global function definition for ‘AgEdge’
.plott1: no visible binding for global variable ‘lines’
.plott2: no visible global function definition for ‘getDefaultAttrs’
.plott2: no visible global function definition for ‘removedEdges’
.plott2: no visible global function definition for ‘agopen’
plot,RtreemixModel-missing: no visible global function definition for
  ‘par’
Undefined global functions or variables:
  AgEdge AgNode agopen boundBox box drawAgNode getDefaultAttrs
  getNodeHeight getNodeLW getNodeRW getX getY labelFontsize labelText
  lines par plot.new plot.window plot.xy removedEdges strheight
  strwidth title txtLabel upRight xy.coords
Consider adding
  importFrom("grDevices", "xy.coords")
  importFrom("graphics", "box", "lines", "par", "plot.new",
             "plot.window", "plot.xy", "strheight", "strwidth", "title")
to your NAMESPACE file.
* checking Rd files ... OK
* checking Rd metadata ... OK
* checking Rd cross-references ... OK
* checking for missing documentation entries ... OK
* checking for code/documentation mismatches ... OK
* checking Rd \usage sections ... OK
* checking Rd contents ... OK
* checking for unstated dependencies in examples ... OK
* checking contents of ‘data’ directory ... OK
* checking data for non-ASCII characters ... OK
* checking data for ASCII and uncompressed saves ... OK
* checking line endings in C/C++/Fortran sources/headers ... OK
* checking line endings in Makefiles ... OK
* checking compilation flags in Makevars ... OK
* checking for GNU extensions in Makefiles ... OK
* checking for portable use of $(BLAS_LIBS) and $(LAPACK_LIBS) ... OK
* checking use of PKG_*FLAGS in Makefiles ... NOTE
   PKG_CFLAGS set in ‘src/Makevars’ without any corresponding files
   PKG_CFLAGS set in ‘src/Makevars.win’ without any corresponding files
* checking compiled code ... NOTE
Note: information on .o files is not available
File ‘/Library/Frameworks/R.framework/Versions/4.1/Resources/library/Rtreemix/libs/Rtreemix.so’:
  Found ‘__ZNSt3__14cerrE’, possibly from ‘std::cerr’ (C++)
  Found ‘_rand’, possibly from ‘rand’ (C)
  Found ‘_srand’, possibly from ‘srand’ (C)

Compiled code should not call entry points which might terminate R nor
write to stdout/stderr instead of to the console, nor use Fortran I/O
nor system RNGs. The detected symbols are linked into the code but
might come from libraries and not actually be called.

See ‘Writing portable packages’ in the ‘Writing R Extensions’ manual.
* checking sizes of PDF files under ‘inst/doc’ ... OK
* checking files in ‘vignettes’ ... OK
* checking examples ... OK
* checking for unstated dependencies in vignettes ... OK
* checking package vignettes in ‘inst/doc’ ... OK
* checking running R code from vignettes ... SKIPPED
* checking re-building of vignette outputs ... SKIPPED
* checking PDF version of manual ... OK
* DONE

Status: 5 NOTEs
See
  ‘/Users/biocbuild/bbs-3.13-bioc/meat/Rtreemix.Rcheck/00check.log’
for details.



Installation output

Rtreemix.Rcheck/00install.out

##############################################################################
##############################################################################
###
### Running command:
###
###   /Library/Frameworks/R.framework/Versions/Current/Resources/bin/R CMD INSTALL Rtreemix
###
##############################################################################
##############################################################################


* installing to library ‘/Library/Frameworks/R.framework/Versions/4.1/Resources/library’
* installing *source* package ‘Rtreemix’ ...
** using staged installation
** libs
clang++ -mmacosx-version-min=10.13 -std=gnu++14 -I"/Library/Frameworks/R.framework/Resources/include" -DNDEBUG   -I/usr/local/include   -fPIC  -Wall -g -O2  -c Rtreemix.cc -o Rtreemix.o
clang++ -mmacosx-version-min=10.13 -std=gnu++14 -I"/Library/Frameworks/R.framework/Resources/include" -DNDEBUG   -I/usr/local/include   -fPIC  -Wall -g -O2  -c Rtreemix_patch.cc -o Rtreemix_patch.o
clang++ -mmacosx-version-min=10.13 -std=gnu++14 -I"/Library/Frameworks/R.framework/Resources/include" -DNDEBUG   -I/usr/local/include   -fPIC  -Wall -g -O2  -c WrapGraph.cc -o WrapGraph.o
clang++ -mmacosx-version-min=10.13 -std=gnu++14 -I"/Library/Frameworks/R.framework/Resources/include" -DNDEBUG   -I/usr/local/include   -fPIC  -Wall -g -O2  -c cfunctions.cc -o cfunctions.o
clang++ -mmacosx-version-min=10.13 -std=gnu++14 -I"/Library/Frameworks/R.framework/Resources/include" -DNDEBUG   -I/usr/local/include   -fPIC  -Wall -g -O2  -c kmeans.cc -o kmeans.o
clang++ -mmacosx-version-min=10.13 -std=gnu++14 -I"/Library/Frameworks/R.framework/Resources/include" -DNDEBUG   -I/usr/local/include   -fPIC  -Wall -g -O2  -c max_weight_branch.cc -o max_weight_branch.o
clang++ -mmacosx-version-min=10.13 -std=gnu++14 -I"/Library/Frameworks/R.framework/Resources/include" -DNDEBUG   -I/usr/local/include   -fPIC  -Wall -g -O2  -c mtree.cc -o mtree.o
clang++ -mmacosx-version-min=10.13 -std=gnu++14 -I"/Library/Frameworks/R.framework/Resources/include" -DNDEBUG   -I/usr/local/include   -fPIC  -Wall -g -O2  -c mtreemix.cc -o mtreemix.o
clang++ -mmacosx-version-min=10.13 -std=gnu++14 -I"/Library/Frameworks/R.framework/Resources/include" -DNDEBUG   -I/usr/local/include   -fPIC  -Wall -g -O2  -c replaceleda.cc -o replaceleda.o
clang++ -mmacosx-version-min=10.13 -std=gnu++14 -dynamiclib -Wl,-headerpad_max_install_names -undefined dynamic_lookup -single_module -multiply_defined suppress -L/Library/Frameworks/R.framework/Resources/lib -L/usr/local/lib -o Rtreemix.so Rtreemix.o Rtreemix_patch.o WrapGraph.o cfunctions.o kmeans.o max_weight_branch.o mtree.o mtreemix.o replaceleda.o -lm -F/Library/Frameworks/R.framework/.. -framework R -Wl,-framework -Wl,CoreFoundation
installing to /Library/Frameworks/R.framework/Versions/4.1/Resources/library/00LOCK-Rtreemix/00new/Rtreemix/libs
** R
** data
** inst
** byte-compile and prepare package for lazy loading
** help
*** installing help indices
** building package indices
** installing vignettes
** testing if installed package can be loaded from temporary location
** checking absolute paths in shared objects and dynamic libraries
** testing if installed package can be loaded from final location
** testing if installed package keeps a record of temporary installation path
* DONE (Rtreemix)

Tests output


Example timings

Rtreemix.Rcheck/Rtreemix-Ex.timings

nameusersystemelapsed
L1.dist0.0020.0010.003
L2.norm000
Pval.dist0.0010.0000.002
RtreemixData-class0.1670.0110.179
RtreemixGPS-class0.0000.0010.001
RtreemixModel-class1.7190.0891.812
RtreemixSim-class0.0210.0100.031
RtreemixStats-class0.0750.0300.106
bootstrap-methods000
comp.models0.2350.0010.236
comp.trees0.0170.0000.018
confIntGPS-methods0.0000.0000.001
distribution-methods0.0500.0210.071
fit-methods0.6040.0060.610
generate-methods0.0040.0010.005
get.tree.levels0.0030.0010.004
gps-methods0.0000.0000.001
hiv.data0.0050.0060.011
kullback.leibler0.0000.0010.000
likelihoods-methods0.0420.0080.050
sim-methods0.0600.0160.077
stability.sim0.0000.0000.001