Back to Multiple platform build/check report for BioC 3.13
ABCDEFGHIJKLMNOPQ[R]STUVWXYZ

All results for package Rsamtools

This page was generated on 2021-06-14 14:04:37 -0400 (Mon, 14 Jun 2021).

Package 1634/2041HostnameOS / ArchINSTALLBUILDCHECKBUILD BIN
Rsamtools 2.8.0  (landing page)
Bioconductor Package Maintainer
Snapshot Date: 2021-06-13 06:50:09 -0400 (Sun, 13 Jun 2021)
URL: https://git.bioconductor.org/packages/Rsamtools
Branch: RELEASE_3_13
Last Commit: 45d46ab
Last Changed Date: 2021-05-19 11:45:07 -0400 (Wed, 19 May 2021)
nebbiolo1Linux (Ubuntu 20.04.2 LTS) / x86_64  OK    OK    WARNINGS  UNNEEDED, same version is already published
tokay2Windows Server 2012 R2 Standard / x64  OK    OK    WARNINGS    OK  UNNEEDED, same version is already published
machv2macOS 10.14.6 Mojave / x86_64  OK    OK    WARNINGS    OK  UNNEEDED, same version is already published

Results for Bioconductor software packages that depend directly on package Rsamtools

QUICK STATSOS / ArchINSTALLBUILDCHECKBUILD BIN
nebbiolo1Linux (Ubuntu 20.04.2 LTS) / x86_64
01176
04173
0240131
tokay2Windows Server 2012 R2 Standard / x64
01166
04163
5236120
00163
machv2macOS 10.14.6 Mojave / x86_64
01175
03173
0237134
00173
Package 1/177HostnameOS / ArchINSTALLBUILDCHECKBUILD BIN
AllelicImbalance 1.30.0  (landing page)
Jesper R Gadin
Last Commit: 5e00a1f
Last Changed Date: 2021-05-19 12:00:58 -0400
nebbiolo1Linux (Ubuntu 20.04.2 LTS) / x86_64  OK    OK    OK  UNNEEDED, same version is already published
tokay2Windows Server 2012 R2 Standard / x64  OK    OK    OK    OK  UNNEEDED, same version is already published
machv2macOS 10.14.6 Mojave / x86_64  OK    OK    OK    OK  UNNEEDED, same version is already published
Package 2/177HostnameOS / ArchINSTALLBUILDCHECKBUILD BIN
alpine 1.18.0  (landing page)
Michael Love
Last Commit: 06257d2
Last Changed Date: 2021-05-19 12:22:33 -0400
nebbiolo1Linux (Ubuntu 20.04.2 LTS) / x86_64  OK    OK    OK  UNNEEDED, same version is already published
tokay2Windows Server 2012 R2 Standard / x64  OK    OK    OK    OK  UNNEEDED, same version is already published
machv2macOS 10.14.6 Mojave / x86_64  OK    OK    OK    OK  UNNEEDED, same version is already published
Package 3/177HostnameOS / ArchINSTALLBUILDCHECKBUILD BIN
AneuFinder 1.20.0  (landing page)
Aaron Taudt
Last Commit: 1c7aed6
Last Changed Date: 2021-05-19 12:19:05 -0400
nebbiolo1Linux (Ubuntu 20.04.2 LTS) / x86_64  OK    OK    OK  UNNEEDED, same version is already published
tokay2Windows Server 2012 R2 Standard / x64  OK    OK    OK    OK  UNNEEDED, same version is already published
machv2macOS 10.14.6 Mojave / x86_64  OK    OK    OK    OK  UNNEEDED, same version is already published
Package 4/177HostnameOS / ArchINSTALLBUILDCHECKBUILD BIN
annmap 1.34.0  (landing page)
Chris Wirth
Last Commit: c79bf2e
Last Changed Date: 2021-05-19 11:52:37 -0400
nebbiolo1Linux (Ubuntu 20.04.2 LTS) / x86_64  OK    OK    WARNINGS  UNNEEDED, same version is already published
tokay2Windows Server 2012 R2 Standard / x64... NOT SUPPORTED ...
machv2macOS 10.14.6 Mojave / x86_64  OK    OK    WARNINGS    OK  UNNEEDED, same version is already published
Package 5/177HostnameOS / ArchINSTALLBUILDCHECKBUILD BIN
AnnotationHubData 1.22.0  (landing page)
Bioconductor Package Maintainer
Last Commit: c2a76fb
Last Changed Date: 2021-05-19 12:15:21 -0400
nebbiolo1Linux (Ubuntu 20.04.2 LTS) / x86_64  OK    OK    WARNINGS  UNNEEDED, same version is already published
tokay2Windows Server 2012 R2 Standard / x64  OK    OK    WARNINGS    OK  UNNEEDED, same version is already published
machv2macOS 10.14.6 Mojave / x86_64  OK    OK    WARNINGS    OK  UNNEEDED, same version is already published
Package 6/177HostnameOS / ArchINSTALLBUILDCHECKBUILD BIN
APAlyzer 1.6.0  (landing page)
Ruijia Wang
Last Commit: e2978dc
Last Changed Date: 2021-05-19 12:45:23 -0400
nebbiolo1Linux (Ubuntu 20.04.2 LTS) / x86_64  OK    OK    OK  UNNEEDED, same version is already published
tokay2Windows Server 2012 R2 Standard / x64  OK    OK    OK    OK  UNNEEDED, same version is already published
machv2macOS 10.14.6 Mojave / x86_64  OK    OK    OK    OK  UNNEEDED, same version is already published
Package 7/177HostnameOS / ArchINSTALLBUILDCHECKBUILD BIN
appreci8R 1.10.0  (landing page)
Sarah Sandmann
Last Commit: d1399fc
Last Changed Date: 2021-05-19 12:36:42 -0400
nebbiolo1Linux (Ubuntu 20.04.2 LTS) / x86_64  OK    OK    OK  UNNEEDED, same version is already published
tokay2Windows Server 2012 R2 Standard / x64  OK    OK    OK    OK  UNNEEDED, same version is already published
machv2macOS 10.14.6 Mojave / x86_64  OK    OK    OK    OK  UNNEEDED, same version is already published
Package 8/177HostnameOS / ArchINSTALLBUILDCHECKBUILD BIN
ArrayExpressHTS 1.42.0  (landing page)
Angela Goncalves , Andrew Tikhonov
Last Commit: 9a41140
Last Changed Date: 2021-05-19 11:48:38 -0400
nebbiolo1Linux (Ubuntu 20.04.2 LTS) / x86_64  OK    OK    WARNINGS  UNNEEDED, same version is already published
tokay2Windows Server 2012 R2 Standard / x64... NOT SUPPORTED ...
machv2macOS 10.14.6 Mojave / x86_64  OK    OK    OK    OK  UNNEEDED, same version is already published
Package 9/177HostnameOS / ArchINSTALLBUILDCHECKBUILD BIN
ASpediaFI 1.6.0  (landing page)
Doyeong Yu
Last Commit: a36105f
Last Changed Date: 2021-05-19 12:47:16 -0400
nebbiolo1Linux (Ubuntu 20.04.2 LTS) / x86_64  OK    OK    OK  UNNEEDED, same version is already published
tokay2Windows Server 2012 R2 Standard / x64  OK    OK    OK    OK  UNNEEDED, same version is already published
machv2macOS 10.14.6 Mojave / x86_64  OK    OK    OK    OK  UNNEEDED, same version is already published
Package 10/177HostnameOS / ArchINSTALLBUILDCHECKBUILD BIN
ASpli 2.2.0  (landing page)
Estefania Mancini
Last Commit: 6dddfb0
Last Changed Date: 2021-05-19 12:22:07 -0400
nebbiolo1Linux (Ubuntu 20.04.2 LTS) / x86_64  OK    OK    OK  UNNEEDED, same version is already published
tokay2Windows Server 2012 R2 Standard / x64  OK    OK    OK    OK  UNNEEDED, same version is already published
machv2macOS 10.14.6 Mojave / x86_64  OK    OK    OK    OK  UNNEEDED, same version is already published
Package 11/177HostnameOS / ArchINSTALLBUILDCHECKBUILD BIN
ATACseqQC 1.16.0  (landing page)
Jianhong Ou
Last Commit: e345154
Last Changed Date: 2021-05-19 12:27:43 -0400
nebbiolo1Linux (Ubuntu 20.04.2 LTS) / x86_64  OK    OK    OK  UNNEEDED, same version is already published
tokay2Windows Server 2012 R2 Standard / x64  OK    OK    OK    OK  UNNEEDED, same version is already published
machv2macOS 10.14.6 Mojave / x86_64  OK    OK    OK    OK  UNNEEDED, same version is already published
Package 12/177HostnameOS / ArchINSTALLBUILDCHECKBUILD BIN
BaalChIP 1.18.0  (landing page)
Ines de Santiago
Last Commit: 49e2ae7
Last Changed Date: 2021-05-19 12:22:59 -0400
nebbiolo1Linux (Ubuntu 20.04.2 LTS) / x86_64  OK    OK    WARNINGS  UNNEEDED, same version is already published
tokay2Windows Server 2012 R2 Standard / x64  OK    OK    WARNINGS    OK  UNNEEDED, same version is already published
machv2macOS 10.14.6 Mojave / x86_64  OK    OK    WARNINGS    OK  UNNEEDED, same version is already published
Package 13/177HostnameOS / ArchINSTALLBUILDCHECKBUILD BIN
BadRegionFinder 1.20.0  (landing page)
Sarah Sandmann
Last Commit: 833821c
Last Changed Date: 2021-05-19 12:19:30 -0400
nebbiolo1Linux (Ubuntu 20.04.2 LTS) / x86_64  OK    OK    OK  UNNEEDED, same version is already published
tokay2Windows Server 2012 R2 Standard / x64  OK    OK    OK    OK  UNNEEDED, same version is already published
machv2macOS 10.14.6 Mojave / x86_64  OK    OK    OK    OK  UNNEEDED, same version is already published
Package 14/177HostnameOS / ArchINSTALLBUILDCHECKBUILD BIN
bambu 1.2.0  (landing page)
Ying Chen
Last Commit: bd9fce4
Last Changed Date: 2021-05-19 12:57:00 -0400
nebbiolo1Linux (Ubuntu 20.04.2 LTS) / x86_64  OK    OK    OK  UNNEEDED, same version is already published
tokay2Windows Server 2012 R2 Standard / x64  OK    OK    OK    OK  UNNEEDED, same version is already published
machv2macOS 10.14.6 Mojave / x86_64  OK    OK    OK    OK  UNNEEDED, same version is already published
Package 15/177HostnameOS / ArchINSTALLBUILDCHECKBUILD BIN
BBCAnalyzer 1.22.0  (landing page)
Sarah Sandmann
Last Commit: ca0ad63
Last Changed Date: 2021-05-19 12:15:08 -0400
nebbiolo1Linux (Ubuntu 20.04.2 LTS) / x86_64  OK    OK    OK  UNNEEDED, same version is already published
tokay2Windows Server 2012 R2 Standard / x64  OK    OK    WARNINGS    OK  UNNEEDED, same version is already published
machv2macOS 10.14.6 Mojave / x86_64  OK    OK    OK    OK  UNNEEDED, same version is already published
Package 16/177HostnameOS / ArchINSTALLBUILDCHECKBUILD BIN
biovizBase 1.40.0  (landing page)
Michael Lawrence
Last Commit: e741735
Last Changed Date: 2021-05-19 11:50:05 -0400
nebbiolo1Linux (Ubuntu 20.04.2 LTS) / x86_64  OK    OK    WARNINGS  UNNEEDED, same version is already published
tokay2Windows Server 2012 R2 Standard / x64  OK    OK    WARNINGS    OK  UNNEEDED, same version is already published
machv2macOS 10.14.6 Mojave / x86_64  OK    OK    WARNINGS    OK  UNNEEDED, same version is already published
Package 17/177HostnameOS / ArchINSTALLBUILDCHECKBUILD BIN
biscuiteer 1.6.0  (landing page)
"Jacob Morrison"
Last Commit: 6d86b7b
Last Changed Date: 2021-05-19 12:47:26 -0400
nebbiolo1Linux (Ubuntu 20.04.2 LTS) / x86_64  OK    OK    WARNINGS  UNNEEDED, same version is already published
tokay2Windows Server 2012 R2 Standard / x64  OK    OK    WARNINGS    OK  UNNEEDED, same version is already published
machv2macOS 10.14.6 Mojave / x86_64  OK    OK    WARNINGS    OK  UNNEEDED, same version is already published
Package 18/177HostnameOS / ArchINSTALLBUILDCHECKBUILD BIN
BitSeq 1.36.0  (landing page)
Antti Honkela , Panagiotis Papastamoulis
Last Commit: 9a22089
Last Changed Date: 2021-05-19 11:52:00 -0400
nebbiolo1Linux (Ubuntu 20.04.2 LTS) / x86_64  OK    OK    WARNINGS  UNNEEDED, same version is already published
tokay2Windows Server 2012 R2 Standard / x64  OK    OK    WARNINGS    OK  UNNEEDED, same version is already published
machv2macOS 10.14.6 Mojave / x86_64  OK    OK    WARNINGS    OK  UNNEEDED, same version is already published
Package 19/177HostnameOS / ArchINSTALLBUILDCHECKBUILD BIN
breakpointR 1.10.0  (landing page)
David Porubsky
Last Commit: c1d2077
Last Changed Date: 2021-05-19 12:38:04 -0400
nebbiolo1Linux (Ubuntu 20.04.2 LTS) / x86_64  OK    OK    OK  UNNEEDED, same version is already published
tokay2Windows Server 2012 R2 Standard / x64  OK    OK    OK    OK  UNNEEDED, same version is already published
machv2macOS 10.14.6 Mojave / x86_64  OK    OK    OK    OK  UNNEEDED, same version is already published
Package 20/177HostnameOS / ArchINSTALLBUILDCHECKBUILD BIN
BRGenomics 1.4.0  (landing page)
Mike DeBerardine
Last Commit: b006074
Last Changed Date: 2021-05-19 12:50:47 -0400
nebbiolo1Linux (Ubuntu 20.04.2 LTS) / x86_64  OK    OK    WARNINGS  UNNEEDED, same version is already published
tokay2Windows Server 2012 R2 Standard / x64  OK    OK    WARNINGS    OK  UNNEEDED, same version is already published
machv2macOS 10.14.6 Mojave / x86_64  OK    OK    WARNINGS    OK  UNNEEDED, same version is already published
Package 21/177HostnameOS / ArchINSTALLBUILDCHECKBUILD BIN
BSgenome 1.60.0  (landing page)
H. Pagès
Last Commit: 6643064
Last Changed Date: 2021-05-19 11:37:32 -0400
nebbiolo1Linux (Ubuntu 20.04.2 LTS) / x86_64  OK    OK    WARNINGS  UNNEEDED, same version is already published
tokay2Windows Server 2012 R2 Standard / x64  OK    OK    WARNINGS    OK  UNNEEDED, same version is already published
machv2macOS 10.14.6 Mojave / x86_64  OK    OK    WARNINGS    OK  UNNEEDED, same version is already published
Package 22/177HostnameOS / ArchINSTALLBUILDCHECKBUILD BIN
CAGEr 1.34.0  (landing page)
Charles Plessy
Last Commit: 8e7ccda
Last Changed Date: 2021-05-19 11:57:42 -0400
nebbiolo1Linux (Ubuntu 20.04.2 LTS) / x86_64  OK    OK    WARNINGS  UNNEEDED, same version is already published
tokay2Windows Server 2012 R2 Standard / x64  OK    OK    WARNINGS    OK  UNNEEDED, same version is already published
machv2macOS 10.14.6 Mojave / x86_64  OK    OK    WARNINGS    OK  UNNEEDED, same version is already published
Package 23/177HostnameOS / ArchINSTALLBUILDCHECKBUILD BIN
casper 2.26.0  (landing page)
David Rossell
Last Commit: 3de669e
Last Changed Date: 2021-05-19 11:57:16 -0400
nebbiolo1Linux (Ubuntu 20.04.2 LTS) / x86_64  OK    OK    WARNINGS  UNNEEDED, same version is already published
tokay2Windows Server 2012 R2 Standard / x64  OK    OK    WARNINGS    OK  UNNEEDED, same version is already published
machv2macOS 10.14.6 Mojave / x86_64  OK    OK    WARNINGS    OK  UNNEEDED, same version is already published
Package 24/177HostnameOS / ArchINSTALLBUILDCHECKBUILD BIN
cellbaseR 1.16.0  (landing page)
Mohammed OE Abdallah
Last Commit: 3bb8377
Last Changed Date: 2021-05-19 12:27:33 -0400
nebbiolo1Linux (Ubuntu 20.04.2 LTS) / x86_64  OK    OK    OK  UNNEEDED, same version is already published
tokay2Windows Server 2012 R2 Standard / x64  OK    OK    OK    OK  UNNEEDED, same version is already published
machv2macOS 10.14.6 Mojave / x86_64  OK    OK    OK    OK  UNNEEDED, same version is already published
Package 25/177HostnameOS / ArchINSTALLBUILDCHECKBUILD BIN
CexoR 1.30.0  (landing page)
Pedro Madrigal
Last Commit: f23e172
Last Changed Date: 2021-05-19 12:01:04 -0400
nebbiolo1Linux (Ubuntu 20.04.2 LTS) / x86_64  OK    ERROR  skipped
tokay2Windows Server 2012 R2 Standard / x64  OK    ERROR  skippedskipped
machv2macOS 10.14.6 Mojave / x86_64  OK    ERROR  skippedskipped
Package 26/177HostnameOS / ArchINSTALLBUILDCHECKBUILD BIN
ChIC 1.12.0  (landing page)
Carmen Maria Livi
Last Commit: 11f21c4
Last Changed Date: 2021-05-19 12:35:03 -0400
nebbiolo1Linux (Ubuntu 20.04.2 LTS) / x86_64  OK    OK    OK  UNNEEDED, same version is already published
tokay2Windows Server 2012 R2 Standard / x64... NOT SUPPORTED ...
machv2macOS 10.14.6 Mojave / x86_64  OK    OK    OK    OK  UNNEEDED, same version is already published
Package 27/177HostnameOS / ArchINSTALLBUILDCHECKBUILD BIN
chimeraviz 1.18.0  (landing page)
Stian Lågstad
Last Commit: bc2b277
Last Changed Date: 2021-05-19 12:24:46 -0400
nebbiolo1Linux (Ubuntu 20.04.2 LTS) / x86_64  OK    OK    OK  UNNEEDED, same version is already published
tokay2Windows Server 2012 R2 Standard / x64  OK    OK    OK    OK  UNNEEDED, same version is already published
machv2macOS 10.14.6 Mojave / x86_64  OK    OK    OK    OK  UNNEEDED, same version is already published
Package 28/177HostnameOS / ArchINSTALLBUILDCHECKBUILD BIN
ChIPComp 1.22.0  (landing page)
Li Chen
Last Commit: 2b6dc05
Last Changed Date: 2021-05-19 12:15:10 -0400
nebbiolo1Linux (Ubuntu 20.04.2 LTS) / x86_64  OK    OK    OK  UNNEEDED, same version is already published
tokay2Windows Server 2012 R2 Standard / x64  OK    OK    OK    OK  UNNEEDED, same version is already published
machv2macOS 10.14.6 Mojave / x86_64  OK    OK    OK    OK  UNNEEDED, same version is already published
Package 29/177HostnameOS / ArchINSTALLBUILDCHECKBUILD BIN
ChIPexoQual 1.16.0  (landing page)
Rene Welch
Last Commit: ed02199
Last Changed Date: 2021-05-19 12:25:27 -0400
nebbiolo1Linux (Ubuntu 20.04.2 LTS) / x86_64  OK    OK    OK  UNNEEDED, same version is already published
tokay2Windows Server 2012 R2 Standard / x64  OK    OK    OK    OK  UNNEEDED, same version is already published
machv2macOS 10.14.6 Mojave / x86_64  OK    OK    OK    OK  UNNEEDED, same version is already published
Package 30/177HostnameOS / ArchINSTALLBUILDCHECKBUILD BIN
ChIPpeakAnno 3.26.0  (landing page)
Jianhong Ou
Last Commit: 13852b2
Last Changed Date: 2021-05-19 11:43:39 -0400
nebbiolo1Linux (Ubuntu 20.04.2 LTS) / x86_64  OK    OK    OK  UNNEEDED, same version is already published
tokay2Windows Server 2012 R2 Standard / x64  OK    OK    OK    OK  UNNEEDED, same version is already published
machv2macOS 10.14.6 Mojave / x86_64  OK    OK    OK    OK  UNNEEDED, same version is already published
Package 31/177HostnameOS / ArchINSTALLBUILDCHECKBUILD BIN
ChIPQC 1.28.0  (landing page)
Tom Carroll , Rory Stark
Last Commit: 047a9a4
Last Changed Date: 2021-05-19 12:04:03 -0400
nebbiolo1Linux (Ubuntu 20.04.2 LTS) / x86_64  OK    OK    WARNINGS  UNNEEDED, same version is already published
tokay2Windows Server 2012 R2 Standard / x64  OK    OK    WARNINGS    OK  UNNEEDED, same version is already published
machv2macOS 10.14.6 Mojave / x86_64  OK    OK    WARNINGS    OK  UNNEEDED, same version is already published
Package 32/177HostnameOS / ArchINSTALLBUILDCHECKBUILD BIN
ChIPSeqSpike 1.12.0  (landing page)
Nicolas Descostes
Last Commit: 8b73542
Last Changed Date: 2021-05-19 12:33:09 -0400
nebbiolo1Linux (Ubuntu 20.04.2 LTS) / x86_64  OK    ERROR  skipped
tokay2Windows Server 2012 R2 Standard / x64  OK    OK    WARNINGS    OK  UNNEEDED, same version is already published
machv2macOS 10.14.6 Mojave / x86_64  OK    ERROR  skippedskipped
Package 33/177HostnameOS / ArchINSTALLBUILDCHECKBUILD BIN
ChromSCape 1.2.0  (landing page)
Pacome Prompsy
Last Commit: e0f2910
Last Changed Date: 2021-05-19 12:56:13 -0400
nebbiolo1Linux (Ubuntu 20.04.2 LTS) / x86_64  OK    OK    OK  UNNEEDED, same version is already published
tokay2Windows Server 2012 R2 Standard / x64  OK    OK    OK    OK  UNNEEDED, same version is already published
machv2macOS 10.14.6 Mojave / x86_64  OK    OK    OK    OK  UNNEEDED, same version is already published
Package 34/177HostnameOS / ArchINSTALLBUILDCHECKBUILD BIN
chromstaR 1.18.0  (landing page)
Aaron Taudt
Last Commit: 8f44dd4
Last Changed Date: 2021-05-19 12:21:16 -0400
nebbiolo1Linux (Ubuntu 20.04.2 LTS) / x86_64  OK    OK    OK  UNNEEDED, same version is already published
tokay2Windows Server 2012 R2 Standard / x64  OK    OK    OK    OK  UNNEEDED, same version is already published
machv2macOS 10.14.6 Mojave / x86_64  OK    OK    OK    OK  UNNEEDED, same version is already published
Package 35/177HostnameOS / ArchINSTALLBUILDCHECKBUILD BIN
chromVAR 1.14.0  (landing page)
Alicia Schep
Last Commit: 2dc5547
Last Changed Date: 2021-05-19 12:30:52 -0400
nebbiolo1Linux (Ubuntu 20.04.2 LTS) / x86_64  OK    OK    OK  UNNEEDED, same version is already published
tokay2Windows Server 2012 R2 Standard / x64  OK    OK    OK    OK  UNNEEDED, same version is already published
machv2macOS 10.14.6 Mojave / x86_64  OK    OK    OK    OK  UNNEEDED, same version is already published
Package 36/177HostnameOS / ArchINSTALLBUILDCHECKBUILD BIN
cn.mops 1.38.0  (landing page)
Gundula Povysil
Last Commit: c1ccf44
Last Changed Date: 2021-05-19 11:50:48 -0400
nebbiolo1Linux (Ubuntu 20.04.2 LTS) / x86_64  OK    OK    OK  UNNEEDED, same version is already published
tokay2Windows Server 2012 R2 Standard / x64  OK    OK    OK    OK  UNNEEDED, same version is already published
machv2macOS 10.14.6 Mojave / x86_64  OK    OK    OK    OK  UNNEEDED, same version is already published
Package 37/177HostnameOS / ArchINSTALLBUILDCHECKBUILD BIN
CNVfilteR 1.6.0  (landing page)
Jose Marcos Moreno-Cabrera
Last Commit: e854f65
Last Changed Date: 2021-05-19 12:46:51 -0400
nebbiolo1Linux (Ubuntu 20.04.2 LTS) / x86_64  OK    OK    OK  UNNEEDED, same version is already published
tokay2Windows Server 2012 R2 Standard / x64  OK    OK    OK    OK  UNNEEDED, same version is already published
machv2macOS 10.14.6 Mojave / x86_64  OK    OK    OK    OK  UNNEEDED, same version is already published
Package 38/177HostnameOS / ArchINSTALLBUILDCHECKBUILD BIN
CNVPanelizer 1.24.0  (landing page)
Thomas Wolf
Last Commit: b0dc959
Last Changed Date: 2021-05-19 12:14:20 -0400
nebbiolo1Linux (Ubuntu 20.04.2 LTS) / x86_64  OK    OK    OK  UNNEEDED, same version is already published
tokay2Windows Server 2012 R2 Standard / x64  OK    OK    OK    OK  UNNEEDED, same version is already published
machv2macOS 10.14.6 Mojave / x86_64  OK    OK    OK    OK  UNNEEDED, same version is already published
Package 39/177HostnameOS / ArchINSTALLBUILDCHECKBUILD BIN
CNVrd2 1.30.0  (landing page)
Hoang Tan Nguyen
Last Commit: 0a3ceac
Last Changed Date: 2021-05-19 12:01:50 -0400
nebbiolo1Linux (Ubuntu 20.04.2 LTS) / x86_64  OK    OK    OK  UNNEEDED, same version is already published
tokay2Windows Server 2012 R2 Standard / x64  OK    OK    OK    OK  UNNEEDED, same version is already published
machv2macOS 10.14.6 Mojave / x86_64  OK    OK    OK    OK  UNNEEDED, same version is already published
Package 40/177HostnameOS / ArchINSTALLBUILDCHECKBUILD BIN
CODEX 1.24.0  (landing page)
Yuchao Jiang
Last Commit: 0051ee2
Last Changed Date: 2021-05-19 12:10:21 -0400
nebbiolo1Linux (Ubuntu 20.04.2 LTS) / x86_64  OK    OK    OK  UNNEEDED, same version is already published
tokay2Windows Server 2012 R2 Standard / x64  OK    OK    OK    OK  UNNEEDED, same version is already published
machv2macOS 10.14.6 Mojave / x86_64  OK    OK    OK    OK  UNNEEDED, same version is already published
Package 41/177HostnameOS / ArchINSTALLBUILDCHECKBUILD BIN
compEpiTools 1.26.0  (landing page)
Kamal Kishore
Last Commit: cefdb04
Last Changed Date: 2021-05-19 12:06:54 -0400
nebbiolo1Linux (Ubuntu 20.04.2 LTS) / x86_64  OK    OK    OK  UNNEEDED, same version is already published
tokay2Windows Server 2012 R2 Standard / x64  OK    OK    OK    OK  UNNEEDED, same version is already published
machv2macOS 10.14.6 Mojave / x86_64  OK    OK    OK    OK  UNNEEDED, same version is already published
Package 42/177HostnameOS / ArchINSTALLBUILDCHECKBUILD BIN
consensusDE 1.10.0  (landing page)
Ashley J. Waardenberg
Last Commit: 1b434d7
Last Changed Date: 2021-05-19 12:39:09 -0400
nebbiolo1Linux (Ubuntu 20.04.2 LTS) / x86_64  OK    OK    OK  UNNEEDED, same version is already published
tokay2Windows Server 2012 R2 Standard / x64  OK    OK    OK    OK  UNNEEDED, same version is already published
machv2macOS 10.14.6 Mojave / x86_64  OK    OK    OK    OK  UNNEEDED, same version is already published
Package 43/177HostnameOS / ArchINSTALLBUILDCHECKBUILD BIN
contiBAIT 1.20.0  (landing page)
Kieran O'Neill
Last Commit: 42094e1
Last Changed Date: 2021-05-19 12:17:59 -0400
nebbiolo1Linux (Ubuntu 20.04.2 LTS) / x86_64  OK    OK    WARNINGS  UNNEEDED, same version is already published
tokay2Windows Server 2012 R2 Standard / x64  OK    OK    WARNINGS    OK  UNNEEDED, same version is already published
machv2macOS 10.14.6 Mojave / x86_64  OK    OK    WARNINGS    OK  UNNEEDED, same version is already published
Package 44/177HostnameOS / ArchINSTALLBUILDCHECKBUILD BIN
CopyNumberPlots 1.8.0  (landing page)
Bernat Gel
Last Commit: 474e67e
Last Changed Date: 2021-05-19 12:43:11 -0400
nebbiolo1Linux (Ubuntu 20.04.2 LTS) / x86_64  OK    OK    OK  UNNEEDED, same version is already published
tokay2Windows Server 2012 R2 Standard / x64  OK    OK    OK    OK  UNNEEDED, same version is already published
machv2macOS 10.14.6 Mojave / x86_64  OK    OK    OK    OK  UNNEEDED, same version is already published
Package 45/177HostnameOS / ArchINSTALLBUILDCHECKBUILD BIN
CopywriteR 2.24.0  (landing page)
Oscar Krijgsman
Last Commit: 5957876
Last Changed Date: 2021-05-19 12:12:51 -0400
nebbiolo1Linux (Ubuntu 20.04.2 LTS) / x86_64  OK    OK    OK  UNNEEDED, same version is already published
tokay2Windows Server 2012 R2 Standard / x64  OK    OK    OK    OK  UNNEEDED, same version is already published
machv2macOS 10.14.6 Mojave / x86_64  OK    OK    OK    OK  UNNEEDED, same version is already published
Package 46/177HostnameOS / ArchINSTALLBUILDCHECKBUILD BIN
CoverageView 1.30.0  (landing page)
Ernesto Lowy
Last Commit: f760e2e
Last Changed Date: 2021-05-19 12:04:24 -0400
nebbiolo1Linux (Ubuntu 20.04.2 LTS) / x86_64  OK    OK    WARNINGS  UNNEEDED, same version is already published
tokay2Windows Server 2012 R2 Standard / x64... NOT SUPPORTED ...
machv2macOS 10.14.6 Mojave / x86_64  OK    OK    WARNINGS    OK  UNNEEDED, same version is already published
Package 47/177HostnameOS / ArchINSTALLBUILDCHECKBUILD BIN
CrispRVariants 1.20.0  (landing page)
Helen Lindsay
Last Commit: 6789cce
Last Changed Date: 2021-05-19 12:17:13 -0400
nebbiolo1Linux (Ubuntu 20.04.2 LTS) / x86_64  OK    OK    WARNINGS  UNNEEDED, same version is already published
tokay2Windows Server 2012 R2 Standard / x64  OK    OK    WARNINGS    OK  UNNEEDED, same version is already published
machv2macOS 10.14.6 Mojave / x86_64  OK    OK    WARNINGS    OK  UNNEEDED, same version is already published
Package 48/177HostnameOS / ArchINSTALLBUILDCHECKBUILD BIN
csaw 1.26.0  (landing page)
Aaron Lun
Last Commit: d3850f3
Last Changed Date: 2021-05-19 12:08:51 -0400
nebbiolo1Linux (Ubuntu 20.04.2 LTS) / x86_64  OK    OK    OK  UNNEEDED, same version is already published
tokay2Windows Server 2012 R2 Standard / x64  OK    OK    OK    OK  UNNEEDED, same version is already published
machv2macOS 10.14.6 Mojave / x86_64  OK    OK    OK    OK  UNNEEDED, same version is already published
Package 49/177HostnameOS / ArchINSTALLBUILDCHECKBUILD BIN
CSSQ 1.4.0  (landing page)
Fan Lab at Georgia Institute of Technology
Last Commit: 83da16c
Last Changed Date: 2021-05-19 12:48:32 -0400
nebbiolo1Linux (Ubuntu 20.04.2 LTS) / x86_64  OK    OK    OK  UNNEEDED, same version is already published
tokay2Windows Server 2012 R2 Standard / x64  OK    OK    OK    OK  UNNEEDED, same version is already published
machv2macOS 10.14.6 Mojave / x86_64  OK    OK    OK    OK  UNNEEDED, same version is already published
Package 50/177HostnameOS / ArchINSTALLBUILDCHECKBUILD BIN
customProDB 1.32.0  (landing page)
Xiaojing Wang
Last Commit: 6c740d6
Last Changed Date: 2021-05-19 11:59:12 -0400
nebbiolo1Linux (Ubuntu 20.04.2 LTS) / x86_64  OK    OK    OK  UNNEEDED, same version is already published
tokay2Windows Server 2012 R2 Standard / x64  OK    OK    OK    OK  UNNEEDED, same version is already published
machv2macOS 10.14.6 Mojave / x86_64  OK    OK    OK    OK  UNNEEDED, same version is already published
Package 51/177HostnameOS / ArchINSTALLBUILDCHECKBUILD BIN
DAMEfinder 1.4.0  (landing page)
Stephany Orjuela
Last Commit: a0da475
Last Changed Date: 2021-05-19 12:49:06 -0400
nebbiolo1Linux (Ubuntu 20.04.2 LTS) / x86_64  OK    OK    OK  UNNEEDED, same version is already published
tokay2Windows Server 2012 R2 Standard / x64  OK    OK    OK    OK  UNNEEDED, same version is already published
machv2macOS 10.14.6 Mojave / x86_64  OK    OK    OK    OK  UNNEEDED, same version is already published
Package 52/177HostnameOS / ArchINSTALLBUILDCHECKBUILD BIN
DegNorm 1.2.0  (landing page)
Ji-Ping Wang
Last Commit: 4194859
Last Changed Date: 2021-05-19 12:52:58 -0400
nebbiolo1Linux (Ubuntu 20.04.2 LTS) / x86_64  OK    OK    OK  UNNEEDED, same version is already published
tokay2Windows Server 2012 R2 Standard / x64  OK    OK    OK    OK  UNNEEDED, same version is already published
machv2macOS 10.14.6 Mojave / x86_64  OK    OK    OK    OK  UNNEEDED, same version is already published
Package 53/177HostnameOS / ArchINSTALLBUILDCHECKBUILD BIN
derfinder 1.26.0  (landing page)
Leonardo Collado-Torres
Last Commit: 7fc343a
Last Changed Date: 2021-05-19 12:08:08 -0400
nebbiolo1Linux (Ubuntu 20.04.2 LTS) / x86_64  OK    OK    OK  UNNEEDED, same version is already published
tokay2Windows Server 2012 R2 Standard / x64  OK    OK    OK    OK  UNNEEDED, same version is already published
machv2macOS 10.14.6 Mojave / x86_64  OK    OK    OK    OK  UNNEEDED, same version is already published
Package 54/177HostnameOS / ArchINSTALLBUILDCHECKBUILD BIN
DEXSeq 1.38.0  (landing page)
Alejandro Reyes
Last Commit: 62dc651
Last Changed Date: 2021-05-19 11:48:55 -0400
nebbiolo1Linux (Ubuntu 20.04.2 LTS) / x86_64  OK    OK    OK  UNNEEDED, same version is already published
tokay2Windows Server 2012 R2 Standard / x64  OK    OK    OK    OK  UNNEEDED, same version is already published
machv2macOS 10.14.6 Mojave / x86_64  OK    OK    OK    OK  UNNEEDED, same version is already published
Package 55/177HostnameOS / ArchINSTALLBUILDCHECKBUILD BIN
DiffBind 3.2.2  (landing page)
Rory Stark
Last Commit: 25d1cb0
Last Changed Date: 2021-06-03 12:11:13 -0400
nebbiolo1Linux (Ubuntu 20.04.2 LTS) / x86_64  OK    OK    OK  UNNEEDED, same version is already published
tokay2Windows Server 2012 R2 Standard / x64  OK    OK    OK    OK  UNNEEDED, same version is already published
machv2macOS 10.14.6 Mojave / x86_64  OK    OK    OK    OK  UNNEEDED, same version is already published
Package 56/177HostnameOS / ArchINSTALLBUILDCHECKBUILD BIN
diffHic 1.24.0  (landing page)
Aaron Lun
Last Commit: 2af8e05
Last Changed Date: 2021-05-19 12:13:21 -0400
nebbiolo1Linux (Ubuntu 20.04.2 LTS) / x86_64  OK    OK    OK  UNNEEDED, same version is already published
tokay2Windows Server 2012 R2 Standard / x64  OK    OK    OK    OK  UNNEEDED, same version is already published
machv2macOS 10.14.6 Mojave / x86_64  OK    OK    OK    OK  UNNEEDED, same version is already published
Package 57/177HostnameOS / ArchINSTALLBUILDCHECKBUILD BIN
easyRNASeq 2.28.0  (landing page)
Nicolas Delhomme
Last Commit: 6d18522
Last Changed Date: 2021-05-19 11:51:10 -0400
nebbiolo1Linux (Ubuntu 20.04.2 LTS) / x86_64  OK    OK    OK  UNNEEDED, same version is already published
tokay2Windows Server 2012 R2 Standard / x64  OK    OK    OK    OK  UNNEEDED, same version is already published
machv2macOS 10.14.6 Mojave / x86_64  OK    OK    OK    OK  UNNEEDED, same version is already published
Package 58/177HostnameOS / ArchINSTALLBUILDCHECKBUILD BIN
EDASeq 2.26.0  (landing page)
Davide Risso
Last Commit: 90e8669
Last Changed Date: 2021-05-19 11:49:53 -0400
nebbiolo1Linux (Ubuntu 20.04.2 LTS) / x86_64  OK    OK    OK  UNNEEDED, same version is already published
tokay2Windows Server 2012 R2 Standard / x64  OK    OK    OK    OK  UNNEEDED, same version is already published
machv2macOS 10.14.6 Mojave / x86_64  OK    OK    OK    OK  UNNEEDED, same version is already published
Package 59/177HostnameOS / ArchINSTALLBUILDCHECKBUILD BIN
ensembldb 2.16.0  (landing page)
Johannes Rainer
Last Commit: 1b35d58
Last Changed Date: 2021-05-19 12:12:09 -0400
nebbiolo1Linux (Ubuntu 20.04.2 LTS) / x86_64  OK    OK    OK  UNNEEDED, same version is already published
tokay2Windows Server 2012 R2 Standard / x64  OK    OK    OK    OK  UNNEEDED, same version is already published
machv2macOS 10.14.6 Mojave / x86_64  OK    OK    OK    OK  UNNEEDED, same version is already published
Package 60/177HostnameOS / ArchINSTALLBUILDCHECKBUILD BIN
epialleleR 1.0.0  (landing page)
Oleksii Nikolaienko
Last Commit: b01940d
Last Changed Date: 2021-05-19 13:03:23 -0400
nebbiolo1Linux (Ubuntu 20.04.2 LTS) / x86_64  OK    OK    WARNINGS  UNNEEDED, same version is already published
tokay2Windows Server 2012 R2 Standard / x64  OK    OK    WARNINGS    OK  UNNEEDED, same version is already published
machv2macOS 10.14.6 Mojave / x86_64  OK    OK    OK    OK  UNNEEDED, same version is already published
Package 61/177HostnameOS / ArchINSTALLBUILDCHECKBUILD BIN
epigenomix 1.32.0  (landing page)
Hans-Ulrich Klein
Last Commit: dc1b2d5
Last Changed Date: 2021-05-19 11:57:59 -0400
nebbiolo1Linux (Ubuntu 20.04.2 LTS) / x86_64  OK    OK    OK  UNNEEDED, same version is already published
tokay2Windows Server 2012 R2 Standard / x64  OK    OK    OK    OK  UNNEEDED, same version is already published
machv2macOS 10.14.6 Mojave / x86_64  OK    OK    OK    OK  UNNEEDED, same version is already published
Package 62/177HostnameOS / ArchINSTALLBUILDCHECKBUILD BIN
epigraHMM 1.0.1  (landing page)
Pedro Baldoni
Last Commit: 420d6a5
Last Changed Date: 2021-05-25 17:19:14 -0400
nebbiolo1Linux (Ubuntu 20.04.2 LTS) / x86_64  OK    OK    OK  UNNEEDED, same version is already published
tokay2Windows Server 2012 R2 Standard / x64  OK    OK    OK    OK  UNNEEDED, same version is already published
machv2macOS 10.14.6 Mojave / x86_64  OK    OK    OK    OK  UNNEEDED, same version is already published
Package 63/177HostnameOS / ArchINSTALLBUILDCHECKBUILD BIN
esATAC 1.14.0  (landing page)
Zheng Wei
Last Commit: 2939dd0
Last Changed Date: 2021-05-19 12:31:59 -0400
nebbiolo1Linux (Ubuntu 20.04.2 LTS) / x86_64  OK    OK    WARNINGS  UNNEEDED, same version is already published
tokay2Windows Server 2012 R2 Standard / x64  OK    OK    WARNINGS    OK  UNNEEDED, same version is already published
machv2macOS 10.14.6 Mojave / x86_64  OK    OK    WARNINGS    OK  UNNEEDED, same version is already published
Package 64/177HostnameOS / ArchINSTALLBUILDCHECKBUILD BIN
eudysbiome 1.22.0  (landing page)
Xiaoyuan Zhou
Last Commit: 2309739
Last Changed Date: 2021-05-19 12:14:56 -0400
nebbiolo1Linux (Ubuntu 20.04.2 LTS) / x86_64  OK    OK    OK  UNNEEDED, same version is already published
tokay2Windows Server 2012 R2 Standard / x64  OK    OK    OK    OK  UNNEEDED, same version is already published
machv2macOS 10.14.6 Mojave / x86_64  OK    OK    OK    OK  UNNEEDED, same version is already published
Package 65/177HostnameOS / ArchINSTALLBUILDCHECKBUILD BIN
exomeCopy 1.38.0  (landing page)
Michael Love
Last Commit: 4f9c531
Last Changed Date: 2021-05-19 11:50:34 -0400
nebbiolo1Linux (Ubuntu 20.04.2 LTS) / x86_64  OK    OK    OK  UNNEEDED, same version is already published
tokay2Windows Server 2012 R2 Standard / x64  OK    OK    OK    OK  UNNEEDED, same version is already published
machv2macOS 10.14.6 Mojave / x86_64  OK    OK    OK    OK  UNNEEDED, same version is already published
Package 66/177HostnameOS / ArchINSTALLBUILDCHECKBUILD BIN
exomePeak2 1.4.0  (landing page)
Zhen Wei
Last Commit: 9862810
Last Changed Date: 2021-05-19 12:49:57 -0400
nebbiolo1Linux (Ubuntu 20.04.2 LTS) / x86_64  OK    OK    WARNINGS  UNNEEDED, same version is already published
tokay2Windows Server 2012 R2 Standard / x64  OK    OK    WARNINGS    OK  UNNEEDED, same version is already published
machv2macOS 10.14.6 Mojave / x86_64  OK    OK    WARNINGS    OK  UNNEEDED, same version is already published
Package 67/177HostnameOS / ArchINSTALLBUILDCHECKBUILD BIN
FilterFFPE 1.2.0  (landing page)
Lanying Wei
Last Commit: 567bb26
Last Changed Date: 2021-05-19 12:55:31 -0400
nebbiolo1Linux (Ubuntu 20.04.2 LTS) / x86_64  OK    OK    OK  UNNEEDED, same version is already published
tokay2Windows Server 2012 R2 Standard / x64  OK    OK    OK    OK  UNNEEDED, same version is already published
machv2macOS 10.14.6 Mojave / x86_64  OK    OK    OK    OK  UNNEEDED, same version is already published
Package 68/177HostnameOS / ArchINSTALLBUILDCHECKBUILD BIN
FRASER 1.4.0  (landing page)
Christian Mertes
Last Commit: 926f313
Last Changed Date: 2021-05-19 12:51:54 -0400
nebbiolo1Linux (Ubuntu 20.04.2 LTS) / x86_64  OK    OK    OK  UNNEEDED, same version is already published
tokay2Windows Server 2012 R2 Standard / x64  OK    OK    OK    OK  UNNEEDED, same version is already published
machv2macOS 10.14.6 Mojave / x86_64  OK    OK    OK    OK  UNNEEDED, same version is already published
Package 69/177HostnameOS / ArchINSTALLBUILDCHECKBUILD BIN
FunChIP 1.18.0  (landing page)
Alice Parodi
Last Commit: 4981a2b
Last Changed Date: 2021-05-19 12:20:50 -0400
nebbiolo1Linux (Ubuntu 20.04.2 LTS) / x86_64  OK    OK    WARNINGS  UNNEEDED, same version is already published
tokay2Windows Server 2012 R2 Standard / x64  OK    OK    WARNINGS    OK  UNNEEDED, same version is already published
machv2macOS 10.14.6 Mojave / x86_64  OK    OK    WARNINGS    OK  UNNEEDED, same version is already published
Package 70/177HostnameOS / ArchINSTALLBUILDCHECKBUILD BIN
gcapc 1.16.0  (landing page)
Mingxiang Teng
Last Commit: 38a05b9
Last Changed Date: 2021-05-19 12:24:48 -0400
nebbiolo1Linux (Ubuntu 20.04.2 LTS) / x86_64  OK    OK    OK  UNNEEDED, same version is already published
tokay2Windows Server 2012 R2 Standard / x64  OK    OK    OK    OK  UNNEEDED, same version is already published
machv2macOS 10.14.6 Mojave / x86_64  OK    OK    OK    OK  UNNEEDED, same version is already published
Package 71/177HostnameOS / ArchINSTALLBUILDCHECKBUILD BIN
GeneGeneInteR 1.18.0  (landing page)
Mathieu Emily
Last Commit: c3d7539
Last Changed Date: 2021-05-19 12:21:57 -0400
nebbiolo1Linux (Ubuntu 20.04.2 LTS) / x86_64  OK    OK    OK  UNNEEDED, same version is already published
tokay2Windows Server 2012 R2 Standard / x64  OK    OK    OK    OK  UNNEEDED, same version is already published
machv2macOS 10.14.6 Mojave / x86_64  OK    OK    OK    OK  UNNEEDED, same version is already published
Package 72/177HostnameOS / ArchINSTALLBUILDCHECKBUILD BIN
GenoGAM 2.10.0  (landing page)
Georg Stricker
Last Commit: 3b86b0c
Last Changed Date: 2021-05-19 12:19:19 -0400
nebbiolo1Linux (Ubuntu 20.04.2 LTS) / x86_64  OK    OK    WARNINGS  UNNEEDED, same version is already published
tokay2Windows Server 2012 R2 Standard / x64  OK    OK    WARNINGS    OK  UNNEEDED, same version is already published
machv2macOS 10.14.6 Mojave / x86_64  OK    OK    WARNINGS    OK  UNNEEDED, same version is already published
Package 73/177HostnameOS / ArchINSTALLBUILDCHECKBUILD BIN
genomation 1.24.0  (landing page)
Altuna Akalin , Vedran Franke
Last Commit: 94f0278
Last Changed Date: 2021-05-19 12:09:55 -0400
nebbiolo1Linux (Ubuntu 20.04.2 LTS) / x86_64  OK    OK    WARNINGS  UNNEEDED, same version is already published
tokay2Windows Server 2012 R2 Standard / x64  OK    OK    WARNINGS    OK  UNNEEDED, same version is already published
machv2macOS 10.14.6 Mojave / x86_64  OK    OK    WARNINGS    OK  UNNEEDED, same version is already published
Package 74/177HostnameOS / ArchINSTALLBUILDCHECKBUILD BIN
GenomicAlignments 1.28.0  (landing page)
Bioconductor Package Maintainer
Last Commit: e755dc1
Last Changed Date: 2021-05-19 12:01:53 -0400
nebbiolo1Linux (Ubuntu 20.04.2 LTS) / x86_64  OK    OK    OK  UNNEEDED, same version is already published
tokay2Windows Server 2012 R2 Standard / x64  OK    OK    OK    OK  UNNEEDED, same version is already published
machv2macOS 10.14.6 Mojave / x86_64  OK    OK    OK    OK  UNNEEDED, same version is already published
Package 75/177HostnameOS / ArchINSTALLBUILDCHECKBUILD BIN
GenomicFiles 1.28.0  (landing page)
Bioconductor Package Maintainer
Last Commit: b7b64cb
Last Changed Date: 2021-05-19 12:04:46 -0400
nebbiolo1Linux (Ubuntu 20.04.2 LTS) / x86_64  OK    OK    OK  UNNEEDED, same version is already published
tokay2Windows Server 2012 R2 Standard / x64  OK    OK    OK    OK  UNNEEDED, same version is already published
machv2macOS 10.14.6 Mojave / x86_64  OK    OK    OK    OK  UNNEEDED, same version is already published
Package 76/177HostnameOS / ArchINSTALLBUILDCHECKBUILD BIN
GenomicInteractions 1.26.0  (landing page)
Liz Ing-Simmons
Last Commit: 54f6f7e
Last Changed Date: 2021-05-19 12:07:53 -0400
nebbiolo1Linux (Ubuntu 20.04.2 LTS) / x86_64  OK    OK    OK  UNNEEDED, same version is already published
tokay2Windows Server 2012 R2 Standard / x64  OK    OK    OK    OK  UNNEEDED, same version is already published
machv2macOS 10.14.6 Mojave / x86_64  OK    OK    OK    OK  UNNEEDED, same version is already published
Package 77/177HostnameOS / ArchINSTALLBUILDCHECKBUILD BIN
GenVisR 1.24.0  (landing page)
Zachary Skidmore
Last Commit: 3b6abcf
Last Changed Date: 2021-05-19 12:17:38 -0400
nebbiolo1Linux (Ubuntu 20.04.2 LTS) / x86_64  OK    OK    OK  UNNEEDED, same version is already published
tokay2Windows Server 2012 R2 Standard / x64  OK    OK    OK    OK  UNNEEDED, same version is already published
machv2macOS 10.14.6 Mojave / x86_64  OK    OK    OK    OK  UNNEEDED, same version is already published
Package 78/177HostnameOS / ArchINSTALLBUILDCHECKBUILD BIN
ggbio 1.40.0  (landing page)
Michael Lawrence
Last Commit: c084632
Last Changed Date: 2021-05-19 11:50:29 -0400
nebbiolo1Linux (Ubuntu 20.04.2 LTS) / x86_64  OK    OK    WARNINGS  UNNEEDED, same version is already published
tokay2Windows Server 2012 R2 Standard / x64  OK    OK    WARNINGS    OK  UNNEEDED, same version is already published
machv2macOS 10.14.6 Mojave / x86_64  OK    OK    WARNINGS    OK  UNNEEDED, same version is already published
Package 79/177HostnameOS / ArchINSTALLBUILDCHECKBUILD BIN
girafe 1.44.0  (landing page)
J. Toedling
Last Commit: e753ae6
Last Changed Date: 2021-05-19 11:45:04 -0400
nebbiolo1Linux (Ubuntu 20.04.2 LTS) / x86_64  OK    OK    OK  UNNEEDED, same version is already published
tokay2Windows Server 2012 R2 Standard / x64  OK    OK    OK    OK  UNNEEDED, same version is already published
machv2macOS 10.14.6 Mojave / x86_64  OK    OK    OK    OK  UNNEEDED, same version is already published
Package 80/177HostnameOS / ArchINSTALLBUILDCHECKBUILD BIN
gmapR 1.34.0  (landing page)
Michael Lawrence
Last Commit: 3262a4e
Last Changed Date: 2021-05-19 11:53:08 -0400
nebbiolo1Linux (Ubuntu 20.04.2 LTS) / x86_64  OK    OK    WARNINGS  UNNEEDED, same version is already published
tokay2Windows Server 2012 R2 Standard / x64... NOT SUPPORTED ...
machv2macOS 10.14.6 Mojave / x86_64  OK    OK    WARNINGS    OK  UNNEEDED, same version is already published
Package 81/177HostnameOS / ArchINSTALLBUILDCHECKBUILD BIN
gmoviz 1.4.0  (landing page)
Kathleen Zeglinski
Last Commit: 8eb5807
Last Changed Date: 2021-05-19 12:50:37 -0400
nebbiolo1Linux (Ubuntu 20.04.2 LTS) / x86_64  OK    OK    OK  UNNEEDED, same version is already published
tokay2Windows Server 2012 R2 Standard / x64  OK    OK    OK    OK  UNNEEDED, same version is already published
machv2macOS 10.14.6 Mojave / x86_64  OK    OK    OK    OK  UNNEEDED, same version is already published
Package 82/177HostnameOS / ArchINSTALLBUILDCHECKBUILD BIN
GOTHiC 1.28.0  (landing page)
Borbala Mifsud
Last Commit: 4898bfc
Last Changed Date: 2021-05-19 12:44:42 -0400
nebbiolo1Linux (Ubuntu 20.04.2 LTS) / x86_64  OK    OK    OK  UNNEEDED, same version is already published
tokay2Windows Server 2012 R2 Standard / x64  OK    OK    OK    OK  UNNEEDED, same version is already published
machv2macOS 10.14.6 Mojave / x86_64  OK    OK    OK    OK  UNNEEDED, same version is already published
Package 83/177HostnameOS / ArchINSTALLBUILDCHECKBUILD BIN
GreyListChIP 1.24.0  (landing page)
Gordon Brown
Last Commit: 2a86668
Last Changed Date: 2021-05-19 12:10:56 -0400
nebbiolo1Linux (Ubuntu 20.04.2 LTS) / x86_64  OK    OK    OK  UNNEEDED, same version is already published
tokay2Windows Server 2012 R2 Standard / x64  OK    OK    OK    OK  UNNEEDED, same version is already published
machv2macOS 10.14.6 Mojave / x86_64  OK    OK    OK    OK  UNNEEDED, same version is already published
Package 84/177HostnameOS / ArchINSTALLBUILDCHECKBUILD BIN
GUIDEseq 1.22.0  (landing page)
Lihua Julie Zhu
Last Commit: d6c83e7
Last Changed Date: 2021-05-19 12:16:19 -0400
nebbiolo1Linux (Ubuntu 20.04.2 LTS) / x86_64  OK    OK    OK  UNNEEDED, same version is already published
tokay2Windows Server 2012 R2 Standard / x64  OK    OK    OK    OK  UNNEEDED, same version is already published
machv2macOS 10.14.6 Mojave / x86_64  OK    OK    OK    OK  UNNEEDED, same version is already published
Package 85/177HostnameOS / ArchINSTALLBUILDCHECKBUILD BIN
Gviz 1.36.1  (landing page)
Robert Ivanek
Last Commit: 8745800
Last Changed Date: 2021-05-29 17:11:37 -0400
nebbiolo1Linux (Ubuntu 20.04.2 LTS) / x86_64  OK    OK    OK  UNNEEDED, same version is already published
tokay2Windows Server 2012 R2 Standard / x64  OK    OK    OK    OK  UNNEEDED, same version is already published
machv2macOS 10.14.6 Mojave / x86_64  OK    OK    OK    OK  UNNEEDED, same version is already published
Package 86/177HostnameOS / ArchINSTALLBUILDCHECKBUILD BIN
h5vc 2.26.1  (landing page)
Paul Theodor Pyl
Last Commit: 95d3f8b
Last Changed Date: 2021-05-21 16:31:59 -0400
nebbiolo1Linux (Ubuntu 20.04.2 LTS) / x86_64  OK    OK    WARNINGS  UNNEEDED, same version is already published
tokay2Windows Server 2012 R2 Standard / x64  OK    OK    WARNINGS    OK  UNNEEDED, same version is already published
machv2macOS 10.14.6 Mojave / x86_64  OK    OK    WARNINGS    OK  UNNEEDED, same version is already published
Package 87/177HostnameOS / ArchINSTALLBUILDCHECKBUILD BIN
HelloRanges 1.18.0  (landing page)
Michael Lawrence
Last Commit: e9067d1
Last Changed Date: 2021-05-19 12:23:56 -0400
nebbiolo1Linux (Ubuntu 20.04.2 LTS) / x86_64  OK    OK    WARNINGS  UNNEEDED, same version is already published
tokay2Windows Server 2012 R2 Standard / x64  OK    OK    WARNINGS    OK  UNNEEDED, same version is already published
machv2macOS 10.14.6 Mojave / x86_64  OK    OK    WARNINGS    OK  UNNEEDED, same version is already published
Package 88/177HostnameOS / ArchINSTALLBUILDCHECKBUILD BIN
HTSeqGenie 4.22.0  (landing page)
Jens Reeder
Last Commit: ddd1eb5
Last Changed Date: 2021-05-19 11:54:22 -0400
nebbiolo1Linux (Ubuntu 20.04.2 LTS) / x86_64  OK    OK    OK  UNNEEDED, same version is already published
tokay2Windows Server 2012 R2 Standard / x64... NOT SUPPORTED ...
machv2macOS 10.14.6 Mojave / x86_64... NOT SUPPORTED ...
Package 89/177HostnameOS / ArchINSTALLBUILDCHECKBUILD BIN
icetea 1.10.0  (landing page)
Vivek Bhardwaj
Last Commit: b536bec
Last Changed Date: 2021-05-19 12:36:20 -0400
nebbiolo1Linux (Ubuntu 20.04.2 LTS) / x86_64  OK    OK    OK  UNNEEDED, same version is already published
tokay2Windows Server 2012 R2 Standard / x64  OK    OK    OK    OK  UNNEEDED, same version is already published
machv2macOS 10.14.6 Mojave / x86_64  OK    OK    OK    OK  UNNEEDED, same version is already published
Package 90/177HostnameOS / ArchINSTALLBUILDCHECKBUILD BIN
IMAS 1.16.0  (landing page)
Seonggyun Han
Last Commit: b45a2cb
Last Changed Date: 2021-05-19 12:27:18 -0400
nebbiolo1Linux (Ubuntu 20.04.2 LTS) / x86_64  OK    OK    OK  UNNEEDED, same version is already published
tokay2Windows Server 2012 R2 Standard / x64  OK    OK    OK    OK  UNNEEDED, same version is already published
machv2macOS 10.14.6 Mojave / x86_64  OK    OK    OK    OK  UNNEEDED, same version is already published
Package 91/177HostnameOS / ArchINSTALLBUILDCHECKBUILD BIN
INSPEcT 1.22.0  (landing page)
Stefano de Pretis
Last Commit: b877791
Last Changed Date: 2021-05-19 12:14:25 -0400
nebbiolo1Linux (Ubuntu 20.04.2 LTS) / x86_64  OK    OK    OK  UNNEEDED, same version is already published
tokay2Windows Server 2012 R2 Standard / x64  OK    OK    OK    OK  UNNEEDED, same version is already published
machv2macOS 10.14.6 Mojave / x86_64  OK    OK    OK    OK  UNNEEDED, same version is already published
Package 92/177HostnameOS / ArchINSTALLBUILDCHECKBUILD BIN
IntEREst 1.16.0  (landing page)
Ali Oghabian , Mikko Frilander
Last Commit: 4d75a7c
Last Changed Date: 2021-05-19 12:26:24 -0400
nebbiolo1Linux (Ubuntu 20.04.2 LTS) / x86_64  OK    OK    OK  UNNEEDED, same version is already published
tokay2Windows Server 2012 R2 Standard / x64  OK    OK    OK    OK  UNNEEDED, same version is already published
machv2macOS 10.14.6 Mojave / x86_64  OK    OK    OK    OK  UNNEEDED, same version is already published
Package 93/177HostnameOS / ArchINSTALLBUILDCHECKBUILD BIN
karyoploteR 1.18.0  (landing page)
Bernat Gel
Last Commit: 7dcb80b
Last Changed Date: 2021-05-19 12:25:36 -0400
nebbiolo1Linux (Ubuntu 20.04.2 LTS) / x86_64  OK    OK    OK  UNNEEDED, same version is already published
tokay2Windows Server 2012 R2 Standard / x64  OK    OK    OK    OK  UNNEEDED, same version is already published
machv2macOS 10.14.6 Mojave / x86_64  OK    OK    OK    OK  UNNEEDED, same version is already published
Package 94/177HostnameOS / ArchINSTALLBUILDCHECKBUILD BIN
ldblock 1.22.0  (landing page)
VJ Carey
Last Commit: 86439b2
Last Changed Date: 2021-05-19 12:15:17 -0400
nebbiolo1Linux (Ubuntu 20.04.2 LTS) / x86_64  OK    OK    OK  UNNEEDED, same version is already published
tokay2Windows Server 2012 R2 Standard / x64  OK    OK    OK    OK  UNNEEDED, same version is already published
machv2macOS 10.14.6 Mojave / x86_64  OK    OK    OK    OK  UNNEEDED, same version is already published
Package 95/177HostnameOS / ArchINSTALLBUILDCHECKBUILD BIN
MACPET 1.12.0  (landing page)
Ioannis Vardaxis
Last Commit: 2e34842
Last Changed Date: 2021-05-19 12:33:30 -0400
nebbiolo1Linux (Ubuntu 20.04.2 LTS) / x86_64  OK    OK    OK  UNNEEDED, same version is already published
tokay2Windows Server 2012 R2 Standard / x64  OK    OK    OK    OK  UNNEEDED, same version is already published
machv2macOS 10.14.6 Mojave / x86_64  OK    OK    OK    OK  UNNEEDED, same version is already published
Package 96/177HostnameOS / ArchINSTALLBUILDCHECKBUILD BIN
MADSEQ 1.18.0  (landing page)
Yu Kong
Last Commit: 64cfc9c
Last Changed Date: 2021-05-19 12:20:58 -0400
nebbiolo1Linux (Ubuntu 20.04.2 LTS) / x86_64  OK    OK    OK  UNNEEDED, same version is already published
tokay2Windows Server 2012 R2 Standard / x64  OK    OK    OK    OK  UNNEEDED, same version is already published
machv2macOS 10.14.6 Mojave / x86_64  OK    OK    OK    OK  UNNEEDED, same version is already published
Package 97/177HostnameOS / ArchINSTALLBUILDCHECKBUILD BIN
MDTS 1.12.0  (landing page)
Jack M.. Fu
Last Commit: e0ad157
Last Changed Date: 2021-05-19 12:33:55 -0400
nebbiolo1Linux (Ubuntu 20.04.2 LTS) / x86_64  OK    OK    OK  UNNEEDED, same version is already published
tokay2Windows Server 2012 R2 Standard / x64  OK    OK    OK    OK  UNNEEDED, same version is already published
machv2macOS 10.14.6 Mojave / x86_64  OK    OK    OK    OK  UNNEEDED, same version is already published
Package 98/177HostnameOS / ArchINSTALLBUILDCHECKBUILD BIN
MEDIPS 1.44.0  (landing page)
Lukas Chavez
Last Commit: 4df0aee
Last Changed Date: 2021-05-19 11:46:46 -0400
nebbiolo1Linux (Ubuntu 20.04.2 LTS) / x86_64  OK    OK    OK  UNNEEDED, same version is already published
tokay2Windows Server 2012 R2 Standard / x64  OK    OK    OK    OK  UNNEEDED, same version is already published
machv2macOS 10.14.6 Mojave / x86_64  OK    OK    OK    OK  UNNEEDED, same version is already published
Package 99/177HostnameOS / ArchINSTALLBUILDCHECKBUILD BIN
metagene 2.24.0  (landing page)
Charles Joly Beauparlant
Last Commit: f85b3d4
Last Changed Date: 2021-05-19 12:06:34 -0400
nebbiolo1Linux (Ubuntu 20.04.2 LTS) / x86_64  OK    OK    OK  UNNEEDED, same version is already published
tokay2Windows Server 2012 R2 Standard / x64  OK    OK    OK    OK  UNNEEDED, same version is already published
machv2macOS 10.14.6 Mojave / x86_64  OK    OK    OK    OK  UNNEEDED, same version is already published
Package 100/177HostnameOS / ArchINSTALLBUILDCHECKBUILD BIN
metagene2 1.8.0  (landing page)
Eric Fournier
Last Commit: d29879c
Last Changed Date: 2021-05-19 12:43:35 -0400
nebbiolo1Linux (Ubuntu 20.04.2 LTS) / x86_64  OK    OK    OK  UNNEEDED, same version is already published
tokay2Windows Server 2012 R2 Standard / x64  OK    OK    OK    OK  UNNEEDED, same version is already published
machv2macOS 10.14.6 Mojave / x86_64  OK    OK    OK    OK  UNNEEDED, same version is already published
Package 101/177HostnameOS / ArchINSTALLBUILDCHECKBUILD BIN
metaseqR2 1.4.0  (landing page)
Panagiotis Moulos
Last Commit: c9bb1dc
Last Changed Date: 2021-05-19 12:52:20 -0400
nebbiolo1Linux (Ubuntu 20.04.2 LTS) / x86_64  OK    OK    OK  UNNEEDED, same version is already published
tokay2Windows Server 2012 R2 Standard / x64  OK    OK    OK    OK  UNNEEDED, same version is already published
machv2macOS 10.14.6 Mojave / x86_64  OK    OK    OK    OK  UNNEEDED, same version is already published
Package 102/177HostnameOS / ArchINSTALLBUILDCHECKBUILD BIN
methylKit 1.18.0  (landing page)
Altuna Akalin , Alexander Gosdschan
Last Commit: 8fef778
Last Changed Date: 2021-05-19 12:21:44 -0400
nebbiolo1Linux (Ubuntu 20.04.2 LTS) / x86_64  OK    OK    WARNINGS  UNNEEDED, same version is already published
tokay2Windows Server 2012 R2 Standard / x64  OK    OK    WARNINGS    OK  UNNEEDED, same version is already published
machv2macOS 10.14.6 Mojave / x86_64  OK    OK    WARNINGS    OK  UNNEEDED, same version is already published
Package 103/177HostnameOS / ArchINSTALLBUILDCHECKBUILD BIN
methylPipe 1.26.0  (landing page)
Kamal Kishore
Last Commit: ca8dade
Last Changed Date: 2021-05-19 12:07:06 -0400
nebbiolo1Linux (Ubuntu 20.04.2 LTS) / x86_64  OK    OK    WARNINGS  UNNEEDED, same version is already published
tokay2Windows Server 2012 R2 Standard / x64  OK    OK    WARNINGS    OK  UNNEEDED, same version is already published
machv2macOS 10.14.6 Mojave / x86_64  OK    OK    WARNINGS    OK  UNNEEDED, same version is already published
Package 104/177HostnameOS / ArchINSTALLBUILDCHECKBUILD BIN
MMAPPR2 1.6.0  (landing page)
Jonathon Hill
Last Commit: 7c16b5e
Last Changed Date: 2021-05-19 12:44:29 -0400
nebbiolo1Linux (Ubuntu 20.04.2 LTS) / x86_64  OK    OK    OK  UNNEEDED, same version is already published
tokay2Windows Server 2012 R2 Standard / x64... NOT SUPPORTED ...
machv2macOS 10.14.6 Mojave / x86_64  OK    OK    OK    OK  UNNEEDED, same version is already published
Package 105/177HostnameOS / ArchINSTALLBUILDCHECKBUILD BIN
MMDiff2 1.20.0  (landing page)
Gabriele Schweikert
Last Commit: d1abce8
Last Changed Date: 2021-05-19 12:20:25 -0400
nebbiolo1Linux (Ubuntu 20.04.2 LTS) / x86_64  OK    OK    OK  UNNEEDED, same version is already published
tokay2Windows Server 2012 R2 Standard / x64  OK    OK    WARNINGS    OK  UNNEEDED, same version is already published
machv2macOS 10.14.6 Mojave / x86_64  OK    OK    OK    OK  UNNEEDED, same version is already published
Package 106/177HostnameOS / ArchINSTALLBUILDCHECKBUILD BIN
mosaics 2.30.0  (landing page)
Dongjun Chung
Last Commit: d9cceee
Last Changed Date: 2021-05-19 11:47:19 -0400
nebbiolo1Linux (Ubuntu 20.04.2 LTS) / x86_64  OK    OK    OK  UNNEEDED, same version is already published
tokay2Windows Server 2012 R2 Standard / x64  OK    OK    OK    OK  UNNEEDED, same version is already published
machv2macOS 10.14.6 Mojave / x86_64  OK    OK    OK    OK  UNNEEDED, same version is already published
Package 107/177HostnameOS / ArchINSTALLBUILDCHECKBUILD BIN
motifmatchr 1.14.0  (landing page)
Alicia Schep
Last Commit: b395fda
Last Changed Date: 2021-05-19 12:28:12 -0400
nebbiolo1Linux (Ubuntu 20.04.2 LTS) / x86_64  OK    OK    OK  UNNEEDED, same version is already published
tokay2Windows Server 2012 R2 Standard / x64  OK    OK    OK    OK  UNNEEDED, same version is already published
machv2macOS 10.14.6 Mojave / x86_64  OK    OK    OK    OK  UNNEEDED, same version is already published
Package 108/177HostnameOS / ArchINSTALLBUILDCHECKBUILD BIN
msgbsR 1.16.0  (landing page)
Benjamin Mayne
Last Commit: eee8300
Last Changed Date: 2021-05-19 12:27:52 -0400
nebbiolo1Linux (Ubuntu 20.04.2 LTS) / x86_64  OK    OK    WARNINGS  UNNEEDED, same version is already published
tokay2Windows Server 2012 R2 Standard / x64  OK    OK    WARNINGS    OK  UNNEEDED, same version is already published
machv2macOS 10.14.6 Mojave / x86_64  OK    OK    WARNINGS    OK  UNNEEDED, same version is already published
Package 109/177HostnameOS / ArchINSTALLBUILDCHECKBUILD BIN
NADfinder 1.16.0  (landing page)
Jianhong Ou
Last Commit: e592a6b
Last Changed Date: 2021-05-19 12:26:57 -0400
nebbiolo1Linux (Ubuntu 20.04.2 LTS) / x86_64  OK    OK    OK  UNNEEDED, same version is already published
tokay2Windows Server 2012 R2 Standard / x64  OK    OK    OK    OK  UNNEEDED, same version is already published
machv2macOS 10.14.6 Mojave / x86_64  OK    OK    OK    OK  UNNEEDED, same version is already published
Package 110/177HostnameOS / ArchINSTALLBUILDCHECKBUILD BIN
NanoMethViz 1.2.0  (landing page)
Shian Su
Last Commit: 15c307c
Last Changed Date: 2021-05-19 12:57:23 -0400
nebbiolo1Linux (Ubuntu 20.04.2 LTS) / x86_64  OK    OK    OK  UNNEEDED, same version is already published
tokay2Windows Server 2012 R2 Standard / x64  OK    OK    OK    OK  UNNEEDED, same version is already published
machv2macOS 10.14.6 Mojave / x86_64  OK    OK    OK    OK  UNNEEDED, same version is already published
Package 111/177HostnameOS / ArchINSTALLBUILDCHECKBUILD BIN
nearBynding 1.2.0  (landing page)
Veronica Busa
Last Commit: cb38368
Last Changed Date: 2021-05-19 12:55:36 -0400
nebbiolo1Linux (Ubuntu 20.04.2 LTS) / x86_64  OK    OK    OK  UNNEEDED, same version is already published
tokay2Windows Server 2012 R2 Standard / x64  OK    OK    OK    OK  UNNEEDED, same version is already published
machv2macOS 10.14.6 Mojave / x86_64  OK    OK    OK    OK  UNNEEDED, same version is already published
Package 112/177HostnameOS / ArchINSTALLBUILDCHECKBUILD BIN
nucleR 2.24.0  (landing page)
Alba Sala
Last Commit: b7e30e8
Last Changed Date: 2021-05-19 11:49:18 -0400
nebbiolo1Linux (Ubuntu 20.04.2 LTS) / x86_64  OK    OK    WARNINGS  UNNEEDED, same version is already published
tokay2Windows Server 2012 R2 Standard / x64  OK    OK    WARNINGS    OK  UNNEEDED, same version is already published
machv2macOS 10.14.6 Mojave / x86_64  OK    OK    WARNINGS    OK  UNNEEDED, same version is already published
Package 113/177HostnameOS / ArchINSTALLBUILDCHECKBUILD BIN
ORFik 1.12.4  (landing page)
Haakon Tjeldnes
Last Commit: 0d2815b
Last Changed Date: 2021-06-11 10:13:43 -0400
nebbiolo1Linux (Ubuntu 20.04.2 LTS) / x86_64  OK    OK    OK  YES
tokay2Windows Server 2012 R2 Standard / x64  OK    OK    OK    OK  YES
machv2macOS 10.14.6 Mojave / x86_64  OK    OK    OK    OK  YES
Package 114/177HostnameOS / ArchINSTALLBUILDCHECKBUILD BIN
panelcn.mops 1.14.0  (landing page)
Gundula Povysil
Last Commit: 88ac1dc
Last Changed Date: 2021-05-19 12:30:31 -0400
nebbiolo1Linux (Ubuntu 20.04.2 LTS) / x86_64  OK    OK    OK  UNNEEDED, same version is already published
tokay2Windows Server 2012 R2 Standard / x64  OK    OK    OK    OK  UNNEEDED, same version is already published
machv2macOS 10.14.6 Mojave / x86_64  OK    OK    OK    OK  UNNEEDED, same version is already published
Package 115/177HostnameOS / ArchINSTALLBUILDCHECKBUILD BIN
PICS 2.36.0  (landing page)
Renan Sauteraud
Last Commit: 87607d0
Last Changed Date: 2021-05-19 11:45:20 -0400
nebbiolo1Linux (Ubuntu 20.04.2 LTS) / x86_64  OK    OK    OK  UNNEEDED, same version is already published
tokay2Windows Server 2012 R2 Standard / x64  OK    OK    OK    OK  UNNEEDED, same version is already published
machv2macOS 10.14.6 Mojave / x86_64  OK    OK    OK    OK  UNNEEDED, same version is already published
Package 116/177HostnameOS / ArchINSTALLBUILDCHECKBUILD BIN
plyranges 1.12.0  (landing page)
Stuart Lee
Last Commit: 1387b9c
Last Changed Date: 2021-05-19 12:34:37 -0400
nebbiolo1Linux (Ubuntu 20.04.2 LTS) / x86_64  OK    OK    OK  UNNEEDED, same version is already published
tokay2Windows Server 2012 R2 Standard / x64  OK    OK    OK    OK  UNNEEDED, same version is already published
machv2macOS 10.14.6 Mojave / x86_64  OK    OK    OK    OK  UNNEEDED, same version is already published
Package 117/177HostnameOS / ArchINSTALLBUILDCHECKBUILD BIN
podkat 1.24.0  (landing page)
Ulrich Bodenhofer
Last Commit: 01fa5e3
Last Changed Date: 2021-05-19 12:12:22 -0400
nebbiolo1Linux (Ubuntu 20.04.2 LTS) / x86_64  OK    OK    OK  UNNEEDED, same version is already published
tokay2Windows Server 2012 R2 Standard / x64  OK    OK    OK    OK  UNNEEDED, same version is already published
machv2macOS 10.14.6 Mojave / x86_64  OK    OK    OK    OK  UNNEEDED, same version is already published
Package 118/177HostnameOS / ArchINSTALLBUILDCHECKBUILD BIN
pram 1.8.0  (landing page)
Peng Liu
Last Commit: 3e967c2
Last Changed Date: 2021-05-19 12:41:41 -0400
nebbiolo1Linux (Ubuntu 20.04.2 LTS) / x86_64  OK    OK    OK  UNNEEDED, same version is already published
tokay2Windows Server 2012 R2 Standard / x64  OK    OK    OK    OK  UNNEEDED, same version is already published
machv2macOS 10.14.6 Mojave / x86_64  OK    OK    OK    OK  UNNEEDED, same version is already published
Package 119/177HostnameOS / ArchINSTALLBUILDCHECKBUILD BIN
PureCN 1.22.1  (landing page)
Markus Riester
Last Commit: 2ce3869
Last Changed Date: 2021-05-29 11:54:33 -0400
nebbiolo1Linux (Ubuntu 20.04.2 LTS) / x86_64  OK    OK    OK  UNNEEDED, same version is already published
tokay2Windows Server 2012 R2 Standard / x64  OK    OK    TIMEOUT    OK  
machv2macOS 10.14.6 Mojave / x86_64  OK    OK    OK    OK  UNNEEDED, same version is already published
Package 120/177HostnameOS / ArchINSTALLBUILDCHECKBUILD BIN
QDNAseq 1.28.0  (landing page)
Daoud Sie
Last Commit: 3ca285f
Last Changed Date: 2021-05-19 12:03:41 -0400
nebbiolo1Linux (Ubuntu 20.04.2 LTS) / x86_64  OK    OK    OK  UNNEEDED, same version is already published
tokay2Windows Server 2012 R2 Standard / x64  OK    OK    OK    OK  UNNEEDED, same version is already published
machv2macOS 10.14.6 Mojave / x86_64  OK    OK    OK    OK  UNNEEDED, same version is already published
Package 121/177HostnameOS / ArchINSTALLBUILDCHECKBUILD BIN
qsea 1.18.0  (landing page)
Matthias Lienhard
Last Commit: f23006b
Last Changed Date: 2021-05-19 12:21:24 -0400
nebbiolo1Linux (Ubuntu 20.04.2 LTS) / x86_64  OK    OK    OK  UNNEEDED, same version is already published
tokay2Windows Server 2012 R2 Standard / x64  OK    OK    OK    OK  UNNEEDED, same version is already published
machv2macOS 10.14.6 Mojave / x86_64  OK    OK    OK    OK  UNNEEDED, same version is already published
Package 122/177HostnameOS / ArchINSTALLBUILDCHECKBUILD BIN
QuasR 1.32.0  (landing page)
Michael Stadler
Last Commit: b24d275
Last Changed Date: 2021-05-19 11:55:11 -0400
nebbiolo1Linux (Ubuntu 20.04.2 LTS) / x86_64  OK    OK    OK  UNNEEDED, same version is already published
tokay2Windows Server 2012 R2 Standard / x64  OK    OK    OK    OK  UNNEEDED, same version is already published
machv2macOS 10.14.6 Mojave / x86_64  OK    OK    OK    OK  UNNEEDED, same version is already published
Package 123/177HostnameOS / ArchINSTALLBUILDCHECKBUILD BIN
r3Cseq 1.38.0  (landing page)
Supat Thongjuea or
Last Commit: f159c04
Last Changed Date: 2021-05-19 11:50:26 -0400
nebbiolo1Linux (Ubuntu 20.04.2 LTS) / x86_64  OK    OK    OK  UNNEEDED, same version is already published
tokay2Windows Server 2012 R2 Standard / x64  OK    OK    OK    OK  UNNEEDED, same version is already published
machv2macOS 10.14.6 Mojave / x86_64  OK    OK    OK    OK  UNNEEDED, same version is already published
Package 124/177HostnameOS / ArchINSTALLBUILDCHECKBUILD BIN
R453Plus1Toolbox 1.42.0  (landing page)
Hans-Ulrich Klein
Last Commit: 02482b8
Last Changed Date: 2021-05-19 11:46:40 -0400
nebbiolo1Linux (Ubuntu 20.04.2 LTS) / x86_64  OK    OK    OK  UNNEEDED, same version is already published
tokay2Windows Server 2012 R2 Standard / x64  OK    OK    OK    OK  UNNEEDED, same version is already published
machv2macOS 10.14.6 Mojave / x86_64  OK    OK    OK    OK  UNNEEDED, same version is already published
Package 125/177HostnameOS / ArchINSTALLBUILDCHECKBUILD BIN
ramwas 1.16.0  (landing page)
Andrey A Shabalin
Last Commit: 239ad35
Last Changed Date: 2021-05-19 12:24:59 -0400
nebbiolo1Linux (Ubuntu 20.04.2 LTS) / x86_64  OK    OK    OK  UNNEEDED, same version is already published
tokay2Windows Server 2012 R2 Standard / x64  OK    OK    OK    OK  UNNEEDED, same version is already published
machv2macOS 10.14.6 Mojave / x86_64  OK    OK    OK    OK  UNNEEDED, same version is already published
Package 126/177HostnameOS / ArchINSTALLBUILDCHECKBUILD BIN
Rcade 1.34.0  (landing page)
Jonathan Cairns
Last Commit: d311ac7
Last Changed Date: 2021-05-19 11:54:24 -0400
nebbiolo1Linux (Ubuntu 20.04.2 LTS) / x86_64  OK    OK    OK  UNNEEDED, same version is already published
tokay2Windows Server 2012 R2 Standard / x64  OK    OK    OK    OK  UNNEEDED, same version is already published
machv2macOS 10.14.6 Mojave / x86_64  OK    OK    OK    OK  UNNEEDED, same version is already published
Package 127/177HostnameOS / ArchINSTALLBUILDCHECKBUILD BIN
recoup 1.20.0  (landing page)
Panagiotis Moulos
Last Commit: 1b90812
Last Changed Date: 2021-05-19 12:19:08 -0400
nebbiolo1Linux (Ubuntu 20.04.2 LTS) / x86_64  OK    OK    OK  UNNEEDED, same version is already published
tokay2Windows Server 2012 R2 Standard / x64  OK    OK    OK    OK  UNNEEDED, same version is already published
machv2macOS 10.14.6 Mojave / x86_64  OK    OK    OK    OK  UNNEEDED, same version is already published
Package 128/177HostnameOS / ArchINSTALLBUILDCHECKBUILD BIN
Repitools 1.38.0  (landing page)
Mark Robinson
Last Commit: dc767d1
Last Changed Date: 2021-05-19 11:49:04 -0400
nebbiolo1Linux (Ubuntu 20.04.2 LTS) / x86_64  OK    OK    OK  UNNEEDED, same version is already published
tokay2Windows Server 2012 R2 Standard / x64  OK    OK    OK    OK  UNNEEDED, same version is already published
machv2macOS 10.14.6 Mojave / x86_64  OK    OK    OK    OK  UNNEEDED, same version is already published
Package 129/177HostnameOS / ArchINSTALLBUILDCHECKBUILD BIN
RepViz 1.8.0  (landing page)
Thomas Faux, Asta Laiho
Last Commit: 700aac6
Last Changed Date: 2021-05-19 12:42:56 -0400
nebbiolo1Linux (Ubuntu 20.04.2 LTS) / x86_64  OK    OK    WARNINGS  UNNEEDED, same version is already published
tokay2Windows Server 2012 R2 Standard / x64  OK    OK    WARNINGS    OK  UNNEEDED, same version is already published
machv2macOS 10.14.6 Mojave / x86_64  OK    OK    WARNINGS    OK  UNNEEDED, same version is already published
Package 130/177HostnameOS / ArchINSTALLBUILDCHECKBUILD BIN
ReQON 1.38.0  (landing page)
Christopher Cabanski
Last Commit: 01c27aa
Last Changed Date: 2021-05-19 11:50:37 -0400
nebbiolo1Linux (Ubuntu 20.04.2 LTS) / x86_64  OK    OK    OK  UNNEEDED, same version is already published
tokay2Windows Server 2012 R2 Standard / x64  OK    OK    OK    OK  UNNEEDED, same version is already published
machv2macOS 10.14.6 Mojave / x86_64  OK    OK    OK    OK  UNNEEDED, same version is already published
Package 131/177HostnameOS / ArchINSTALLBUILDCHECKBUILD BIN
rfPred 1.30.0  (landing page)
Hugo Varet
Last Commit: 1289b9d
Last Changed Date: 2021-05-19 11:59:56 -0400
nebbiolo1Linux (Ubuntu 20.04.2 LTS) / x86_64  OK    OK    OK  UNNEEDED, same version is already published
tokay2Windows Server 2012 R2 Standard / x64  OK    ERROR  skippedskipped
machv2macOS 10.14.6 Mojave / x86_64  OK    OK    OK    OK  UNNEEDED, same version is already published
Package 132/177HostnameOS / ArchINSTALLBUILDCHECKBUILD BIN
RiboDiPA 1.0.0  (landing page)
Ji-Ping Wang
Last Commit: a39b378
Last Changed Date: 2021-05-19 12:59:17 -0400
nebbiolo1Linux (Ubuntu 20.04.2 LTS) / x86_64  OK    OK    OK  UNNEEDED, same version is already published
tokay2Windows Server 2012 R2 Standard / x64  OK    OK    OK    OK  UNNEEDED, same version is already published
machv2macOS 10.14.6 Mojave / x86_64  OK    OK    OK    OK  UNNEEDED, same version is already published
Package 133/177HostnameOS / ArchINSTALLBUILDCHECKBUILD BIN
RiboProfiling 1.22.0  (landing page)
A. Popa
Last Commit: a315cdd
Last Changed Date: 2021-05-19 12:16:23 -0400
nebbiolo1Linux (Ubuntu 20.04.2 LTS) / x86_64  OK    OK    WARNINGS  UNNEEDED, same version is already published
tokay2Windows Server 2012 R2 Standard / x64  OK    OK    WARNINGS    OK  UNNEEDED, same version is already published
machv2macOS 10.14.6 Mojave / x86_64  OK    OK    WARNINGS    OK  UNNEEDED, same version is already published
Package 134/177HostnameOS / ArchINSTALLBUILDCHECKBUILD BIN
riboSeqR 1.26.0  (landing page)
Thomas J. Hardcastle
Last Commit: 8c2c4ed
Last Changed Date: 2021-05-19 12:05:43 -0400
nebbiolo1Linux (Ubuntu 20.04.2 LTS) / x86_64  OK    OK    OK  UNNEEDED, same version is already published
tokay2Windows Server 2012 R2 Standard / x64  OK    OK    OK    OK  UNNEEDED, same version is already published
machv2macOS 10.14.6 Mojave / x86_64  OK    OK    OK    OK  UNNEEDED, same version is already published
Package 135/177HostnameOS / ArchINSTALLBUILDCHECKBUILD BIN
ribosomeProfilingQC 1.4.0  (landing page)
Jianhong Ou
Last Commit: 482e0e7
Last Changed Date: 2021-05-19 12:49:46 -0400
nebbiolo1Linux (Ubuntu 20.04.2 LTS) / x86_64  OK    OK    OK  UNNEEDED, same version is already published
tokay2Windows Server 2012 R2 Standard / x64  OK    OK    OK    OK  UNNEEDED, same version is already published
machv2macOS 10.14.6 Mojave / x86_64  OK    OK    OK    OK  UNNEEDED, same version is already published
Package 136/177HostnameOS / ArchINSTALLBUILDCHECKBUILD BIN
RNAmodR 1.6.0  (landing page)
Felix G.M. Ernst
Last Commit: c7b25bf
Last Changed Date: 2021-05-19 12:44:18 -0400
nebbiolo1Linux (Ubuntu 20.04.2 LTS) / x86_64  OK    OK    OK  UNNEEDED, same version is already published
tokay2Windows Server 2012 R2 Standard / x64  OK    OK    OK    OK  UNNEEDED, same version is already published
machv2macOS 10.14.6 Mojave / x86_64  OK    OK    OK    OK  UNNEEDED, same version is already published
Package 137/177HostnameOS / ArchINSTALLBUILDCHECKBUILD BIN
RNAprobR 1.24.0  (landing page)
Nikos Sidiropoulos
Last Commit: 0fcd69f
Last Changed Date: 2021-05-19 12:11:50 -0400
nebbiolo1Linux (Ubuntu 20.04.2 LTS) / x86_64  OK    OK    ERROR  
tokay2Windows Server 2012 R2 Standard / x64  OK    OK    ERROR    OK  
machv2macOS 10.14.6 Mojave / x86_64  OK    OK    ERROR    OK  
Package 138/177HostnameOS / ArchINSTALLBUILDCHECKBUILD BIN
rnaSeqMap 2.50.0  (landing page)
Michal Okoniewski
Last Commit: bbda4b2
Last Changed Date: 2021-05-19 11:46:35 -0400
nebbiolo1Linux (Ubuntu 20.04.2 LTS) / x86_64  ERROR    ERROR  skipped
tokay2Windows Server 2012 R2 Standard / x64  ERROR    ERROR  skippedskipped
machv2macOS 10.14.6 Mojave / x86_64  ERROR    ERROR  skippedskipped
Package 139/177HostnameOS / ArchINSTALLBUILDCHECKBUILD BIN
RNASeqR 1.10.0  (landing page)
Kuan-Hao Chao
Last Commit: c89d5c1
Last Changed Date: 2021-05-19 12:38:39 -0400
nebbiolo1Linux (Ubuntu 20.04.2 LTS) / x86_64  OK    OK    OK  UNNEEDED, same version is already published
tokay2Windows Server 2012 R2 Standard / x64... NOT SUPPORTED ...
machv2macOS 10.14.6 Mojave / x86_64  OK    OK    OK    OK  UNNEEDED, same version is already published
Package 140/177HostnameOS / ArchINSTALLBUILDCHECKBUILD BIN
Rqc 1.26.0  (landing page)
Welliton Souza
Last Commit: 1c1c91a
Last Changed Date: 2021-05-19 12:09:26 -0400
nebbiolo1Linux (Ubuntu 20.04.2 LTS) / x86_64  OK    OK    OK  UNNEEDED, same version is already published
tokay2Windows Server 2012 R2 Standard / x64  OK    OK    TIMEOUT    OK  
machv2macOS 10.14.6 Mojave / x86_64  OK    OK    OK    OK  UNNEEDED, same version is already published
Package 141/177HostnameOS / ArchINSTALLBUILDCHECKBUILD BIN
rtracklayer 1.52.0  (landing page)
Michael Lawrence
Last Commit: 51e5a2c
Last Changed Date: 2021-05-19 11:40:43 -0400
nebbiolo1Linux (Ubuntu 20.04.2 LTS) / x86_64  OK    OK    WARNINGS  UNNEEDED, same version is already published
tokay2Windows Server 2012 R2 Standard / x64  OK    OK    WARNINGS    OK  UNNEEDED, same version is already published
machv2macOS 10.14.6 Mojave / x86_64  OK    OK    WARNINGS    OK  UNNEEDED, same version is already published
Package 142/177HostnameOS / ArchINSTALLBUILDCHECKBUILD BIN
SCOPE 1.4.0  (landing page)
Rujin Wang
Last Commit: 16e6b55
Last Changed Date: 2021-05-19 12:49:33 -0400
nebbiolo1Linux (Ubuntu 20.04.2 LTS) / x86_64  OK    OK    WARNINGS  UNNEEDED, same version is already published
tokay2Windows Server 2012 R2 Standard / x64  OK    OK    WARNINGS    OK  UNNEEDED, same version is already published
machv2macOS 10.14.6 Mojave / x86_64  OK    OK    WARNINGS    OK  UNNEEDED, same version is already published
Package 143/177HostnameOS / ArchINSTALLBUILDCHECKBUILD BIN
scruff 1.10.0  (landing page)
Zhe Wang
Last Commit: 027572f
Last Changed Date: 2021-05-19 12:36:52 -0400
nebbiolo1Linux (Ubuntu 20.04.2 LTS) / x86_64  OK    OK    OK  UNNEEDED, same version is already published
tokay2Windows Server 2012 R2 Standard / x64  OK    OK    OK    OK  UNNEEDED, same version is already published
machv2macOS 10.14.6 Mojave / x86_64  OK    OK    OK    OK  UNNEEDED, same version is already published
Package 144/177HostnameOS / ArchINSTALLBUILDCHECKBUILD BIN
segmentSeq 2.26.0  (landing page)
Thomas J. Hardcastle
Last Commit: 5fe3637
Last Changed Date: 2021-05-19 11:44:54 -0400
nebbiolo1Linux (Ubuntu 20.04.2 LTS) / x86_64  OK    OK    OK  UNNEEDED, same version is already published
tokay2Windows Server 2012 R2 Standard / x64  OK    OK    OK    OK  UNNEEDED, same version is already published
machv2macOS 10.14.6 Mojave / x86_64  OK    OK    OK    OK  UNNEEDED, same version is already published
Package 145/177HostnameOS / ArchINSTALLBUILDCHECKBUILD BIN
seqplots 1.30.0  (landing page)
Przemyslaw Stempor
Last Commit: a7ff6cc
Last Changed Date: 2021-05-19 12:07:31 -0400
nebbiolo1Linux (Ubuntu 20.04.2 LTS) / x86_64  OK    OK    ERROR  
tokay2Windows Server 2012 R2 Standard / x64  OK    OK    ERROR    OK  
machv2macOS 10.14.6 Mojave / x86_64  OK    OK    ERROR    OK  
Package 146/177HostnameOS / ArchINSTALLBUILDCHECKBUILD BIN
seqsetvis 1.12.0  (landing page)
Joseph R Boyd
Last Commit: f9979c2
Last Changed Date: 2021-05-19 12:34:35 -0400
nebbiolo1Linux (Ubuntu 20.04.2 LTS) / x86_64  OK    OK    OK  UNNEEDED, same version is already published
tokay2Windows Server 2012 R2 Standard / x64  OK    OK    OK    OK  UNNEEDED, same version is already published
machv2macOS 10.14.6 Mojave / x86_64  OK    OK    OK    OK  UNNEEDED, same version is already published
Package 147/177HostnameOS / ArchINSTALLBUILDCHECKBUILD BIN
SGSeq 1.26.0  (landing page)
Leonard Goldstein
Last Commit: d7ca914
Last Changed Date: 2021-05-19 12:08:58 -0400
nebbiolo1Linux (Ubuntu 20.04.2 LTS) / x86_64  OK    OK    OK  UNNEEDED, same version is already published
tokay2Windows Server 2012 R2 Standard / x64  OK    OK    OK    OK  UNNEEDED, same version is already published
machv2macOS 10.14.6 Mojave / x86_64  OK    OK    OK    OK  UNNEEDED, same version is already published
Package 148/177HostnameOS / ArchINSTALLBUILDCHECKBUILD BIN
ShortRead 1.50.0  (landing page)
Bioconductor Package Maintainer
Last Commit: 31dea4d
Last Changed Date: 2021-05-19 11:40:52 -0400
nebbiolo1Linux (Ubuntu 20.04.2 LTS) / x86_64  OK    OK    WARNINGS  UNNEEDED, same version is already published
tokay2Windows Server 2012 R2 Standard / x64  OK    OK    OK    OK  UNNEEDED, same version is already published
machv2macOS 10.14.6 Mojave / x86_64  OK    OK    OK    OK  UNNEEDED, same version is already published
Package 149/177HostnameOS / ArchINSTALLBUILDCHECKBUILD BIN
SICtools 1.22.0  (landing page)
Xiaobin Xing
Last Commit: b9dc057
Last Changed Date: 2021-05-19 12:16:12 -0400
nebbiolo1Linux (Ubuntu 20.04.2 LTS) / x86_64  OK    OK    WARNINGS  UNNEEDED, same version is already published
tokay2Windows Server 2012 R2 Standard / x64... NOT SUPPORTED ...
machv2macOS 10.14.6 Mojave / x86_64  OK    OK    WARNINGS    OK  UNNEEDED, same version is already published
Package 150/177HostnameOS / ArchINSTALLBUILDCHECKBUILD BIN
SimFFPE 1.4.0  (landing page)
Lanying Wei
Last Commit: 13e0b8e
Last Changed Date: 2021-05-19 12:49:03 -0400
nebbiolo1Linux (Ubuntu 20.04.2 LTS) / x86_64  OK    OK    OK  UNNEEDED, same version is already published
tokay2Windows Server 2012 R2 Standard / x64  OK    OK    OK    OK  UNNEEDED, same version is already published
machv2macOS 10.14.6 Mojave / x86_64  OK    OK    OK    OK  UNNEEDED, same version is already published
Package 151/177HostnameOS / ArchINSTALLBUILDCHECKBUILD BIN
sitadela 1.0.0  (landing page)
Panagiotis Moulos
Last Commit: 13a1da0
Last Changed Date: 2021-05-19 13:00:47 -0400
nebbiolo1Linux (Ubuntu 20.04.2 LTS) / x86_64  OK    OK    OK  UNNEEDED, same version is already published
tokay2Windows Server 2012 R2 Standard / x64  OK    OK    OK    OK  UNNEEDED, same version is already published
machv2macOS 10.14.6 Mojave / x86_64  OK    OK    OK    OK  UNNEEDED, same version is already published
Package 152/177HostnameOS / ArchINSTALLBUILDCHECKBUILD BIN
SNPhood 1.22.0  (landing page)
Christian Arnold
Last Commit: 562991f
Last Changed Date: 2021-05-19 12:16:25 -0400
nebbiolo1Linux (Ubuntu 20.04.2 LTS) / x86_64  OK    OK    OK  UNNEEDED, same version is already published
tokay2Windows Server 2012 R2 Standard / x64  OK    OK    OK    OK  UNNEEDED, same version is already published
machv2macOS 10.14.6 Mojave / x86_64  OK    OK    OK    OK  UNNEEDED, same version is already published
Package 153/177HostnameOS / ArchINSTALLBUILDCHECKBUILD BIN
soGGi 1.24.0  (landing page)
Tom Carroll
Last Commit: 199cea6
Last Changed Date: 2021-05-19 12:13:08 -0400
nebbiolo1Linux (Ubuntu 20.04.2 LTS) / x86_64  OK    OK    OK  UNNEEDED, same version is already published
tokay2Windows Server 2012 R2 Standard / x64  OK    OK    OK    OK  UNNEEDED, same version is already published
machv2macOS 10.14.6 Mojave / x86_64  OK    OK    OK    OK  UNNEEDED, same version is already published
Package 154/177HostnameOS / ArchINSTALLBUILDCHECKBUILD BIN
SplicingGraphs 1.32.0  (landing page)
H. Pagès
Last Commit: 6066f74
Last Changed Date: 2021-05-19 11:58:48 -0400
nebbiolo1Linux (Ubuntu 20.04.2 LTS) / x86_64  OK    OK    WARNINGS  UNNEEDED, same version is already published
tokay2Windows Server 2012 R2 Standard / x64  OK    OK    TIMEOUT    OK  
machv2macOS 10.14.6 Mojave / x86_64  OK    OK    WARNINGS    OK  UNNEEDED, same version is already published
Package 155/177HostnameOS / ArchINSTALLBUILDCHECKBUILD BIN
srnadiff 1.12.2  (landing page)
Zytnicki Matthias
Last Commit: 21bcbca
Last Changed Date: 2021-06-02 10:17:41 -0400
nebbiolo1Linux (Ubuntu 20.04.2 LTS) / x86_64  OK    OK    OK  UNNEEDED, same version is already published
tokay2Windows Server 2012 R2 Standard / x64  OK    OK    TIMEOUT    OK  
machv2macOS 10.14.6 Mojave / x86_64  OK    OK    OK    OK  UNNEEDED, same version is already published
Package 156/177HostnameOS / ArchINSTALLBUILDCHECKBUILD BIN
ssviz 1.26.0  (landing page)
Diana Low
Last Commit: 4bc179f
Last Changed Date: 2021-05-19 12:05:41 -0400
nebbiolo1Linux (Ubuntu 20.04.2 LTS) / x86_64  OK    OK    OK  UNNEEDED, same version is already published
tokay2Windows Server 2012 R2 Standard / x64  OK    OK    OK    OK  UNNEEDED, same version is already published
machv2macOS 10.14.6 Mojave / x86_64  OK    OK    OK    OK  UNNEEDED, same version is already published
Package 157/177HostnameOS / ArchINSTALLBUILDCHECKBUILD BIN
strandCheckR 1.10.0  (landing page)
Thu-Hien To
Last Commit: c7a42a9
Last Changed Date: 2021-05-19 12:36:59 -0400
nebbiolo1Linux (Ubuntu 20.04.2 LTS) / x86_64  OK    OK    OK  UNNEEDED, same version is already published
tokay2Windows Server 2012 R2 Standard / x64  OK    OK    OK    OK  UNNEEDED, same version is already published
machv2macOS 10.14.6 Mojave / x86_64  OK    OK    OK    OK  UNNEEDED, same version is already published
Package 158/177HostnameOS / ArchINSTALLBUILDCHECKBUILD BIN
systemPipeR 1.26.2  (landing page)
Thomas Girke
Last Commit: 18fdf17
Last Changed Date: 2021-05-24 16:49:36 -0400
nebbiolo1Linux (Ubuntu 20.04.2 LTS) / x86_64  OK    OK    OK  UNNEEDED, same version is already published
tokay2Windows Server 2012 R2 Standard / x64  OK    OK    OK    OK  UNNEEDED, same version is already published
machv2macOS 10.14.6 Mojave / x86_64  OK    OK    OK    OK  UNNEEDED, same version is already published
Package 159/177HostnameOS / ArchINSTALLBUILDCHECKBUILD BIN
TarSeqQC 1.22.0  (landing page)
Gabriela Merino
Last Commit: 2f87a51
Last Changed Date: 2021-05-19 12:15:49 -0400
nebbiolo1Linux (Ubuntu 20.04.2 LTS) / x86_64  OK    OK    OK  UNNEEDED, same version is already published
tokay2Windows Server 2012 R2 Standard / x64  OK    OK    TIMEOUT    OK  
machv2macOS 10.14.6 Mojave / x86_64  OK    OK    OK    OK  UNNEEDED, same version is already published
Package 160/177HostnameOS / ArchINSTALLBUILDCHECKBUILD BIN
TCseq 1.16.0  (landing page)
Mengjun Wu
Last Commit: fa7ce98
Last Changed Date: 2021-05-19 12:25:15 -0400
nebbiolo1Linux (Ubuntu 20.04.2 LTS) / x86_64  OK    OK    OK  UNNEEDED, same version is already published
tokay2Windows Server 2012 R2 Standard / x64  OK    OK    OK    OK  UNNEEDED, same version is already published
machv2macOS 10.14.6 Mojave / x86_64  OK    OK    OK    OK  UNNEEDED, same version is already published
Package 161/177HostnameOS / ArchINSTALLBUILDCHECKBUILD BIN
TEQC 4.14.0  (landing page)
Sarah Bonnin
Last Commit: a05076b
Last Changed Date: 2021-05-19 11:46:58 -0400
nebbiolo1Linux (Ubuntu 20.04.2 LTS) / x86_64  OK    OK    WARNINGS  UNNEEDED, same version is already published
tokay2Windows Server 2012 R2 Standard / x64  OK    OK    WARNINGS    OK  UNNEEDED, same version is already published
machv2macOS 10.14.6 Mojave / x86_64  OK    OK    WARNINGS    OK  UNNEEDED, same version is already published
Package 162/177HostnameOS / ArchINSTALLBUILDCHECKBUILD BIN
TFutils 1.12.0  (landing page)
Vincent Carey
Last Commit: 08a64b2
Last Changed Date: 2021-05-19 12:34:54 -0400
nebbiolo1Linux (Ubuntu 20.04.2 LTS) / x86_64  OK    OK    OK  UNNEEDED, same version is already published
tokay2Windows Server 2012 R2 Standard / x64  OK    ERROR  skippedskipped
machv2macOS 10.14.6 Mojave / x86_64  OK    OK    OK    OK  UNNEEDED, same version is already published
Package 163/177HostnameOS / ArchINSTALLBUILDCHECKBUILD BIN
tracktables 1.26.0  (landing page)
Tom Carroll
Last Commit: bccca31
Last Changed Date: 2021-05-19 12:09:16 -0400
nebbiolo1Linux (Ubuntu 20.04.2 LTS) / x86_64  OK    OK    WARNINGS  UNNEEDED, same version is already published
tokay2Windows Server 2012 R2 Standard / x64  OK    OK    WARNINGS    OK  UNNEEDED, same version is already published
machv2macOS 10.14.6 Mojave / x86_64  OK    OK    WARNINGS    OK  UNNEEDED, same version is already published
Package 164/177HostnameOS / ArchINSTALLBUILDCHECKBUILD BIN
trackViewer 1.28.0  (landing page)
Jianhong Ou
Last Commit: 14d6faa
Last Changed Date: 2021-05-19 12:02:40 -0400
nebbiolo1Linux (Ubuntu 20.04.2 LTS) / x86_64  OK    OK    OK  UNNEEDED, same version is already published
tokay2Windows Server 2012 R2 Standard / x64  OK    OK    OK    OK  UNNEEDED, same version is already published
machv2macOS 10.14.6 Mojave / x86_64  OK    OK    OK    OK  UNNEEDED, same version is already published
Package 165/177HostnameOS / ArchINSTALLBUILDCHECKBUILD BIN
transcriptR 1.20.0  (landing page)
Armen R. Karapetyan
Last Commit: 812d92c
Last Changed Date: 2021-05-19 12:17:06 -0400
nebbiolo1Linux (Ubuntu 20.04.2 LTS) / x86_64  OK    OK    OK  UNNEEDED, same version is already published
tokay2Windows Server 2012 R2 Standard / x64  OK    OK    OK    OK  UNNEEDED, same version is already published
machv2macOS 10.14.6 Mojave / x86_64  OK    OK    OK    OK  UNNEEDED, same version is already published
Package 166/177HostnameOS / ArchINSTALLBUILDCHECKBUILD BIN
tRNAscanImport 1.12.0  (landing page)
Felix G.M. Ernst
Last Commit: cb59bfe
Last Changed Date: 2021-05-19 12:33:50 -0400
nebbiolo1Linux (Ubuntu 20.04.2 LTS) / x86_64  OK    OK    OK  UNNEEDED, same version is already published
tokay2Windows Server 2012 R2 Standard / x64  OK    OK    OK    OK  UNNEEDED, same version is already published
machv2macOS 10.14.6 Mojave / x86_64  OK    OK    OK    OK  UNNEEDED, same version is already published
Package 167/177HostnameOS / ArchINSTALLBUILDCHECKBUILD BIN
TSRchitect 1.18.0  (landing page)
R. Taylor Raborn
Last Commit: daeccc8
Last Changed Date: 2021-05-19 12:27:50 -0400
nebbiolo1Linux (Ubuntu 20.04.2 LTS) / x86_64  OK    OK    WARNINGS  UNNEEDED, same version is already published
tokay2Windows Server 2012 R2 Standard / x64  OK    OK    WARNINGS    OK  UNNEEDED, same version is already published
machv2macOS 10.14.6 Mojave / x86_64  OK    OK    WARNINGS    OK  UNNEEDED, same version is already published
Package 168/177HostnameOS / ArchINSTALLBUILDCHECKBUILD BIN
TVTB 1.18.0  (landing page)
Kevin Rue-Albrecht
Last Commit: 954f99a
Last Changed Date: 2021-05-19 12:24:09 -0400
nebbiolo1Linux (Ubuntu 20.04.2 LTS) / x86_64  OK    OK    OK  UNNEEDED, same version is already published
tokay2Windows Server 2012 R2 Standard / x64... NOT SUPPORTED ...
machv2macOS 10.14.6 Mojave / x86_64  OK    OK    OK    OK  UNNEEDED, same version is already published
Package 169/177HostnameOS / ArchINSTALLBUILDCHECKBUILD BIN
UMI4Cats 1.2.1  (landing page)
Mireia Ramos-Rodriguez
Last Commit: a8ed2ca
Last Changed Date: 2021-06-11 09:01:25 -0400
nebbiolo1Linux (Ubuntu 20.04.2 LTS) / x86_64  OK    OK    OK  YES
tokay2Windows Server 2012 R2 Standard / x64  OK    OK    OK    OK  YES
machv2macOS 10.14.6 Mojave / x86_64  OK    OK    OK    OK  YES
Package 170/177HostnameOS / ArchINSTALLBUILDCHECKBUILD BIN
uncoverappLib 1.2.0  (landing page)
Emanuela Iovino
Last Commit: eac9828
Last Changed Date: 2021-05-19 12:54:28 -0400
nebbiolo1Linux (Ubuntu 20.04.2 LTS) / x86_64  OK    OK    OK  UNNEEDED, same version is already published
tokay2Windows Server 2012 R2 Standard / x64  OK    OK    OK    OK  UNNEEDED, same version is already published
machv2macOS 10.14.6 Mojave / x86_64  OK    OK    OK    OK  UNNEEDED, same version is already published
Package 171/177HostnameOS / ArchINSTALLBUILDCHECKBUILD BIN
VariantAnnotation 1.38.0  (landing page)
Bioconductor Package Maintainer
Last Commit: 1deefec
Last Changed Date: 2021-05-19 11:49:26 -0400
nebbiolo1Linux (Ubuntu 20.04.2 LTS) / x86_64  OK    OK    OK  UNNEEDED, same version is already published
tokay2Windows Server 2012 R2 Standard / x64  OK    OK    OK    OK  UNNEEDED, same version is already published
machv2macOS 10.14.6 Mojave / x86_64  OK    OK    OK    OK  UNNEEDED, same version is already published
Package 172/177HostnameOS / ArchINSTALLBUILDCHECKBUILD BIN
VariantFiltering 1.28.0  (landing page)
Robert Castelo
Last Commit: a7b2d16
Last Changed Date: 2021-05-19 12:04:28 -0400
nebbiolo1Linux (Ubuntu 20.04.2 LTS) / x86_64  OK    OK    OK  UNNEEDED, same version is already published
tokay2Windows Server 2012 R2 Standard / x64  OK    OK    OK    OK  UNNEEDED, same version is already published
machv2macOS 10.14.6 Mojave / x86_64  OK    OK    OK    OK  UNNEEDED, same version is already published
Package 173/177HostnameOS / ArchINSTALLBUILDCHECKBUILD BIN
VariantTools 1.34.0  (landing page)
Michael Lawrence
Last Commit: f5b011f
Last Changed Date: 2021-05-19 11:54:32 -0400
nebbiolo1Linux (Ubuntu 20.04.2 LTS) / x86_64  OK    OK    WARNINGS  UNNEEDED, same version is already published
tokay2Windows Server 2012 R2 Standard / x64  OK    OK    WARNINGS    OK  UNNEEDED, same version is already published
machv2macOS 10.14.6 Mojave / x86_64  OK    OK    WARNINGS    OK  UNNEEDED, same version is already published
Package 174/177HostnameOS / ArchINSTALLBUILDCHECKBUILD BIN
VaSP 1.4.0  (landing page)
Huihui Yu
Last Commit: 634a71f
Last Changed Date: 2021-05-19 12:49:43 -0400
nebbiolo1Linux (Ubuntu 20.04.2 LTS) / x86_64  OK    OK    OK  UNNEEDED, same version is already published
tokay2Windows Server 2012 R2 Standard / x64  OK    OK    OK    OK  UNNEEDED, same version is already published
machv2macOS 10.14.6 Mojave / x86_64  OK    OK    OK    OK  UNNEEDED, same version is already published
Package 175/177HostnameOS / ArchINSTALLBUILDCHECKBUILD BIN
VCFArray 1.8.0  (landing page)
Qian Liu
Last Commit: 5de9e30
Last Changed Date: 2021-05-19 12:40:01 -0400
nebbiolo1Linux (Ubuntu 20.04.2 LTS) / x86_64  OK    OK    OK  UNNEEDED, same version is already published
tokay2Windows Server 2012 R2 Standard / x64  OK    OK    OK    OK  UNNEEDED, same version is already published
machv2macOS 10.14.6 Mojave / x86_64  OK    OK    OK    OK  UNNEEDED, same version is already published
Package 176/177HostnameOS / ArchINSTALLBUILDCHECKBUILD BIN
VplotR 1.2.0  (landing page)
Jacques Serizay
Last Commit: 8077df2
Last Changed Date: 2021-05-19 12:54:43 -0400
nebbiolo1Linux (Ubuntu 20.04.2 LTS) / x86_64  OK    ERROR  skipped
tokay2Windows Server 2012 R2 Standard / x64  OK    OK    OK    OK  UNNEEDED, same version is already published
machv2macOS 10.14.6 Mojave / x86_64  OK    OK    OK    OK  UNNEEDED, same version is already published
Package 177/177HostnameOS / ArchINSTALLBUILDCHECKBUILD BIN
wavClusteR 2.26.0  (landing page)
Federico Comoglio
Last Commit: 14989df
Last Changed Date: 2021-05-19 12:05:25 -0400
nebbiolo1Linux (Ubuntu 20.04.2 LTS) / x86_64  OK    OK    OK  UNNEEDED, same version is already published
tokay2Windows Server 2012 R2 Standard / x64  OK    OK    OK    OK  UNNEEDED, same version is already published
machv2macOS 10.14.6 Mojave / x86_64  OK    OK    OK    OK  UNNEEDED, same version is already published