Back to Multiple platform build/check report for BioC 3.13
ABCDEFGHIJKLMNOPQ[R]STUVWXYZ

This page was generated on 2021-06-21 14:04:38 -0400 (Mon, 21 Jun 2021).

All results for package RpsiXML

To the developers/maintainers of the RpsiXML package:
- Please allow up to 24 hours (and sometimes 48 hours) for your latest push to git@git.bioconductor.org:packages/RpsiXML.git to
reflect on this report. See How and When does the builder pull? When will my changes propagate? here for more information.
- Make sure to use the following settings in order to reproduce any error or warning you see on this page.

raw results

Package 1626/2041HostnameOS / ArchINSTALLBUILDCHECKBUILD BIN
RpsiXML 2.34.0  (landing page)
Jitao David Zhang
Snapshot Date: 2021-06-20 06:50:09 -0400 (Sun, 20 Jun 2021)
URL: https://git.bioconductor.org/packages/RpsiXML
Branch: RELEASE_3_13
Last Commit: 94db0a3
Last Changed Date: 2021-05-19 11:41:31 -0400 (Wed, 19 May 2021)
nebbiolo1Linux (Ubuntu 20.04.2 LTS) / x86_64  OK    OK    OK  UNNEEDED, same version is already published
tokay2Windows Server 2012 R2 Standard / x64  OK    OK    OK    NA  
machv2macOS 10.14.6 Mojave / x86_64  OK    OK    OK    OK  UNNEEDED, same version is already published

Results for Bioconductor software packages that depend directly on package RpsiXML

QUICK STATSOS / ArchINSTALLBUILDCHECKBUILD BIN
nebbiolo1Linux (Ubuntu 20.04.2 LTS) / x86_64
001
001
0001
tokay2Windows Server 2012 R2 Standard / x64
001
001
0001
000
machv2macOS 10.14.6 Mojave / x86_64
001
001
0001
001
Package 1/1HostnameOS / ArchINSTALLBUILDCHECKBUILD BIN
ScISI 1.64.0  (landing page)
Tony Chiang
Last Commit: 1ee59b4
Last Changed Date: 2021-05-19 11:36:57 -0400
nebbiolo1Linux (Ubuntu 20.04.2 LTS) / x86_64  OK    OK    OK  UNNEEDED, same version is already published
tokay2Windows Server 2012 R2 Standard / x64  OK    OK    OK    NA  
machv2macOS 10.14.6 Mojave / x86_64  OK    OK    OK    OK  UNNEEDED, same version is already published