Back to Multiple platform build/check report for BioC 3.13
ABCDEFGHIJKLMNOPQ[R]STUVWXYZ

This page was generated on 2021-07-23 15:06:17 -0400 (Fri, 23 Jul 2021).

BUILD BIN results for ReactomePA on tokay2

To the developers/maintainers of the ReactomePA package:
- Please allow up to 24 hours (and sometimes 48 hours) for your latest push to git@git.bioconductor.org:packages/ReactomePA.git to
reflect on this report. See How and When does the builder pull? When will my changes propagate? here for more information.
- Make sure to use the following settings in order to reproduce any error or warning you see on this page.

raw results

Package 1535/2041HostnameOS / ArchINSTALLBUILDCHECKBUILD BIN
ReactomePA 1.36.0  (landing page)
Guangchuang Yu
Snapshot Date: 2021-07-22 04:50:13 -0400 (Thu, 22 Jul 2021)
URL: https://git.bioconductor.org/packages/ReactomePA
Branch: RELEASE_3_13
Last Commit: 78eb2e3
Last Changed Date: 2021-05-19 11:51:50 -0400 (Wed, 19 May 2021)
nebbiolo1Linux (Ubuntu 20.04.2 LTS) / x86_64  OK    OK    OK  UNNEEDED, same version is already published
tokay2Windows Server 2012 R2 Standard / x64  OK    OK    OK    OK  UNNEEDED, same version is already published
machv2macOS 10.14.6 Mojave / x86_64  OK    OK    OK    OK  UNNEEDED, same version is already published

Summary

Package: ReactomePA
Version: 1.36.0
Command: rm -rf ReactomePA.buildbin-libdir && mkdir ReactomePA.buildbin-libdir && C:\Users\biocbuild\bbs-3.13-bioc\R\bin\R.exe CMD INSTALL --merge-multiarch --build --library=ReactomePA.buildbin-libdir ReactomePA_1.36.0.tar.gz
StartedAt: 2021-07-23 11:17:15 -0400 (Fri, 23 Jul 2021)
EndedAt: 2021-07-23 11:18:12 -0400 (Fri, 23 Jul 2021)
EllapsedTime: 56.7 seconds
RetCode: 0
Status:   OK  
PackageFile: ReactomePA_1.36.0.zip
PackageFileSize: 101.1 KiB

Command output

##############################################################################
##############################################################################
###
### Running command:
###
###   rm -rf ReactomePA.buildbin-libdir && mkdir ReactomePA.buildbin-libdir && C:\Users\biocbuild\bbs-3.13-bioc\R\bin\R.exe CMD INSTALL --merge-multiarch --build --library=ReactomePA.buildbin-libdir ReactomePA_1.36.0.tar.gz
###
##############################################################################
##############################################################################



install for i386

* installing *source* package 'ReactomePA' ...
** using staged installation
** R
** inst
** byte-compile and prepare package for lazy loading
** help
*** installing help indices
  converting help for package 'ReactomePA'
    finding HTML links ... done
    DataSet                                 html  
    ReactomePA-package                      html  
    finding level-2 HTML links ... done

    enrichPathway                           html  
    getALLEG                                html  
    getDb                                   html  
    gsePathway                              html  
    reexports                               html  
    viewPathway                             html  
** building package indices
** installing vignettes
** testing if installed package can be loaded from temporary location
** testing if installed package can be loaded from final location
** testing if installed package keeps a record of temporary installation path

install for x64

* installing *source* package 'ReactomePA' ...
** testing if installed package can be loaded
* MD5 sums
packaged installation of 'ReactomePA' as ReactomePA_1.36.0.zip
* DONE (ReactomePA)