Back to Multiple platform build/check report for BioC 3.13
ABCDEFGHIJKLMNOPQ[R]STUVWXYZ

This page was generated on 2021-07-23 15:06:47 -0400 (Fri, 23 Jul 2021).

BUILD results for ReactomePA on machv2

To the developers/maintainers of the ReactomePA package:
- Please allow up to 24 hours (and sometimes 48 hours) for your latest push to git@git.bioconductor.org:packages/ReactomePA.git to
reflect on this report. See How and When does the builder pull? When will my changes propagate? here for more information.
- Make sure to use the following settings in order to reproduce any error or warning you see on this page.

raw results

Package 1535/2041HostnameOS / ArchINSTALLBUILDCHECKBUILD BIN
ReactomePA 1.36.0  (landing page)
Guangchuang Yu
Snapshot Date: 2021-07-22 04:50:13 -0400 (Thu, 22 Jul 2021)
URL: https://git.bioconductor.org/packages/ReactomePA
Branch: RELEASE_3_13
Last Commit: 78eb2e3
Last Changed Date: 2021-05-19 11:51:50 -0400 (Wed, 19 May 2021)
nebbiolo1Linux (Ubuntu 20.04.2 LTS) / x86_64  OK    OK    OK  UNNEEDED, same version is already published
tokay2Windows Server 2012 R2 Standard / x64  OK    OK    OK    OK  UNNEEDED, same version is already published
machv2macOS 10.14.6 Mojave / x86_64  OK    OK    OK    OK  UNNEEDED, same version is already published

Summary

Package: ReactomePA
Version: 1.36.0
Command: /Library/Frameworks/R.framework/Versions/Current/Resources/bin/R CMD build --keep-empty-dirs --no-resave-data ReactomePA
StartedAt: 2021-07-22 13:55:06 -0400 (Thu, 22 Jul 2021)
EndedAt: 2021-07-22 13:55:45 -0400 (Thu, 22 Jul 2021)
EllapsedTime: 38.4 seconds
RetCode: 0
Status:   OK  
PackageFile: ReactomePA_1.36.0.tar.gz
PackageFileSize: 56.56 KiB

Command output

##############################################################################
##############################################################################
###
### Running command:
###
###   /Library/Frameworks/R.framework/Versions/Current/Resources/bin/R CMD build --keep-empty-dirs --no-resave-data ReactomePA
###
##############################################################################
##############################################################################


* checking for file ‘ReactomePA/DESCRIPTION’ ... OK
* preparing ‘ReactomePA’:
* checking DESCRIPTION meta-information ... OK
* installing the package to build vignettes
* creating vignettes ... OK
* checking for LF line-endings in source and make files and shell scripts
* checking for empty or unneeded directories
* building ‘ReactomePA_1.36.0.tar.gz’