Back to Multiple platform build/check report for BioC 3.13
ABCDEFGHIJKLMNOPQ[R]STUVWXYZ

This page was generated on 2021-07-30 15:06:06 -0400 (Fri, 30 Jul 2021).

INSTALL results for RchyOptimyx on tokay2

To the developers/maintainers of the RchyOptimyx package:
- Please allow up to 24 hours (and sometimes 48 hours) for your latest push to git@git.bioconductor.org:packages/RchyOptimyx.git to
reflect on this report. See How and When does the builder pull? When will my changes propagate? here for more information.
- Make sure to use the following settings in order to reproduce any error or warning you see on this page.

raw results

Package 1519/2041HostnameOS / ArchINSTALLBUILDCHECKBUILD BIN
RchyOptimyx 2.32.0  (landing page)
Adrin Jalali , Nima Aghaeepour
Snapshot Date: 2021-07-29 04:50:02 -0400 (Thu, 29 Jul 2021)
URL: https://git.bioconductor.org/packages/RchyOptimyx
Branch: RELEASE_3_13
Last Commit: 0b6f214
Last Changed Date: 2021-05-19 11:51:57 -0400 (Wed, 19 May 2021)
nebbiolo1Linux (Ubuntu 20.04.2 LTS) / x86_64  ERROR    ERROR  skipped
tokay2Windows Server 2012 R2 Standard / x64  ERROR    ERROR  skippedskipped
machv2macOS 10.14.6 Mojave / x86_64  ERROR    ERROR  skippedskipped

Summary

Package: RchyOptimyx
Version: 2.32.0
Command: C:\cygwin\bin\curl.exe -O http://155.52.207.165/BBS/3.13/bioc/src/contrib/RchyOptimyx_2.32.0.tar.gz && rm -rf RchyOptimyx.buildbin-libdir && mkdir RchyOptimyx.buildbin-libdir && C:\Users\biocbuild\bbs-3.13-bioc\R\bin\R.exe CMD INSTALL --merge-multiarch --build --library=RchyOptimyx.buildbin-libdir RchyOptimyx_2.32.0.tar.gz && C:\Users\biocbuild\bbs-3.13-bioc\R\bin\R.exe CMD INSTALL RchyOptimyx_2.32.0.zip && rm RchyOptimyx_2.32.0.tar.gz RchyOptimyx_2.32.0.zip
StartedAt: 2021-07-29 11:54:07 -0400 (Thu, 29 Jul 2021)
EndedAt: 2021-07-29 11:54:08 -0400 (Thu, 29 Jul 2021)
EllapsedTime: 1.4 seconds
RetCode: 1
Status:   ERROR  

Command output

##############################################################################
##############################################################################
###
### Running command:
###
###   C:\cygwin\bin\curl.exe -O http://155.52.207.165/BBS/3.13/bioc/src/contrib/RchyOptimyx_2.32.0.tar.gz && rm -rf RchyOptimyx.buildbin-libdir && mkdir RchyOptimyx.buildbin-libdir && C:\Users\biocbuild\bbs-3.13-bioc\R\bin\R.exe CMD INSTALL --merge-multiarch --build --library=RchyOptimyx.buildbin-libdir RchyOptimyx_2.32.0.tar.gz && C:\Users\biocbuild\bbs-3.13-bioc\R\bin\R.exe CMD INSTALL RchyOptimyx_2.32.0.zip && rm RchyOptimyx_2.32.0.tar.gz RchyOptimyx_2.32.0.zip
###
##############################################################################
##############################################################################


  % Total    % Received % Xferd  Average Speed   Time    Time     Time  Current
                                 Dload  Upload   Total   Spent    Left  Speed

  0     0    0     0    0     0      0      0 --:--:-- --:--:-- --:--:--     0
100  360k  100  360k    0     0  1840k      0 --:--:-- --:--:-- --:--:-- 1849k

install for i386

ERROR: dependency 'flowType' is not available for package 'RchyOptimyx'
* removing 'C:/Users/biocbuild/bbs-3.13-bioc/meat/RchyOptimyx.buildbin-libdir/RchyOptimyx'