Back to Multiple platform build/check report for BioC 3.13
ABCDEFGHIJKLMNOPQ[R]STUVWXYZ

This page was generated on 2021-08-02 15:05:25 -0400 (Mon, 02 Aug 2021).

BUILD results for RbcBook1 on tokay2

To the developers/maintainers of the RbcBook1 package:
- Please allow up to 24 hours (and sometimes 48 hours) for your latest push to git@git.bioconductor.org:packages/RbcBook1.git to
reflect on this report. See How and When does the builder pull? When will my changes propagate? here for more information.
- Make sure to use the following settings in order to reproduce any error or warning you see on this page.

raw results

Package 1505/2041HostnameOS / ArchINSTALLBUILDCHECKBUILD BIN
RbcBook1 1.60.0  (landing page)
Vince Carey
Snapshot Date: 2021-08-01 04:50:10 -0400 (Sun, 01 Aug 2021)
URL: https://git.bioconductor.org/packages/RbcBook1
Branch: RELEASE_3_13
Last Commit: f563f7a
Last Changed Date: 2021-05-19 11:38:15 -0400 (Wed, 19 May 2021)
nebbiolo1Linux (Ubuntu 20.04.2 LTS) / x86_64  OK    OK    OK  UNNEEDED, same version is already published
tokay2Windows Server 2012 R2 Standard / x64  OK    OK    OK    OK  UNNEEDED, same version is already published
machv2macOS 10.14.6 Mojave / x86_64  OK    OK    OK    OK  UNNEEDED, same version is already published

Summary

Package: RbcBook1
Version: 1.60.0
Command: chmod a+r RbcBook1 -R && C:\Users\biocbuild\bbs-3.13-bioc\R\bin\R.exe CMD build --keep-empty-dirs --no-resave-data RbcBook1
StartedAt: 2021-08-01 17:29:51 -0400 (Sun, 01 Aug 2021)
EndedAt: 2021-08-01 17:30:16 -0400 (Sun, 01 Aug 2021)
EllapsedTime: 24.7 seconds
RetCode: 0
Status:   OK  
PackageFile: RbcBook1_1.60.0.tar.gz
PackageFileSize: 6.403 MiB

Command output

##############################################################################
##############################################################################
###
### Running command:
###
###   chmod a+r RbcBook1 -R && C:\Users\biocbuild\bbs-3.13-bioc\R\bin\R.exe CMD build --keep-empty-dirs --no-resave-data RbcBook1
###
##############################################################################
##############################################################################


* checking for file 'RbcBook1/DESCRIPTION' ... OK
* preparing 'RbcBook1':
* checking DESCRIPTION meta-information ... OK
* installing the package to build vignettes
* creating vignettes ... OK
* checking for LF line-endings in source and make files and shell scripts
* checking for empty or unneeded directories
* looking to see if a 'data/datalist' file should be added
* building 'RbcBook1_1.60.0.tar.gz'