Back to Multiple platform build/check report for BioC 3.13
ABCDEFGHIJKLMNOPQ[R]STUVWXYZ

This page was generated on 2021-08-02 15:04:35 -0400 (Mon, 02 Aug 2021).

All results for package RTN

To the developers/maintainers of the RTN package:
- Please allow up to 24 hours (and sometimes 48 hours) for your latest push to git@git.bioconductor.org:packages/RTN.git to
reflect on this report. See How and When does the builder pull? When will my changes propagate? here for more information.
- Make sure to use the following settings in order to reproduce any error or warning you see on this page.

raw results

Package 1645/2041HostnameOS / ArchINSTALLBUILDCHECKBUILD BIN
RTN 2.16.0  (landing page)
Mauro Castro
Snapshot Date: 2021-08-01 04:50:10 -0400 (Sun, 01 Aug 2021)
URL: https://git.bioconductor.org/packages/RTN
Branch: RELEASE_3_13
Last Commit: ae869f1
Last Changed Date: 2021-05-19 11:59:58 -0400 (Wed, 19 May 2021)
nebbiolo1Linux (Ubuntu 20.04.2 LTS) / x86_64  OK    OK    OK  UNNEEDED, same version is already published
tokay2Windows Server 2012 R2 Standard / x64  OK    OK    OK    OK  UNNEEDED, same version is already published
machv2macOS 10.14.6 Mojave / x86_64  OK    OK    OK    OK  UNNEEDED, same version is already published

Results for Bioconductor software packages that depend directly on package RTN

QUICK STATSOS / ArchINSTALLBUILDCHECKBUILD BIN
nebbiolo1Linux (Ubuntu 20.04.2 LTS) / x86_64
002
002
0002
tokay2Windows Server 2012 R2 Standard / x64
002
002
0002
002
machv2macOS 10.14.6 Mojave / x86_64
002
002
0002
002
Package 1/2HostnameOS / ArchINSTALLBUILDCHECKBUILD BIN
RTNduals 1.16.0  (landing page)
Mauro Castro , Clarice Groeneveld
Last Commit: b30aac2
Last Changed Date: 2021-05-19 12:25:46 -0400
nebbiolo1Linux (Ubuntu 20.04.2 LTS) / x86_64  OK    OK    OK  UNNEEDED, same version is already published
tokay2Windows Server 2012 R2 Standard / x64  OK    OK    OK    OK  UNNEEDED, same version is already published
machv2macOS 10.14.6 Mojave / x86_64  OK    OK    OK    OK  UNNEEDED, same version is already published
Package 2/2HostnameOS / ArchINSTALLBUILDCHECKBUILD BIN
RTNsurvival 1.16.0  (landing page)
Clarice Groeneveld , Mauro A. A. Castro
Last Commit: 981ddae
Last Changed Date: 2021-05-19 12:28:22 -0400
nebbiolo1Linux (Ubuntu 20.04.2 LTS) / x86_64  OK    OK    OK  UNNEEDED, same version is already published
tokay2Windows Server 2012 R2 Standard / x64  OK    OK    OK    OK  UNNEEDED, same version is already published
machv2macOS 10.14.6 Mojave / x86_64  OK    OK    OK    OK  UNNEEDED, same version is already published