Index of /checkResults/3.13/bioc-LATEST/ROntoTools/raw-results/nebbiolo1

[ICO]NameLast modifiedSizeDescription

[DIR]Parent Directory  -  
[TXT]checksrc-out.txt16-Oct-2021 04:05 8.6K 
[TXT]install-out.txt16-Oct-2021 04:05 956  
[TXT]buildsrc-out.txt16-Oct-2021 04:05 818  
[   ]checksrc-summary.dcf16-Oct-2021 04:05 436  
[   ]buildsrc-summary.dcf16-Oct-2021 04:05 426  
[   ]install-summary.dcf16-Oct-2021 04:05 265