Index of /checkResults/3.13/bioc-LATEST/ROntoTools/raw-results

[ICO]NameLast modifiedSizeDescription

[DIR]Parent Directory  -  
[DIR]tokay2/23-Sep-2021 04:05 -  
[DIR]nebbiolo1/23-Sep-2021 04:05 -  
[DIR]machv2/23-Sep-2021 04:05 -  
[   ]info.dcf23-Sep-2021 04:05 274