Index of /checkResults/3.13/bioc-LATEST/RNAither/raw-results/tokay2

[ICO]NameLast modifiedSizeDescription

[DIR]Parent Directory  -  
[TXT]install-out.txt16-Oct-2021 04:06 1.3K 
[   ]install-summary.dcf16-Oct-2021 04:06 651  
[TXT]buildsrc-out.txt16-Oct-2021 04:06 941  
[   ]buildsrc-summary.dcf16-Oct-2021 04:06 464