Index of /checkResults/3.13/bioc-LATEST/RNAither/raw-results/tokay2

[ICO]NameLast modifiedSizeDescription

[DIR]Parent Directory  -  
[TXT]buildsrc-out.txt23-Sep-2021 04:05 942  
[   ]buildsrc-summary.dcf23-Sep-2021 04:05 464  
[TXT]install-out.txt23-Sep-2021 04:05 1.3K 
[   ]install-summary.dcf23-Sep-2021 04:05 651