Index of /checkResults/3.13/bioc-LATEST/RNAither/raw-results/nebbiolo1

[ICO]NameLast modifiedSizeDescription

[DIR]Parent Directory  -  
[   ]buildsrc-summary.dcf16-Oct-2021 04:05 334  
[TXT]buildsrc-out.txt16-Oct-2021 04:05 877  
[   ]install-summary.dcf16-Oct-2021 04:05 263  
[TXT]install-out.txt16-Oct-2021 04:05 626