Index of /checkResults/3.13/bioc-LATEST/RNAither/raw-results/nebbiolo1

[ICO]NameLast modifiedSizeDescription

[DIR]Parent Directory  -  
[TXT]buildsrc-out.txt23-Sep-2021 04:05 876  
[   ]buildsrc-summary.dcf23-Sep-2021 04:05 334  
[TXT]install-out.txt23-Sep-2021 04:05 626  
[   ]install-summary.dcf23-Sep-2021 04:05 263