Index of /checkResults/3.13/bioc-LATEST/RNAither/raw-results/machv2

[ICO]NameLast modifiedSizeDescription

[DIR]Parent Directory  -  
[   ]install-summary.dcf16-Oct-2021 04:06 290  
[TXT]install-out.txt16-Oct-2021 04:06 699  
[   ]buildsrc-summary.dcf16-Oct-2021 04:06 361  
[TXT]buildsrc-out.txt16-Oct-2021 04:06 910