Index of /checkResults/3.13/bioc-LATEST/RNAither/raw-results/machv2

[ICO]NameLast modifiedSizeDescription

[DIR]Parent Directory  -  
[TXT]buildsrc-out.txt23-Sep-2021 04:05 910  
[   ]buildsrc-summary.dcf23-Sep-2021 04:05 361  
[TXT]install-out.txt23-Sep-2021 04:05 699  
[   ]install-summary.dcf23-Sep-2021 04:05 290