Back to Multiple platform build/check report for BioC 3.13
ABCDEFGHIJKLMNOPQ[R]STUVWXYZ

BUILD results for RNAither on machv2

This page was generated on 2021-06-14 14:05:53 -0400 (Mon, 14 Jun 2021).

Package 1602/2041HostnameOS / ArchINSTALLBUILDCHECKBUILD BIN
RNAither 2.40.0  (landing page)
Lars Kaderali
Snapshot Date: 2021-06-13 06:50:09 -0400 (Sun, 13 Jun 2021)
URL: https://git.bioconductor.org/packages/RNAither
Branch: RELEASE_3_13
Last Commit: b624de8
Last Changed Date: 2021-05-19 11:41:51 -0400 (Wed, 19 May 2021)
nebbiolo1Linux (Ubuntu 20.04.2 LTS) / x86_64  ERROR    ERROR  skipped
tokay2Windows Server 2012 R2 Standard / x64  ERROR    ERROR  skippedskipped
machv2macOS 10.14.6 Mojave / x86_64  ERROR    ERROR  skippedskipped
To the developers/maintainers of the RNAither package:
- Please allow up to 24 hours (and sometimes 48 hours) for your latest push to git@git.bioconductor.org:packages/RNAither.git to
reflect on this report. See How and When does the builder pull? When will my changes propagate? here for more information.
- Make sure to use the following settings in order to reproduce any error or warning you see on this page.

Summary

Package: RNAither
Version: 2.40.0
Command: /Library/Frameworks/R.framework/Versions/Current/Resources/bin/R CMD build --keep-empty-dirs --no-resave-data RNAither
StartedAt: 2021-06-13 14:06:25 -0400 (Sun, 13 Jun 2021)
EndedAt: 2021-06-13 14:06:29 -0400 (Sun, 13 Jun 2021)
EllapsedTime: 4.5 seconds
RetCode: 1
Status:   ERROR  
PackageFile: None
PackageFileSize: NA

Command output

##############################################################################
##############################################################################
###
### Running command:
###
###   /Library/Frameworks/R.framework/Versions/Current/Resources/bin/R CMD build --keep-empty-dirs --no-resave-data RNAither
###
##############################################################################
##############################################################################


* checking for file ‘RNAither/DESCRIPTION’ ... OK
* preparing ‘RNAither’:
* checking DESCRIPTION meta-information ... OK
* installing the package to build vignettes
      -----------------------------------
ERROR: dependency ‘prada’ is not available for package ‘RNAither’
* removing ‘/private/tmp/Rtmp92zw6M/Rinst685138a6e46f/RNAither’
      -----------------------------------
ERROR: package installation failed