Back to Multiple platform build/check report for BioC 3.13
ABCDEFGHIJKLMNOPQ[R]STUVWXYZ

This page was generated on 2021-10-13 15:06:05 -0400 (Wed, 13 Oct 2021).

INSTALL results for RITAN on machv2

To the developers/maintainers of the RITAN package:
- Please allow up to 24 hours (and sometimes 48 hours) for your latest push to git@git.bioconductor.org:packages/RITAN.git to
reflect on this report. See How and When does the builder pull? When will my changes propagate? here for more information.
- Make sure to use the following settings in order to reproduce any error or warning you see on this page.

raw results

Package 1588/2041HostnameOS / ArchINSTALLBUILDCHECKBUILD BIN
RITAN 1.16.0  (landing page)
Michael Zimmermann
Snapshot Date: 2021-10-12 04:50:13 -0400 (Tue, 12 Oct 2021)
git_url: https://git.bioconductor.org/packages/RITAN
git_branch: RELEASE_3_13
git_last_commit: ded8612
git_last_commit_date: 2021-05-19 12:27:48 -0400 (Wed, 19 May 2021)
nebbiolo1Linux (Ubuntu 20.04.2 LTS) / x86_64  OK    OK    OK  UNNEEDED, same version is already published
tokay2Windows Server 2012 R2 Standard / x64  OK    OK    OK    OK  UNNEEDED, same version is already published
machv2macOS 10.14.6 Mojave / x86_64  OK    OK    OK    OK  UNNEEDED, same version is already published

Summary

Package: RITAN
Version: 1.16.0
Command: /Library/Frameworks/R.framework/Versions/Current/Resources/bin/R CMD INSTALL RITAN
StartedAt: 2021-10-12 09:50:19 -0400 (Tue, 12 Oct 2021)
EndedAt: 2021-10-12 09:51:13 -0400 (Tue, 12 Oct 2021)
EllapsedTime: 53.3 seconds
RetCode: 0
Status:   OK  

Command output

##############################################################################
##############################################################################
###
### Running command:
###
###   /Library/Frameworks/R.framework/Versions/Current/Resources/bin/R CMD INSTALL RITAN
###
##############################################################################
##############################################################################


* installing to library ‘/Library/Frameworks/R.framework/Versions/4.1/Resources/library’
* installing *source* package ‘RITAN’ ...
** using staged installation
** R
** data
*** moving datasets to lazyload DB
** inst
** byte-compile and prepare package for lazy loading
** help
*** installing help indices
** building package indices
** installing vignettes
** testing if installed package can be loaded from temporary location
** testing if installed package can be loaded from final location
** testing if installed package keeps a record of temporary installation path
* DONE (RITAN)