Index of /checkResults/3.13/bioc-LATEST/RCyjs/raw-results

[ICO]NameLast modifiedSizeDescription

[DIR]Parent Directory  -  
[DIR]machv2/31-Jul-2021 04:06 -  
[DIR]nebbiolo1/31-Jul-2021 04:05 -  
[DIR]tokay2/31-Jul-2021 04:06 -