Back to Multiple platform build/check report for BioC 3.13
ABCDEFGHIJKLMNOPQ[R]STUVWXYZ

This page was generated on 2021-06-17 02:38:28 -0400 (Thu, 17 Jun 2021).

BUILD results for RCyjs on nebbiolo1

To the developers/maintainers of the RCyjs package:
- Please allow up to 24 hours (and sometimes 48 hours) for your latest push to git@git.bioconductor.org:packages/RCyjs.git to
reflect on this report. See How and When does the builder pull? When will my changes propagate? here for more information.
- Make sure to use the following settings in order to reproduce any error or warning you see on this page.

raw results

Package 1527/2041HostnameOS / ArchINSTALLBUILDCHECKBUILD BIN
RCyjs 2.14.0  (landing page)
Paul Shannon
Snapshot Date: 2021-06-15 06:50:12 -0400 (Tue, 15 Jun 2021)
URL: https://git.bioconductor.org/packages/RCyjs
Branch: RELEASE_3_13
Last Commit: d93cc23
Last Changed Date: 2021-05-19 12:13:00 -0400 (Wed, 19 May 2021)
nebbiolo1Linux (Ubuntu 20.04.2 LTS) / x86_64  OK    OK    WARNINGS  UNNEEDED, same version is already published
tokay2Windows Server 2012 R2 Standard / x64  OK    OK    WARNINGS    OK  UNNEEDED, same version is already published
machv2macOS 10.14.6 Mojave / x86_64  OK    OK    WARNINGS    OK  UNNEEDED, same version is already published

Summary

Package: RCyjs
Version: 2.14.0
Command: /home/biocbuild/bbs-3.13-bioc/R/bin/R CMD build --keep-empty-dirs --no-resave-data RCyjs
StartedAt: 2021-06-15 10:12:41 -0400 (Tue, 15 Jun 2021)
EndedAt: 2021-06-15 10:12:49 -0400 (Tue, 15 Jun 2021)
EllapsedTime: 7.9 seconds
RetCode: 0
Status:   OK  
PackageFile: RCyjs_2.14.0.tar.gz
PackageFileSize: 1.085 MiB

Command output

##############################################################################
##############################################################################
###
### Running command:
###
###   /home/biocbuild/bbs-3.13-bioc/R/bin/R CMD build --keep-empty-dirs --no-resave-data RCyjs
###
##############################################################################
##############################################################################


* checking for file ‘RCyjs/DESCRIPTION’ ... OK
* preparing ‘RCyjs’:
* checking DESCRIPTION meta-information ... OK
* installing the package to build vignettes
* creating vignettes ... OK
* checking for LF line-endings in source and make files and shell scripts
* checking for empty or unneeded directories
WARNING: directory ‘RCyjs/inst/demo’ is empty
* building ‘RCyjs_2.14.0.tar.gz’