Back to Multiple platform build/check report for BioC 3.13
ABCDEFGHIJKLMNOPQ[R]STUVWXYZ

This page was generated on 2021-09-17 15:06:50 -0400 (Fri, 17 Sep 2021).

BUILD BIN results for RCyjs on machv2

To the developers/maintainers of the RCyjs package:
- Please allow up to 24 hours (and sometimes 48 hours) for your latest push to git@git.bioconductor.org:packages/RCyjs.git to
reflect on this report. See How and When does the builder pull? When will my changes propagate? here for more information.
- Make sure to use the following settings in order to reproduce any error or warning you see on this page.

raw results

Package 1527/2041HostnameOS / ArchINSTALLBUILDCHECKBUILD BIN
RCyjs 2.14.0  (landing page)
Paul Shannon
Snapshot Date: 2021-09-16 04:50:11 -0400 (Thu, 16 Sep 2021)
git_url: https://git.bioconductor.org/packages/RCyjs
git_branch: RELEASE_3_13
git_last_commit: d93cc23
git_last_commit_date: 2021-05-19 12:13:00 -0400 (Wed, 19 May 2021)
nebbiolo1Linux (Ubuntu 20.04.2 LTS) / x86_64  OK    OK    WARNINGS  UNNEEDED, same version is already published
tokay2Windows Server 2012 R2 Standard / x64  OK    OK    WARNINGS    OK  UNNEEDED, same version is already published
machv2macOS 10.14.6 Mojave / x86_64  OK    OK    WARNINGS    OK  UNNEEDED, same version is already published

Summary

Package: RCyjs
Version: 2.14.0
Command: rm -rf RCyjs.buildbin-libdir && mkdir RCyjs.buildbin-libdir && /Users/biocbuild/BBS/utils/build-universal.sh RCyjs_2.14.0.tar.gz /Library/Frameworks/R.framework/Versions/Current/Resources/bin/R RCyjs.buildbin-libdir
StartedAt: 2021-09-17 03:48:19 -0400 (Fri, 17 Sep 2021)
EndedAt: 2021-09-17 03:49:30 -0400 (Fri, 17 Sep 2021)
EllapsedTime: 71.9 seconds
RetCode: 0
Status:   OK  
PackageFile: RCyjs_2.14.0.tgz
PackageFileSize: 1022 KiB

Command output

##############################################################################
##############################################################################
###
### Running command:
###
###   rm -rf RCyjs.buildbin-libdir && mkdir RCyjs.buildbin-libdir && /Users/biocbuild/BBS/utils/build-universal.sh RCyjs_2.14.0.tar.gz /Library/Frameworks/R.framework/Versions/Current/Resources/bin/R RCyjs.buildbin-libdir
###
##############################################################################
##############################################################################


>>>>>>> 
>>>>>>> INSTALLATION WITH 'R CMD INSTALL --preclean --no-multiarch --library=RCyjs.buildbin-libdir RCyjs_2.14.0.tar.gz'
>>>>>>> 

* installing *source* package ‘RCyjs’ ...
** using staged installation
** R
** inst
** byte-compile and prepare package for lazy loading
Creating a new generic function for ‘layout’ in package ‘RCyjs’
** help
*** installing help indices
** building package indices
** installing vignettes
** testing if installed package can be loaded from temporary location
** testing if installed package can be loaded from final location
** testing if installed package keeps a record of temporary installation path
* DONE (RCyjs)