Back to Multiple platform build/check report for BioC 3.13
ABCDEFGHIJKLMNOPQ[R]STUVWXYZ

This page was generated on 2021-07-21 15:05:33 -0400 (Wed, 21 Jul 2021).

INSTALL results for RCy3 on tokay2

To the developers/maintainers of the RCy3 package:
- Please allow up to 24 hours (and sometimes 48 hours) for your latest push to git@git.bioconductor.org:packages/RCy3.git to
reflect on this report. See How and When does the builder pull? When will my changes propagate? here for more information.
- Make sure to use the following settings in order to reproduce any error or warning you see on this page.

raw results

Package 1526/2041HostnameOS / ArchINSTALLBUILDCHECKBUILD BIN
RCy3 2.12.3  (landing page)
Alex Pico
Snapshot Date: 2021-07-20 04:50:13 -0400 (Tue, 20 Jul 2021)
URL: https://git.bioconductor.org/packages/RCy3
Branch: RELEASE_3_13
Last Commit: 47168d0
Last Changed Date: 2021-06-15 21:28:25 -0400 (Tue, 15 Jun 2021)
nebbiolo1Linux (Ubuntu 20.04.2 LTS) / x86_64  OK    OK    OK  UNNEEDED, same version is already published
tokay2Windows Server 2012 R2 Standard / x64  OK    OK    OK    OK  UNNEEDED, same version is already published
machv2macOS 10.14.6 Mojave / x86_64  OK    OK    OK    OK  UNNEEDED, same version is already published

Summary

Package: RCy3
Version: 2.12.3
Command: C:\cygwin\bin\curl.exe -O http://155.52.207.165/BBS/3.13/bioc/src/contrib/RCy3_2.12.3.tar.gz && rm -rf RCy3.buildbin-libdir && mkdir RCy3.buildbin-libdir && C:\Users\biocbuild\bbs-3.13-bioc\R\bin\R.exe CMD INSTALL --merge-multiarch --build --library=RCy3.buildbin-libdir RCy3_2.12.3.tar.gz && C:\Users\biocbuild\bbs-3.13-bioc\R\bin\R.exe CMD INSTALL RCy3_2.12.3.zip && rm RCy3_2.12.3.tar.gz RCy3_2.12.3.zip
StartedAt: 2021-07-20 08:50:50 -0400 (Tue, 20 Jul 2021)
EndedAt: 2021-07-20 08:53:07 -0400 (Tue, 20 Jul 2021)
EllapsedTime: 137.0 seconds
RetCode: 0
Status:   OK  

Command output

##############################################################################
##############################################################################
###
### Running command:
###
###   C:\cygwin\bin\curl.exe -O http://155.52.207.165/BBS/3.13/bioc/src/contrib/RCy3_2.12.3.tar.gz && rm -rf RCy3.buildbin-libdir && mkdir RCy3.buildbin-libdir && C:\Users\biocbuild\bbs-3.13-bioc\R\bin\R.exe CMD INSTALL --merge-multiarch --build --library=RCy3.buildbin-libdir RCy3_2.12.3.tar.gz && C:\Users\biocbuild\bbs-3.13-bioc\R\bin\R.exe CMD INSTALL RCy3_2.12.3.zip && rm RCy3_2.12.3.tar.gz RCy3_2.12.3.zip
###
##############################################################################
##############################################################################


  % Total    % Received % Xferd  Average Speed   Time    Time     Time  Current
                                 Dload  Upload   Total   Spent    Left  Speed

  0     0    0     0    0     0      0      0 --:--:-- --:--:-- --:--:--     0
 70  919k   70  650k    0     0  1133k      0 --:--:-- --:--:-- --:--:-- 1133k
100  919k  100  919k    0     0  1249k      0 --:--:-- --:--:-- --:--:-- 1249k

install for i386

* installing *source* package 'RCy3' ...
** using staged installation
** R
** inst
** byte-compile and prepare package for lazy loading
** help
*** installing help indices
  converting help for package 'RCy3'
    finding HTML links ... done
    AddToGroup                              html  
    RCy3                                    html  
    RemoveFromGroup                         html  
    addAnnotationText                       html  
    addCyEdges                              html  
    addCyNodes                              html  
    analyzeNetwork                          html  
    applyFilter                             html  
    bundleEdges                             html  
    checkNotebookIsRunning                  html  
    checkRunningRemote                      html  
    clearEdgeBends                          html  
    clearEdgePropertyBypass                 html  
    clearNetworkCenterBypass                html  
    clearNetworkPropertyBypass              html  
    clearNetworkZoomBypass                  html  
    clearNodeOpacityBypass                  html  
    clearNodePropertyBypass                 html  
    clearSelection                          html  
    cloneNetwork                            html  
    closeSession                            html  
    collapseGroup                           html  
    commandEcho                             html  
    commandOpenDialog                       html  
    commandPause                            html  
    commandQuit                             html  
    commandRunFile                          html  
    commandSleep                            html  
    commandsAPI                             html  
    commandsGET                             html  
    commandsHelp                            html  
    commandsPOST                            html  
    commandsRun                             html  
    copyVisualStyle                         html  
    createColumnFilter                      html  
    createCompositeFilter                   html  
    createDegreeFilter                      html  
    createGraphFromNetwork                  html  
    createGroup                             html  
    createGroupByColumn                     html  
    createIgraphFromNetwork                 html  
    createNetworkFromDataFrames             html  
    createNetworkFromGraph                  html  
    createNetworkFromIgraph                 html  
    createSubnetwork                        html  
    createVisualStyle                       html  
    cybrowserClose                          html  
    cybrowserDialog                         html  
    cybrowserHide                           html  
    cybrowserList                           html  
    cybrowserSend                           html  
    cybrowserShow                           html  
    cybrowserVersion                        html  
    cyrestAPI                               html  
    cyrestDELETE                            html  
    cyrestGET                               html  
    cyrestPOST                              html  
    cyrestPUT                               html  
    cytoscapeApiVersions                    html  
    cytoscapeFreeMemory                     html  
    cytoscapeMemoryStatus                   html  
    cytoscapeNumberOfCores                  html  
    cytoscapePing                           html  
    cytoscapeVersionInfo                    html  
    deleteAllNetworks                       html  
    deleteAnnotation                        html  
    deleteDuplicateEdges                    html  
    deleteGroup                             html  
    deleteNetwork                           html  
    deleteSelectedEdges                     html  
    deleteSelectedNodes                     html  
    deleteSelfLoops                         html  
    deleteStyleMapping                      html  
    deleteTableColumn                       html  
    deleteVisualStyle                       html  
    diffusionAdvanced                       html  
    diffusionBasic                          html  
    disableApp                              html  
    doInitializeSandbox                     html  
    doRequestRemote                         html  
    doSetSandbox                            html  
    dockPanel                               html  
    dot-getDefaultSandbox                   html  
    dot-getRequester                        html  
    enableApp                               html  
    expandGroup                             html  
    exportFilters                           html  
    exportImage                             html  
    exportNetwork                           html  
    exportNetworkToNDEx                     html  
    exportVisualStyles                      html  
    findRemoteCytoscape                     html  
    fitContent                              html  
    floatPanel                              html  
    getAbsSandboxPath                       html  
    getAllEdges                             html  
    getAllNodes                             html  
    getAllStyleMappings                     html  
    getAnnotationList                       html  
    getAppInformation                       html  
    getAppStatus                            html  
    getAppUpdates                           html  
    getArrowShapes                          html  
    getAvailableApps                        html  
    getBackgroundColorDefault               html  
    getBrowserClientChannel                 html  
    getBrowserClientJs                      html  
    getCollectionList                       html  
    getCollectionName                       html  
    getCollectionNetworks                   html  
    getCollectionSuid                       html  
    getCurrentSandbox                       html  
    getCurrentSandboxName                   html  
    getCurrentSandboxPath                   html  
    getCurrentStyle                         html  
    getDefaultSandbox                       html  
    getDefaultSandboxPath                   html  
    getDisabledApps                         html  
    getEdgeColor                            html  
    getEdgeCount                            html  
    getEdgeInfo                             html  
    getEdgeLineStyle                        html  
    getEdgeLineWidth                        html  
    getEdgeProperty                         html  
    getEdgeSelectionColorDefault            html  
    getEdgeTargetArrowShape                 html  
    getFilterList                           html  
    getFirstNeighbors                       html  
    getGroupInfo                            html  
    getInstalledApps                        html  
    getJupyterBridgeURL                     html  
    getLayoutNameMapping                    html  
    getLayoutNames                          html  
    getLayoutPropertyNames                  html  
    getLayoutPropertyType                   html  
    getLayoutPropertyValue                  html  
    getLineStyles                           html  
    getNetworkCenter                        html  
    getNetworkCount                         html  
    getNetworkList                          html  
    getNetworkNDExId                        html  
    getNetworkName                          html  
    getNetworkProperty                      html  
    getNetworkSuid                          html  
    getNetworkViewSuid                      html  
    getNetworkViews                         html  
    getNetworkZoom                          html  
    getNodeColor                            html  
    getNodeCount                            html  
    getNodeHeight                           html  
    getNodePosition                         html  
    getNodeProperty                         html  
    getNodeSelectionColorDefault            html  
    getNodeShapes                           html  
    getNodeSize                             html  
    getNodeWidth                            html  
    getNotebookIsRunning                    html  
    getSandboxReinitialize                  html  
    getSelectedEdgeCount                    html  
    getSelectedEdges                        html  
    getSelectedNodeCount                    html  
    getSelectedNodes                        html  
    getStyleDependencies                    html  
    getStyleMapping                         html  
    getTableColumnNames                     html  
    getTableColumnTypes                     html  
    getTableColumns                         html  
    getTableValue                           html  
    getUninstalledApps                      html  
    getVisualPropertyDefault                html  
    getVisualPropertyNames                  html  
    getVisualStyleNames                     html  
    hideAllPanels                           html  
    hideEdges                               html  
    hideNodes                               html  
    hidePanel                               html  
    hideSelectedEdges                       html  
    hideSelectedNodes                       html  
    importFilters                           html  
    importNetworkFromFile                   html  
    importNetworkFromNDEx                   html  
    importVisualStyles                      html  
    installApp                              html  
    invertEdgeSelection                     html  
    invertNodeSelection                     html  
    layoutCopycat                           html  
    layoutNetwork                           html  
    listGroups                              html  
    loadTableData                           html  
    lockNodeDimensions                      html  
    makeSimpleGraph                         html  
    makeSimpleIgraph                        html  
    mapTableColumn                          html  
    mapVisualProperty                       html  
    matchArrowColorToEdge                   html  
    mergeNetworks                           html  
    openAppStore                            html  
    openSession                             html  
    paletteColorBrewerAccent                html  
    paletteColorBrewerBlues                 html  
    paletteColorBrewerBrBG                  html  
    paletteColorBrewerBuGn                  html  
    paletteColorBrewerBuPu                  html  
    paletteColorBrewerDark2                 html  
    paletteColorBrewerGnBu                  html  
    paletteColorBrewerGreens                html  
    paletteColorBrewerGreys                 html  
    paletteColorBrewerOrRd                  html  
    paletteColorBrewerOranges               html  
    paletteColorBrewerPRGn                  html  
    paletteColorBrewerPaired                html  
    paletteColorBrewerPastel1               html  
    paletteColorBrewerPastel2               html  
    paletteColorBrewerPiYG                  html  
    paletteColorBrewerPuBu                  html  
    paletteColorBrewerPuBuGn                html  
    paletteColorBrewerPuOr                  html  
    paletteColorBrewerPuRd                  html  
    paletteColorBrewerPurples               html  
    paletteColorBrewerRdBu                  html  
    paletteColorBrewerRdPu                  html  
    paletteColorBrewerRdYlBu                html  
    paletteColorBrewerReds                  html  
    paletteColorBrewerSet1                  html  
    paletteColorBrewerSet2                  html  
    paletteColorBrewerSet3                  html  
    paletteColorBrewerYlGn                  html  
    paletteColorBrewerYlGnBu                html  
    paletteColorBrewerYlOrBr                html  
    paletteColorBrewerYlOrRd                html  
    paletteColorRandom                      html  
    removeNodeCustomGraphics                html  
    renameNetwork                           html  
    renameTableColumn                       html  
    resetDefaultSandbox                     html  
    runningRemoteCheck                      html  
    sandboxGetFileInfo                      html  
    sandboxGetFrom                          html  
    sandboxInitializer                      html  
    sandboxRemove                           html  
    sandboxRemoveFile                       html  
    sandboxSendTo                           html  
    sandboxSet                              html  
    sandboxUrlTo                            html  
    saveSession                             html  
    selectAllEdges                          html  
    selectAllNodes                          html  
    selectEdges                             html  
    selectEdgesAdjacentToSelectedNodes      html  
    selectEdgesConnectingSelectedNodes      html  
    selectFirstNeighbors                    html  
    selectNodes                             html  
    selectNodesConnectedBySelectedEdges     html  
    setBackgroundColorDefault               html  
    setCatchupFilterSecs                    html  
    setCatchupNetworkSecs                   html  
    setCurrentNetwork                       html  
    setCurrentSandbox                       html  
    setCurrentView                          html  
    setDefaultSandbox                       html  
    setDefaultSandboxPath                   html  
    setEdgeColorBypass                      html  
    setEdgeColorDefault                     html  
    setEdgeColorMapping                     html  
    setEdgeFontFaceBypass                   html  
    setEdgeFontFaceDefault                  html  
    setEdgeFontFaceMapping                  html  
    setEdgeFontSizeBypass                   html  
    setEdgeFontSizeDefault                  html  
    setEdgeFontSizeMapping                  html  
    setEdgeLabelBypass                      html  
    setEdgeLabelColorBypass                 html  
    setEdgeLabelColorDefault                html  
    setEdgeLabelColorMapping                html  
    setEdgeLabelDefault                     html  
    setEdgeLabelMapping                     html  
    setEdgeLabelOpacityBypass               html  
    setEdgeLabelOpacityDefault              html  
    setEdgeLabelOpacityMapping              html  
    setEdgeLineStyleBypass                  html  
    setEdgeLineStyleDefault                 html  
    setEdgeLineStyleMapping                 html  
    setEdgeLineWidthBypass                  html  
    setEdgeLineWidthDefault                 html  
    setEdgeLineWidthMapping                 html  
    setEdgeOpacityBypass                    html  
    setEdgeOpacityDefault                   html  
    setEdgeOpacityMapping                   html  
    setEdgePropertyBypass                   html  
    setEdgeSelectionColorDefault            html  
    setEdgeSourceArrowColorBypass           html  
    setEdgeSourceArrowColorDefault          html  
    setEdgeSourceArrowColorMapping          html  
    setEdgeSourceArrowMapping               html  
    setEdgeSourceArrowShapeBypass           html  
    setEdgeSourceArrowShapeDefault          html  
    setEdgeSourceArrowShapeMapping          html  
    setEdgeTargetArrowColorBypass           html  
    setEdgeTargetArrowColorDefault          html  
    setEdgeTargetArrowColorMapping          html  
    setEdgeTargetArrowMapping               html  
    setEdgeTargetArrowShapeBypass           html  
    setEdgeTargetArrowShapeDefault          html  
    setEdgeTargetArrowShapeMapping          html  
    setEdgeTooltipBypass                    html  
    setEdgeTooltipDefault                   html  
    setEdgeTooltipMapping                   html  
    setLayoutProperties                     html  
    setModelPropagationSecs                 html  
    setNetworkCenterBypass                  html  
    setNetworkPropertyBypass                html  
    setNetworkZoomBypass                    html  
    setNodeBorderColorBypass                html  
    setNodeBorderColorDefault               html  
    setNodeBorderColorMapping               html  
    setNodeBorderOpacityBypass              html  
    setNodeBorderOpacityDefault             html  
    setNodeBorderOpacityMapping             html  
    setNodeBorderWidthBypass                html  
    setNodeBorderWidthDefault               html  
    setNodeBorderWidthMapping               html  
    setNodeColorBypass                      html  
    setNodeColorDefault                     html  
    setNodeColorMapping                     html  
    setNodeComboOpacityMapping              html  
    setNodeCustomBarChart                   html  
    setNodeCustomBoxChart                   html  
    setNodeCustomHeatMapChart               html  
    setNodeCustomLineChart                  html  
    setNodeCustomLinearGradient             html  
    setNodeCustomPieChart                   html  
    setNodeCustomPosition                   html  
    setNodeCustomRadialGradient             html  
    setNodeCustomRingChart                  html  
    setNodeFillOpacityBypass                html  
    setNodeFillOpacityDefault               html  
    setNodeFillOpacityMapping               html  
    setNodeFontFaceBypass                   html  
    setNodeFontFaceDefault                  html  
    setNodeFontFaceMapping                  html  
    setNodeFontSizeBypass                   html  
    setNodeFontSizeDefault                  html  
    setNodeFontSizeMapping                  html  
    setNodeHeightBypass                     html  
    setNodeHeightDefault                    html  
    setNodeHeightMapping                    html  
    setNodeLabelBypass                      html  
    setNodeLabelColorBypass                 html  
    setNodeLabelColorDefault                html  
    setNodeLabelColorMapping                html  
    setNodeLabelDefault                     html  
    setNodeLabelMapping                     html  
    setNodeLabelOpacityBypass               html  
    setNodeLabelOpacityDefault              html  
    setNodeLabelOpacityMapping              html  
    setNodeOpacityBypass                    html  
    setNodePropertyBypass                   html  
    setNodeSelectionColorDefault            html  
    setNodeShapeBypass                      html  
    setNodeShapeDefault                     html  
    setNodeShapeMapping                     html  
    setNodeSizeBypass                       html  
    setNodeSizeDefault                      html  
    setNodeSizeMapping                      html  
    setNodeTooltipBypass                    html  
    setNodeTooltipDefault                   html  
    setNodeTooltipMapping                   html  
    setNodeWidthBypass                      html  
    setNodeWidthDefault                     html  
    setNodeWidthMapping                     html  
    setNotebookIsRunning                    html  
    setSandboxReinitialize                  html  
    setStyleDependencies                    html  
    setVisualPropertyDefault                html  
    setVisualStyle                          html  
    spoofResponse-class                     html  
    syncNodeCustomGraphicsSize              html  
    toggleGraphicsDetails                   html  
    unhideAll                               html  
    unhideEdges                             html  
    unhideNodes                             html  
    uninstallApp                            html  
    updateApp                               html  
    updateNetworkInNDEx                     html  
    updateStyleDefaults                     html  
    updateStyleMapping                      html  
** building package indices
** installing vignettes
** testing if installed package can be loaded from temporary location
** testing if installed package can be loaded from final location
** testing if installed package keeps a record of temporary installation path

install for x64

* installing *source* package 'RCy3' ...
** testing if installed package can be loaded
* MD5 sums
packaged installation of 'RCy3' as RCy3_2.12.3.zip
* DONE (RCy3)
* installing to library 'C:/Users/biocbuild/bbs-3.13-bioc/R/library'
package 'RCy3' successfully unpacked and MD5 sums checked