Back to Multiple platform build/check report for BioC 3.13
ABCDEFGHIJKLMNOPQ[R]STUVWXYZ

This page was generated on 2021-06-17 02:39:20 -0400 (Thu, 17 Jun 2021).

INSTALL results for RCy3 on machv2

To the developers/maintainers of the RCy3 package:
- Please allow up to 24 hours (and sometimes 48 hours) for your latest push to git@git.bioconductor.org:packages/RCy3.git to
reflect on this report. See How and When does the builder pull? When will my changes propagate? here for more information.
- Make sure to use the following settings in order to reproduce any error or warning you see on this page.

raw results

Package 1526/2041HostnameOS / ArchINSTALLBUILDCHECKBUILD BIN
RCy3 2.12.2  (landing page)
Alex Pico
Snapshot Date: 2021-06-15 06:50:12 -0400 (Tue, 15 Jun 2021)
URL: https://git.bioconductor.org/packages/RCy3
Branch: RELEASE_3_13
Last Commit: 6fe1644
Last Changed Date: 2021-06-01 15:32:14 -0400 (Tue, 01 Jun 2021)
nebbiolo1Linux (Ubuntu 20.04.2 LTS) / x86_64  OK    OK    OK  UNNEEDED, same version is already published
tokay2Windows Server 2012 R2 Standard / x64  OK    OK    OK    OK  UNNEEDED, same version is already published
machv2macOS 10.14.6 Mojave / x86_64  OK    OK    OK    OK  UNNEEDED, same version is already published

Summary

Package: RCy3
Version: 2.12.2
Command: /Library/Frameworks/R.framework/Versions/Current/Resources/bin/R CMD INSTALL RCy3
StartedAt: 2021-06-15 08:50:19 -0400 (Tue, 15 Jun 2021)
EndedAt: 2021-06-15 08:51:01 -0400 (Tue, 15 Jun 2021)
EllapsedTime: 41.7 seconds
RetCode: 0
Status:   OK  

Command output

##############################################################################
##############################################################################
###
### Running command:
###
###   /Library/Frameworks/R.framework/Versions/Current/Resources/bin/R CMD INSTALL RCy3
###
##############################################################################
##############################################################################


* installing to library ‘/Library/Frameworks/R.framework/Versions/4.1/Resources/library’
* installing *source* package ‘RCy3’ ...
** using staged installation
** R
** inst
** byte-compile and prepare package for lazy loading
** help
*** installing help indices
** building package indices
** installing vignettes
** testing if installed package can be loaded from temporary location
** testing if installed package can be loaded from final location
** testing if installed package keeps a record of temporary installation path
* DONE (RCy3)