Back to Multiple platform build/check report for BioC 3.13
ABCDEFGHIJKLMNOPQ[R]STUVWXYZ

BUILD results for RCy3 on machv2

This page was generated on 2021-06-11 14:06:45 -0400 (Fri, 11 Jun 2021).

Package 1526/2041HostnameOS / ArchINSTALLBUILDCHECKBUILD BIN
RCy3 2.12.2  (landing page)
Alex Pico
Snapshot Date: 2021-06-10 06:50:12 -0400 (Thu, 10 Jun 2021)
URL: https://git.bioconductor.org/packages/RCy3
Branch: RELEASE_3_13
Last Commit: 6fe1644
Last Changed Date: 2021-06-01 15:32:14 -0400 (Tue, 01 Jun 2021)
nebbiolo1Linux (Ubuntu 20.04.2 LTS) / x86_64  OK    OK    OK  UNNEEDED, same version is already published
tokay2Windows Server 2012 R2 Standard / x64  OK    OK    OK    OK  UNNEEDED, same version is already published
machv2macOS 10.14.6 Mojave / x86_64  OK    OK    OK    OK  UNNEEDED, same version is already published
To the developers/maintainers of the RCy3 package:
- Please allow up to 24 hours (and sometimes 48 hours) for your latest push to git@git.bioconductor.org:packages/RCy3.git to
reflect on this report. See How and When does the builder pull? When will my changes propagate? here for more information.
- Make sure to use the following settings in order to reproduce any error or warning you see on this page.

Summary

Package: RCy3
Version: 2.12.2
Command: /Library/Frameworks/R.framework/Versions/Current/Resources/bin/R CMD build --keep-empty-dirs --no-resave-data RCy3
StartedAt: 2021-06-10 14:00:34 -0400 (Thu, 10 Jun 2021)
EndedAt: 2021-06-10 14:02:07 -0400 (Thu, 10 Jun 2021)
EllapsedTime: 93.7 seconds
RetCode: 0
Status:   OK  
PackageFile: RCy3_2.12.2.tar.gz
PackageFileSize: 4.785 MiB

Command output

##############################################################################
##############################################################################
###
### Running command:
###
###   /Library/Frameworks/R.framework/Versions/Current/Resources/bin/R CMD build --keep-empty-dirs --no-resave-data RCy3
###
##############################################################################
##############################################################################


* checking for file ‘RCy3/DESCRIPTION’ ... OK
* preparing ‘RCy3’:
* checking DESCRIPTION meta-information ... OK
* installing the package to build vignettes
* creating vignettes ... OK
* checking for LF line-endings in source and make files and shell scripts
* checking for empty or unneeded directories
* building ‘RCy3_2.12.2.tar.gz’