Index of /checkResults/3.13/bioc-LATEST/Pigengene/raw-results/nebbiolo1

[ICO]NameLast modifiedSizeDescription

[DIR]Parent Directory  -  
[TXT]buildsrc-out.txt16-Oct-2021 04:05 878  
[   ]buildsrc-summary.dcf16-Oct-2021 04:05 426  
[TXT]checksrc-out.txt16-Oct-2021 04:05 4.4K 
[   ]checksrc-summary.dcf16-Oct-2021 04:05 434  
[TXT]install-out.txt16-Oct-2021 04:05 961  
[   ]install-summary.dcf16-Oct-2021 04:05 264