Back to Multiple platform build/check report for BioC 3.13
ABCDEFGHIJKLMNO[P]QRSTUVWXYZ

This page was generated on 2021-06-17 02:38:26 -0400 (Thu, 17 Jun 2021).

CHECK results for PhenStat on nebbiolo1

To the developers/maintainers of the PhenStat package:
- Please allow up to 24 hours (and sometimes 48 hours) for your latest push to git@git.bioconductor.org:packages/PhenStat.git to
reflect on this report. See How and When does the builder pull? When will my changes propagate? here for more information.
- Make sure to use the following settings in order to reproduce any error or warning you see on this page.

raw results

Package 1383/2041HostnameOS / ArchINSTALLBUILDCHECKBUILD BIN
PhenStat 2.28.0  (landing page)
Hamed Haselimashhadi
Snapshot Date: 2021-06-15 06:50:12 -0400 (Tue, 15 Jun 2021)
URL: https://git.bioconductor.org/packages/PhenStat
Branch: RELEASE_3_13
Last Commit: d1496a6
Last Changed Date: 2021-05-19 12:02:09 -0400 (Wed, 19 May 2021)
nebbiolo1Linux (Ubuntu 20.04.2 LTS) / x86_64  OK    OK    OK  UNNEEDED, same version is already published
tokay2Windows Server 2012 R2 Standard / x64  OK    OK    OK    OK  UNNEEDED, same version is already published
machv2macOS 10.14.6 Mojave / x86_64  OK    OK    OK    OK  UNNEEDED, same version is already published

Summary

Package: PhenStat
Version: 2.28.0
Command: /home/biocbuild/bbs-3.13-bioc/R/bin/R CMD check --install=check:PhenStat.install-out.txt --library=/home/biocbuild/bbs-3.13-bioc/R/library --no-vignettes --timings PhenStat_2.28.0.tar.gz
StartedAt: 2021-06-15 13:00:36 -0400 (Tue, 15 Jun 2021)
EndedAt: 2021-06-15 13:02:30 -0400 (Tue, 15 Jun 2021)
EllapsedTime: 114.0 seconds
RetCode: 0
Status:   OK  
CheckDir: PhenStat.Rcheck
Warnings: 0

Command output

##############################################################################
##############################################################################
###
### Running command:
###
###   /home/biocbuild/bbs-3.13-bioc/R/bin/R CMD check --install=check:PhenStat.install-out.txt --library=/home/biocbuild/bbs-3.13-bioc/R/library --no-vignettes --timings PhenStat_2.28.0.tar.gz
###
##############################################################################
##############################################################################


* using log directory ‘/home/biocbuild/bbs-3.13-bioc/meat/PhenStat.Rcheck’
* using R version 4.1.0 (2021-05-18)
* using platform: x86_64-pc-linux-gnu (64-bit)
* using session charset: UTF-8
* using option ‘--no-vignettes’
* checking for file ‘PhenStat/DESCRIPTION’ ... OK
* checking extension type ... Package
* this is package ‘PhenStat’ version ‘2.28.0’
* checking package namespace information ... OK
* checking package dependencies ... OK
* checking if this is a source package ... OK
* checking if there is a namespace ... OK
* checking for hidden files and directories ... OK
* checking for portable file names ... OK
* checking for sufficient/correct file permissions ... OK
* checking whether package ‘PhenStat’ can be installed ... OK
* checking installed package size ... OK
* checking package directory ... OK
* checking ‘build’ directory ... OK
* checking DESCRIPTION meta-information ... OK
* checking top-level files ... OK
* checking for left-over files ... OK
* checking index information ... OK
* checking package subdirectories ... OK
* checking R files for non-ASCII characters ... OK
* checking R files for syntax errors ... OK
* checking whether the package can be loaded ... OK
* checking whether the package can be loaded with stated dependencies ... OK
* checking whether the package can be unloaded cleanly ... OK
* checking whether the namespace can be loaded with stated dependencies ... OK
* checking whether the namespace can be unloaded cleanly ... OK
* checking dependencies in R code ... NOTE
Namespace in Imports field not imported from: ‘SmoothWin’
  All declared Imports should be used.
* checking S3 generic/method consistency ... OK
* checking replacement functions ... OK
* checking foreign function calls ... OK
* checking R code for possible problems ... OK
* checking Rd files ... OK
* checking Rd metadata ... OK
* checking Rd cross-references ... OK
* checking for missing documentation entries ... OK
* checking for code/documentation mismatches ... OK
* checking Rd \usage sections ... OK
* checking Rd contents ... OK
* checking for unstated dependencies in examples ... OK
* checking installed files from ‘inst/doc’ ... OK
* checking files in ‘vignettes’ ... OK
* checking examples ... OK
* checking for unstated dependencies in ‘tests’ ... OK
* checking tests ...
  Running ‘runTests.R’
 OK
* checking for unstated dependencies in vignettes ... OK
* checking package vignettes in ‘inst/doc’ ... OK
* checking running R code from vignettes ... SKIPPED
* checking re-building of vignette outputs ... SKIPPED
* checking PDF version of manual ... OK
* DONE

Status: 1 NOTE
See
  ‘/home/biocbuild/bbs-3.13-bioc/meat/PhenStat.Rcheck/00check.log’
for details.



Installation output

PhenStat.Rcheck/00install.out

##############################################################################
##############################################################################
###
### Running command:
###
###   /home/biocbuild/bbs-3.13-bioc/R/bin/R CMD INSTALL PhenStat
###
##############################################################################
##############################################################################


* installing to library ‘/home/biocbuild/bbs-3.13-bioc/R/library’
* installing *source* package ‘PhenStat’ ...
** using staged installation
** R
** inst
** byte-compile and prepare package for lazy loading
** help
*** installing help indices
** building package indices
** installing vignettes
** testing if installed package can be loaded from temporary location
** testing if installed package can be loaded from final location
** testing if installed package keeps a record of temporary installation path
* DONE (PhenStat)

Tests output

PhenStat.Rcheck/tests/runTests.Rout


R version 4.1.0 (2021-05-18) -- "Camp Pontanezen"
Copyright (C) 2021 The R Foundation for Statistical Computing
Platform: x86_64-pc-linux-gnu (64-bit)

R is free software and comes with ABSOLUTELY NO WARRANTY.
You are welcome to redistribute it under certain conditions.
Type 'license()' or 'licence()' for distribution details.

R is a collaborative project with many contributors.
Type 'contributors()' for more information and
'citation()' on how to cite R or R packages in publications.

Type 'demo()' for some demos, 'help()' for on-line help, or
'help.start()' for an HTML browser interface to help.
Type 'q()' to quit R.

> BiocGenerics:::testPackage("PhenStat")

 >=========================================================================<
 This version of PhenStat includes *FEWER* functions than the previous ones 
 You *still* can use the previous functions by using `:::`. For example :   
 PhenStat:::boxplotSexGenotype   or   PhenStat:::FisherExactTest            
 *** Want to know what is new in this version? run PhenStat:::WhatIsNew()   
 >=========================================================================<


RUNIT TEST PROTOCOL -- Tue Jun 15 13:02:26 2021 
*********************************************** 
Number of test functions: 0 
Number of errors: 0 
Number of failures: 0 

 
1 Test Suite : 
PhenStat RUnit Tests - 0 test functions, 0 errors, 0 failures
Number of test functions: 0 
Number of errors: 0 
Number of failures: 0 
> 
> proc.time()
   user  system elapsed 
  3.440   0.279   3.704 

Example timings

PhenStat.Rcheck/PhenStat-Ex.timings

nameusersystemelapsed
FisherExactTest0.1560.0110.169
JSONOutput0.8230.0080.832
LRDataset0.0550.0000.056
PhenList-class0.2810.0080.290
PhenList0.180.000.18
PhenStatReport0.0360.0000.037
PhenTestResult-class0.6800.1440.823
PhenTestResult0.5330.0360.570
RRTest0.0770.0030.079
TFDataset0.2330.0200.252
analysedDataset0.6660.0360.702
analysisResults0.7100.0440.755
boxplotResidualBatch0.7400.0560.796
boxplotSexGenotype0.0720.0000.073
boxplotSexGenotypeBatch0.1080.0080.116
boxplotSexGenotypeBatchAdjusted0.0590.0000.058
boxplotSexGenotypeResult0.7580.0120.769
boxplotSexGenotypeWeightBatchAdjusted0.0570.0000.056
categoricalBarplot0.1240.0000.124
checkDataset0.0280.0040.032
classificationTag0.6220.0040.626
determiningLambda0.8340.1480.981
dim0.0320.0000.032
finalLRModel0.3870.0040.391
finalModel0.5030.0000.504
finalTFModel0.4050.0120.418
htestPhenStat-class0.0990.0080.106
modelFormula0.0010.0000.000
modelFormulaLR0.0010.0000.000
parserOutputSummary0.6230.0080.631
parserOutputSummaryLR0.3440.0040.348
parserOutputTFSummary0.0800.0040.085
performReverseTransformation0.0000.0000.001
performTransformation000
plot.PhenList2.0150.0362.052
plot.PhenTestResult2.0000.0202.021
plotResidualPredicted0.6320.0000.632
printLROutput0.3710.0000.371
printTabStyle0.0010.0000.001
qqplotGenotype0.6350.0040.639
qqplotRandomEffects0.6890.0000.689
qqplotRotatedResiduals3.3900.0403.429
recommendMethod0.1720.0000.171
scatterplotGenotypeWeight0.1280.0040.133
scatterplotGenotypeWeightResult0.8000.0000.801
scatterplotSexGenotypeBatch0.0810.0000.082
scatterplotSexGenotypeBatchResult0.7710.0000.771
startLRModel0.3060.0000.306
startModel0.4500.0040.454
startTFModel0.3230.0080.331
summaryOutput0.7070.0040.712
summaryPhenListResult0.6960.0120.708
testDataset1.9490.0241.973
testFinalLRModel0.3430.0040.347
testFinalModel0.7520.0040.756
vectorOutput0.6920.0000.692
vectorOutputMatrices0.1030.0000.103