Back to Multiple platform build/check report for BioC 3.13
ABCDEFGHIJKLMNO[P]QRSTUVWXYZ

This page was generated on 2021-06-23 15:06:08 -0400 (Wed, 23 Jun 2021).

BUILD results for PhenStat on machv2

To the developers/maintainers of the PhenStat package:
- Please allow up to 24 hours (and sometimes 48 hours) for your latest push to git@git.bioconductor.org:packages/PhenStat.git to
reflect on this report. See How and When does the builder pull? When will my changes propagate? here for more information.
- Make sure to use the following settings in order to reproduce any error or warning you see on this page.

raw results

Package 1383/2041HostnameOS / ArchINSTALLBUILDCHECKBUILD BIN
PhenStat 2.28.0  (landing page)
Hamed Haselimashhadi
Snapshot Date: 2021-06-22 04:50:12 -0400 (Tue, 22 Jun 2021)
URL: https://git.bioconductor.org/packages/PhenStat
Branch: RELEASE_3_13
Last Commit: d1496a6
Last Changed Date: 2021-05-19 12:02:09 -0400 (Wed, 19 May 2021)
nebbiolo1Linux (Ubuntu 20.04.2 LTS) / x86_64  OK    OK    OK  UNNEEDED, same version is already published
tokay2Windows Server 2012 R2 Standard / x64  OK    OK    OK    OK  UNNEEDED, same version is already published
machv2macOS 10.14.6 Mojave / x86_64  OK    OK    OK    OK  UNNEEDED, same version is already published

Summary

Package: PhenStat
Version: 2.28.0
Command: /Library/Frameworks/R.framework/Versions/Current/Resources/bin/R CMD build --keep-empty-dirs --no-resave-data PhenStat
StartedAt: 2021-06-22 13:36:25 -0400 (Tue, 22 Jun 2021)
EndedAt: 2021-06-22 13:37:37 -0400 (Tue, 22 Jun 2021)
EllapsedTime: 72.5 seconds
RetCode: 0
Status:   OK  
PackageFile: PhenStat_2.28.0.tar.gz
PackageFileSize: 719.3 KiB

Command output

##############################################################################
##############################################################################
###
### Running command:
###
###   /Library/Frameworks/R.framework/Versions/Current/Resources/bin/R CMD build --keep-empty-dirs --no-resave-data PhenStat
###
##############################################################################
##############################################################################


* checking for file ‘PhenStat/DESCRIPTION’ ... OK
* preparing ‘PhenStat’:
* checking DESCRIPTION meta-information ... OK
* installing the package to build vignettes
* creating vignettes ... OK
Warning: ‘inst/doc’ files
    ‘PhenStat.Rnw’, ‘PhenStat.pdf’, ‘PhenStat.R’
  ignored as vignettes have been rebuilt.
  Run R CMD build with --no-build-vignettes to prevent rebuilding.
* checking for LF line-endings in source and make files and shell scripts
* checking for empty or unneeded directories
* building ‘PhenStat_2.28.0.tar.gz’