Back to Multiple platform build/check report for BioC 3.13
ABCDEFGHIJKLMNO[P]QRSTUVWXYZ

This page was generated on 2021-08-02 15:05:23 -0400 (Mon, 02 Aug 2021).

BUILD BIN results for PPInfer on tokay2

To the developers/maintainers of the PPInfer package:
- Please allow up to 24 hours (and sometimes 48 hours) for your latest push to git@git.bioconductor.org:packages/PPInfer.git to
reflect on this report. See How and When does the builder pull? When will my changes propagate? here for more information.
- Make sure to use the following settings in order to reproduce any error or warning you see on this page.

raw results

Package 1420/2041HostnameOS / ArchINSTALLBUILDCHECKBUILD BIN
PPInfer 1.18.0  (landing page)
Dongmin Jung
Snapshot Date: 2021-08-01 04:50:10 -0400 (Sun, 01 Aug 2021)
URL: https://git.bioconductor.org/packages/PPInfer
Branch: RELEASE_3_13
Last Commit: 7713f20
Last Changed Date: 2021-05-19 12:27:35 -0400 (Wed, 19 May 2021)
nebbiolo1Linux (Ubuntu 20.04.2 LTS) / x86_64  OK    OK    OK  UNNEEDED, same version is already published
tokay2Windows Server 2012 R2 Standard / x64  OK    OK    OK    OK  UNNEEDED, same version is already published
machv2macOS 10.14.6 Mojave / x86_64  OK    OK    OK    OK  UNNEEDED, same version is already published

Summary

Package: PPInfer
Version: 1.18.0
Command: rm -rf PPInfer.buildbin-libdir && mkdir PPInfer.buildbin-libdir && C:\Users\biocbuild\bbs-3.13-bioc\R\bin\R.exe CMD INSTALL --merge-multiarch --build --library=PPInfer.buildbin-libdir PPInfer_1.18.0.tar.gz
StartedAt: 2021-08-02 10:54:10 -0400 (Mon, 02 Aug 2021)
EndedAt: 2021-08-02 10:55:09 -0400 (Mon, 02 Aug 2021)
EllapsedTime: 59.2 seconds
RetCode: 0
Status:   OK  
PackageFile: PPInfer_1.18.0.zip
PackageFileSize: 326 KiB

Command output

##############################################################################
##############################################################################
###
### Running command:
###
###   rm -rf PPInfer.buildbin-libdir && mkdir PPInfer.buildbin-libdir && C:\Users\biocbuild\bbs-3.13-bioc\R\bin\R.exe CMD INSTALL --merge-multiarch --build --library=PPInfer.buildbin-libdir PPInfer_1.18.0.tar.gz
###
##############################################################################
##############################################################################



install for i386

* installing *source* package 'PPInfer' ...
** using staged installation
** R
** inst
** byte-compile and prepare package for lazy loading
** help
*** installing help indices
  converting help for package 'PPInfer'
    finding HTML links ... done
    GSEA.barplot                            html  
    ORA                                     html  
    ORA.barplot                             html  
    PPInfer-package                         html  
    enrich.net                              html  
    net.infer                               html  
    net.infer.ST                            html  
    net.kernel                              html  
    ppi.infer.human                         html  
    ppi.infer.mouse                         html  
    self.train.kernel                       html  
** building package indices
** installing vignettes
** testing if installed package can be loaded from temporary location
** testing if installed package can be loaded from final location
** testing if installed package keeps a record of temporary installation path

install for x64

* installing *source* package 'PPInfer' ...
** testing if installed package can be loaded
* MD5 sums
packaged installation of 'PPInfer' as PPInfer_1.18.0.zip
* DONE (PPInfer)