Back to Multiple platform build/check report for BioC 3.13
ABCDEFGHIJKLMNO[P]QRSTUVWXYZ

This page was generated on 2021-06-18 14:05:54 -0400 (Fri, 18 Jun 2021).

CHECK results for PFP on nebbiolo1

To the developers/maintainers of the PFP package:
- Please allow up to 24 hours (and sometimes 48 hours) for your latest push to git@git.bioconductor.org:packages/PFP.git to
reflect on this report. See How and When does the builder pull? When will my changes propagate? here for more information.
- Make sure to use the following settings in order to reproduce any error or warning you see on this page.

raw results

Package 1375/2041HostnameOS / ArchINSTALLBUILDCHECKBUILD BIN
PFP 1.0.0  (landing page)
XC Zhang
Snapshot Date: 2021-06-17 06:50:12 -0400 (Thu, 17 Jun 2021)
URL: https://git.bioconductor.org/packages/PFP
Branch: RELEASE_3_13
Last Commit: 80a0d85
Last Changed Date: 2021-05-19 12:58:46 -0400 (Wed, 19 May 2021)
nebbiolo1Linux (Ubuntu 20.04.2 LTS) / x86_64  OK    OK    OK  UNNEEDED, same version is already published
tokay2Windows Server 2012 R2 Standard / x64  OK    OK    OK    OK  UNNEEDED, same version is already published
machv2macOS 10.14.6 Mojave / x86_64  OK    OK    OK    OK  UNNEEDED, same version is already published

Summary

Package: PFP
Version: 1.0.0
Command: /home/biocbuild/bbs-3.13-bioc/R/bin/R CMD check --install=check:PFP.install-out.txt --library=/home/biocbuild/bbs-3.13-bioc/R/library --no-vignettes --timings PFP_1.0.0.tar.gz
StartedAt: 2021-06-17 13:00:43 -0400 (Thu, 17 Jun 2021)
EndedAt: 2021-06-17 13:04:06 -0400 (Thu, 17 Jun 2021)
EllapsedTime: 203.0 seconds
RetCode: 0
Status:   OK  
CheckDir: PFP.Rcheck
Warnings: 0

Command output

##############################################################################
##############################################################################
###
### Running command:
###
###   /home/biocbuild/bbs-3.13-bioc/R/bin/R CMD check --install=check:PFP.install-out.txt --library=/home/biocbuild/bbs-3.13-bioc/R/library --no-vignettes --timings PFP_1.0.0.tar.gz
###
##############################################################################
##############################################################################


* using log directory ‘/home/biocbuild/bbs-3.13-bioc/meat/PFP.Rcheck’
* using R version 4.1.0 (2021-05-18)
* using platform: x86_64-pc-linux-gnu (64-bit)
* using session charset: UTF-8
* using option ‘--no-vignettes’
* checking for file ‘PFP/DESCRIPTION’ ... OK
* checking extension type ... Package
* this is package ‘PFP’ version ‘1.0.0’
* package encoding: UTF-8
* checking package namespace information ... OK
* checking package dependencies ... OK
* checking if this is a source package ... OK
* checking if there is a namespace ... OK
* checking for hidden files and directories ... OK
* checking for portable file names ... OK
* checking for sufficient/correct file permissions ... OK
* checking whether package ‘PFP’ can be installed ... OK
* checking installed package size ... OK
* checking package directory ... OK
* checking ‘build’ directory ... OK
* checking DESCRIPTION meta-information ... OK
* checking top-level files ... OK
* checking for left-over files ... OK
* checking index information ... OK
* checking package subdirectories ... OK
* checking R files for non-ASCII characters ... OK
* checking R files for syntax errors ... OK
* checking whether the package can be loaded ... OK
* checking whether the package can be loaded with stated dependencies ... OK
* checking whether the package can be unloaded cleanly ... OK
* checking whether the namespace can be loaded with stated dependencies ... OK
* checking whether the namespace can be unloaded cleanly ... OK
* checking dependencies in R code ... OK
* checking S3 generic/method consistency ... OK
* checking replacement functions ... OK
* checking foreign function calls ... OK
* checking R code for possible problems ... OK
* checking Rd files ... OK
* checking Rd metadata ... OK
* checking Rd cross-references ... OK
* checking for missing documentation entries ... OK
* checking for code/documentation mismatches ... OK
* checking Rd \usage sections ... OK
* checking Rd contents ... OK
* checking for unstated dependencies in examples ... OK
* checking contents of ‘data’ directory ... OK
* checking data for non-ASCII characters ... OK
* checking data for ASCII and uncompressed saves ... OK
* checking files in ‘vignettes’ ... OK
* checking examples ... OK
Examples with CPU (user + system) or elapsed time > 5s
                 user system elapsed
calc_PFP_score 10.509  0.219   10.73
* checking for unstated dependencies in ‘tests’ ... OK
* checking tests ...
  Running ‘testthat.R’
 OK
* checking for unstated dependencies in vignettes ... OK
* checking package vignettes in ‘inst/doc’ ... OK
* checking running R code from vignettes ... SKIPPED
* checking re-building of vignette outputs ... SKIPPED
* checking PDF version of manual ... OK
* DONE

Status: OK


Installation output

PFP.Rcheck/00install.out

##############################################################################
##############################################################################
###
### Running command:
###
###   /home/biocbuild/bbs-3.13-bioc/R/bin/R CMD INSTALL PFP
###
##############################################################################
##############################################################################


* installing to library ‘/home/biocbuild/bbs-3.13-bioc/R/library’
* installing *source* package ‘PFP’ ...
** using staged installation
** R
** data
** byte-compile and prepare package for lazy loading
** help
*** installing help indices
** building package indices
** installing vignettes
** testing if installed package can be loaded from temporary location
** testing if installed package can be loaded from final location
** testing if installed package keeps a record of temporary installation path
* DONE (PFP)

Tests output

PFP.Rcheck/tests/testthat.Rout


R version 4.1.0 (2021-05-18) -- "Camp Pontanezen"
Copyright (C) 2021 The R Foundation for Statistical Computing
Platform: x86_64-pc-linux-gnu (64-bit)

R is free software and comes with ABSOLUTELY NO WARRANTY.
You are welcome to redistribute it under certain conditions.
Type 'license()' or 'licence()' for distribution details.

R is a collaborative project with many contributors.
Type 'contributors()' for more information and
'citation()' on how to cite R or R packages in publications.

Type 'demo()' for some demos, 'help()' for on-line help, or
'help.start()' for an HTML browser interface to help.
Type 'q()' to quit R.

> library(testthat)
> library(PFP)

> test_check('PFP')
[ FAIL 0 | WARN 6 | SKIP 0 | PASS 31 ]
> 
> proc.time()
   user  system elapsed 
  7.741   0.370   8.097 

Example timings

PFP.Rcheck/PFP-Ex.timings

nameusersystemelapsed
PFP-class0.1330.0520.185
PFPRefnet-class0.5050.0750.581
PFPRefnet_hsa0.2820.0000.283
PFPRefnet_mmu0.3340.0270.362
PFP_score-methods0.0040.0000.005
PFP_test10.0040.0000.004
PFP_test20.0030.0000.004
calc_PFP_score10.509 0.21910.730
data_std0.0060.0040.010
gene_list_hsa0.0010.0000.001
genes_score-methods0.0040.0000.004
get_PFPRefnet0.0010.0000.001
get_asso_net2.6600.0232.684
get_bg_related_kegg1.5460.0111.558
get_exp_cor_edges0.1930.0010.193
get_pathway_info0.0950.0082.231
group-methods0.4080.0070.416
kegg_download0.0010.0000.001
net_info-methods0.3100.0000.309
net_names-methods0.3040.0000.304
network-methods0.2940.0010.293
pathway_info0.0000.0030.003
pathway_info_hsa0.0000.0020.002
pathways_score-methods0.0020.0010.004
plot_PFP-methods0.2300.0120.243
plot_PFPlist0.1770.0000.178
rank_PFP-methods0.1290.0430.173
refnet_info-methods0.0040.0000.005
refnet_names-methods0.0040.0000.004
result_PFP-methods0.0010.0030.005
show_PFP-methods0.0040.0070.010
show_net-methods0.3980.0010.399
stats_test-methods0.0050.0000.004
sub_PFP-methods0.1180.0520.169
subnet-methods0.3280.0110.341
trans_edges_id2.4320.0122.444
trans_graph2PFPRefnet0.4190.0920.512
trans_xml2graph0.0010.0010.000