Back to Multiple platform build/check report for BioC 3.13
ABCDEFGHIJKLMNO[P]QRSTUVWXYZ

This page was generated on 2021-08-04 15:05:49 -0400 (Wed, 04 Aug 2021).

INSTALL results for PCpheno on tokay2

To the developers/maintainers of the PCpheno package:
- Please allow up to 24 hours (and sometimes 48 hours) for your latest push to git@git.bioconductor.org:packages/PCpheno.git to
reflect on this report. See How and When does the builder pull? When will my changes propagate? here for more information.
- Make sure to use the following settings in order to reproduce any error or warning you see on this page.

raw results

Package 1361/2041HostnameOS / ArchINSTALLBUILDCHECKBUILD BIN
PCpheno 1.54.0  (landing page)
Nolwenn Le Meur
Snapshot Date: 2021-08-03 04:50:12 -0400 (Tue, 03 Aug 2021)
URL: https://git.bioconductor.org/packages/PCpheno
Branch: RELEASE_3_13
Last Commit: a344578
Last Changed Date: 2021-05-19 11:40:08 -0400 (Wed, 19 May 2021)
nebbiolo1Linux (Ubuntu 20.04.2 LTS) / x86_64  ERROR    ERROR  skipped
tokay2Windows Server 2012 R2 Standard / x64  ERROR    ERROR  skippedskipped
machv2macOS 10.14.6 Mojave / x86_64  ERROR    ERROR  skippedskipped

Summary

Package: PCpheno
Version: 1.54.0
Command: C:\cygwin\bin\curl.exe -O http://155.52.207.165/BBS/3.13/bioc/src/contrib/PCpheno_1.54.0.tar.gz && rm -rf PCpheno.buildbin-libdir && mkdir PCpheno.buildbin-libdir && C:\Users\biocbuild\bbs-3.13-bioc\R\bin\R.exe CMD INSTALL --merge-multiarch --build --library=PCpheno.buildbin-libdir PCpheno_1.54.0.tar.gz && C:\Users\biocbuild\bbs-3.13-bioc\R\bin\R.exe CMD INSTALL PCpheno_1.54.0.zip && rm PCpheno_1.54.0.tar.gz PCpheno_1.54.0.zip
StartedAt: 2021-08-03 11:43:47 -0400 (Tue, 03 Aug 2021)
EndedAt: 2021-08-03 11:43:49 -0400 (Tue, 03 Aug 2021)
EllapsedTime: 1.8 seconds
RetCode: 1
Status:   ERROR  

Command output

##############################################################################
##############################################################################
###
### Running command:
###
###   C:\cygwin\bin\curl.exe -O http://155.52.207.165/BBS/3.13/bioc/src/contrib/PCpheno_1.54.0.tar.gz && rm -rf PCpheno.buildbin-libdir && mkdir PCpheno.buildbin-libdir && C:\Users\biocbuild\bbs-3.13-bioc\R\bin\R.exe CMD INSTALL --merge-multiarch --build --library=PCpheno.buildbin-libdir PCpheno_1.54.0.tar.gz && C:\Users\biocbuild\bbs-3.13-bioc\R\bin\R.exe CMD INSTALL PCpheno_1.54.0.zip && rm PCpheno_1.54.0.tar.gz PCpheno_1.54.0.zip
###
##############################################################################
##############################################################################


  % Total    % Received % Xferd  Average Speed   Time    Time     Time  Current
                                 Dload  Upload   Total   Spent    Left  Speed

  0     0    0     0    0     0      0      0 --:--:-- --:--:-- --:--:--     0
 72  810k   72  590k    0     0  1488k      0 --:--:-- --:--:-- --:--:-- 1487k
100  810k  100  810k    0     0  1724k      0 --:--:-- --:--:-- --:--:-- 1724k

install for i386

ERROR: dependency 'KEGG.db' is not available for package 'PCpheno'
* removing 'C:/Users/biocbuild/bbs-3.13-bioc/meat/PCpheno.buildbin-libdir/PCpheno'