Back to Multiple platform build/check report for BioC 3.13
ABCDEFGHIJKLMNO[P]QRSTUVWXYZ

This page was generated on 2021-06-17 02:38:26 -0400 (Thu, 17 Jun 2021).

INSTALL results for PCpheno on nebbiolo1

To the developers/maintainers of the PCpheno package:
- Please allow up to 24 hours (and sometimes 48 hours) for your latest push to git@git.bioconductor.org:packages/PCpheno.git to
reflect on this report. See How and When does the builder pull? When will my changes propagate? here for more information.
- Make sure to use the following settings in order to reproduce any error or warning you see on this page.

raw results

Package 1361/2041HostnameOS / ArchINSTALLBUILDCHECKBUILD BIN
PCpheno 1.54.0  (landing page)
Nolwenn Le Meur
Snapshot Date: 2021-06-15 06:50:12 -0400 (Tue, 15 Jun 2021)
URL: https://git.bioconductor.org/packages/PCpheno
Branch: RELEASE_3_13
Last Commit: a344578
Last Changed Date: 2021-05-19 11:40:08 -0400 (Wed, 19 May 2021)
nebbiolo1Linux (Ubuntu 20.04.2 LTS) / x86_64  ERROR    ERROR  skipped
tokay2Windows Server 2012 R2 Standard / x64  ERROR    ERROR  skippedskipped
machv2macOS 10.14.6 Mojave / x86_64  ERROR    ERROR  skippedskipped

Summary

Package: PCpheno
Version: 1.54.0
Command: /home/biocbuild/bbs-3.13-bioc/R/bin/R CMD INSTALL PCpheno
StartedAt: 2021-06-15 08:39:42 -0400 (Tue, 15 Jun 2021)
EndedAt: 2021-06-15 08:39:43 -0400 (Tue, 15 Jun 2021)
EllapsedTime: 0.3 seconds
RetCode: 1
Status:   ERROR  

Command output

##############################################################################
##############################################################################
###
### Running command:
###
###   /home/biocbuild/bbs-3.13-bioc/R/bin/R CMD INSTALL PCpheno
###
##############################################################################
##############################################################################


* installing to library ‘/home/biocbuild/bbs-3.13-bioc/R/library’
ERROR: dependency ‘KEGG.db’ is not available for package ‘PCpheno’
* removing ‘/home/biocbuild/bbs-3.13-bioc/R/library/PCpheno’