Back to Multiple platform build/check report for BioC 3.13
ABCDEFGHIJKLMNO[P]QRSTUVWXYZ

BUILD results for PCpheno on nebbiolo1

This page was generated on 2021-06-14 14:04:57 -0400 (Mon, 14 Jun 2021).

Package 1361/2041HostnameOS / ArchINSTALLBUILDCHECKBUILD BIN
PCpheno 1.54.0  (landing page)
Nolwenn Le Meur
Snapshot Date: 2021-06-13 06:50:09 -0400 (Sun, 13 Jun 2021)
URL: https://git.bioconductor.org/packages/PCpheno
Branch: RELEASE_3_13
Last Commit: a344578
Last Changed Date: 2021-05-19 11:40:08 -0400 (Wed, 19 May 2021)
nebbiolo1Linux (Ubuntu 20.04.2 LTS) / x86_64  ERROR    ERROR  skipped
tokay2Windows Server 2012 R2 Standard / x64  ERROR    ERROR  skippedskipped
machv2macOS 10.14.6 Mojave / x86_64  ERROR    ERROR  skippedskipped
To the developers/maintainers of the PCpheno package:
- Please allow up to 24 hours (and sometimes 48 hours) for your latest push to git@git.bioconductor.org:packages/PCpheno.git to
reflect on this report. See How and When does the builder pull? When will my changes propagate? here for more information.
- Make sure to use the following settings in order to reproduce any error or warning you see on this page.

Summary

Package: PCpheno
Version: 1.54.0
Command: /home/biocbuild/bbs-3.13-bioc/R/bin/R CMD build --keep-empty-dirs --no-resave-data PCpheno
StartedAt: 2021-06-13 10:00:22 -0400 (Sun, 13 Jun 2021)
EndedAt: 2021-06-13 10:00:23 -0400 (Sun, 13 Jun 2021)
EllapsedTime: 0.8 seconds
RetCode: 1
Status:   ERROR  
PackageFile: None
PackageFileSize: NA

Command output

##############################################################################
##############################################################################
###
### Running command:
###
###   /home/biocbuild/bbs-3.13-bioc/R/bin/R CMD build --keep-empty-dirs --no-resave-data PCpheno
###
##############################################################################
##############################################################################


* checking for file ‘PCpheno/DESCRIPTION’ ... OK
* preparing ‘PCpheno’:
* checking DESCRIPTION meta-information ... OK
* installing the package to build vignettes
      -----------------------------------
ERROR: dependency ‘KEGG.db’ is not available for package ‘PCpheno’
* removing ‘/tmp/RtmpIAzyL1/Rinst2a3cbe58132ac3/PCpheno’
      -----------------------------------
ERROR: package installation failed